BEGIN:VCALENDAR
VERSION:2.0
PRODID:-//Royal Historical Society of Victoria - ECPv6.15.12.2//NONSGML v1.0//EN
CALSCALE:GREGORIAN
METHOD:PUBLISH
X-WR-CALNAME:Royal Historical Society of Victoria
X-ORIGINAL-URL:https://www.historyvictoria.org.au
X-WR-CALDESC:Events for Royal Historical Society of Victoria
REFRESH-INTERVAL;VALUE=DURATION:PT1H
X-Robots-Tag:noindex
X-PUBLISHED-TTL:PT1H
BEGIN:VTIMEZONE
TZID:Australia/Melbourne
BEGIN:STANDARD
TZOFFSETFROM:+1100
TZOFFSETTO:+1000
TZNAME:AEST
DTSTART:20190406T160000
END:STANDARD
BEGIN:DAYLIGHT
TZOFFSETFROM:+1000
TZOFFSETTO:+1100
TZNAME:AEDT
DTSTART:20191005T160000
END:DAYLIGHT
BEGIN:STANDARD
TZOFFSETFROM:+1100
TZOFFSETTO:+1000
TZNAME:AEST
DTSTART:20200404T160000
END:STANDARD
BEGIN:DAYLIGHT
TZOFFSETFROM:+1000
TZOFFSETTO:+1100
TZNAME:AEDT
DTSTART:20201003T160000
END:DAYLIGHT
BEGIN:STANDARD
TZOFFSETFROM:+1100
TZOFFSETTO:+1000
TZNAME:AEST
DTSTART:20210403T160000
END:STANDARD
BEGIN:DAYLIGHT
TZOFFSETFROM:+1000
TZOFFSETTO:+1100
TZNAME:AEDT
DTSTART:20211002T160000
END:DAYLIGHT
END:VTIMEZONE
BEGIN:VEVENT
DTSTART;TZID=Australia/Melbourne:20201206T143000
DTEND;TZID=Australia/Melbourne:20201206T161500
DTSTAMP:20260422T071842
CREATED:20200120T023035Z
LAST-MODIFIED:20201205T073630Z
UID:10000064-1607265000-1607271300@www.historyvictoria.org.au
SUMMARY:Melbourne Observatory: OUTSTANDING UNIVERSAL VALUE
DESCRIPTION:Join the Royal Historical Society of Victoria and Walk in St Kilda Rd & Environs\, co-presenters of this event\, along with the Astronomical Society of Victoria (ASV) and others\, discussing the historical role and outstanding universal value of the magnificent Melbourne Observatory and its potential for UNESCO World Heritage listing nomination. \nPlease note that this is not a Zoom event but happening in real space at the Drill Hall. All guidelines and rules regarding control of COVID19 will be observed. The event is free-of-charge but\, sadly\, we will not be able to serve afternoon tea\, as is our usual practice\, due to COVID restrictions. This event will be held on the ground floor of the Drill Hall which is fully accessible. \nSpeakers include: \nProf. the Hon Barry Jones\, AC\, was Australia’s longest serving Science Minister\, and\, in Paris was UNESCO Executive Board member and Vice President of the World Heritage Committee; \nAssoc. Prof Don Garden OAM\, President\, Federation of Australian Historical Societies; Immediate past President\, Royal Historical Society of Victoria; \nA representative from National Trust of Australia (Vic) (by video); \nDr Barry Clark\, the Astronomical Society of Victoria (ASV); \nDr Jackie Watts\, former Councillor\, the City of Melbourne; \nMr Steven Avery\, Executive Director\, Heritage Victoria (by video) \nMs Bea McNicholas (organiser)\, Director\, Walk in St Kilda Rd & Environs. \nMelbourne Observatory\, from its inception in 1863 continues to be highly regarded internationally as a wonderful place of science and astronomical observation\, outstanding cultural heritage and inspiration. The Astronomical Society of Victoria has maintained a close connection with Melbourne Observatory since 1922\, keeping it functioning from 1945. \nWalk in St Kilda Rd & Environs is supported by Planet Ark. \n(Photos below from top to bottom: Jackie Watts\, Barry Clark\, Barry Jones\, Don Garden\, Bea McNicholas) \n        \n 
URL:https://www.historyvictoria.org.au/event/melbourne-observatory-outstanding-universal-significance/
LOCATION:RHSV\, Gallery Downstairs\, 239 A'Beckett Street\, Melbourne\, VIC\, 3000\, Australia
CATEGORIES:What's On
ATTACH;FMTTYPE=image/jpeg:https://www.historyvictoria.org.au/wp-content/uploads/2020/01/JonesBarry.jpg
ORGANIZER;CN="Royal Historical Society of Victoria":MAILTO:office@historyvictoria.org.au
GEO:-37.8107817;144.9562417
X-APPLE-STRUCTURED-LOCATION;VALUE=URI;X-ADDRESS=RHSV Gallery Downstairs 239 A'Beckett Street Melbourne VIC 3000 Australia;X-APPLE-RADIUS=500;X-TITLE=239 A'Beckett Street:geo:144.9562417,-37.8107817
END:VEVENT
BEGIN:VEVENT
DTSTART;TZID=Australia/Melbourne:20201211T170000
DTEND;TZID=Australia/Melbourne:20201211T183000
DTSTAMP:20260422T071842
CREATED:20201129T003659Z
LAST-MODIFIED:20201129T004738Z
UID:10000644-1607706000-1607711400@www.historyvictoria.org.au
SUMMARY:THE GOOD GIRL SONG PROJECT: The Patrons' Parlour
DESCRIPTION:Please note that this is not a Zoom event but will be held live\, in the Drill Hall in our downstairs gallery which is fully accessible. All COVID19 restrictions and cautions will be observed.  \nThe RHSV is thrilled to host an event by our friends\, the Good Girl Song Project. For those of you fortunate to attend Liz Rushen’s book launch for her book\, John Marshall: Shipowner\, Lloyd’s refromer and emigration agent\, earlier this year in the Drill Hall\, you will have heard a glorious performance from Penny Larkin\, a member of The Good Girl Project. \nThis soirée is the first in a series\, The Patrons’ Parlour\, which is designed to build support for their production\, Voyage.  It will be an evening of fine entertainment and light refreshments. \nYou can RSVP through the button below or by emailing thegoodgirlsongproject@gmail.com \n\n\n\n\n\nVOYAGE’ IS A UNIVERSAL JOURNEY STORY COMBINING AUSTRALIAN HISTORY AND NEW AUSTRALIAN SONGWRITING THAT SPEAKS TO THE UNKNOWN HISTORY OF AUSTRALIAN WOMEN.\n\n\n\n\n\n\n\n\n\nThe show places itself in Australia’s complex colonial past. In the midst of convict boats arriving each week from Britain\, a different cargo leaves for Australia. On board are 287 single and free women. They have been promised good wages\, good work and good marriage prospects in the new colony but to claim their new life they must first survive the voyage and then the colony.\nThis semi-staged ‘folksical’ sits somewhere between ballad opera and song cycle. The crystal clear song-writing incorporates both original and well-loved traditional folk tunes and showcases a fresh female perspective of an early Australian immigration story. The work is written by Helen Begley and based on the academic research of Dr Elizabeth Rushen.
URL:https://www.historyvictoria.org.au/event/the-good-girl-song-project-the-patrons-parlour/
LOCATION:RHSV\, Gallery Downstairs\, 239 A'Beckett Street\, Melbourne\, VIC\, 3000\, Australia
CATEGORIES:What's On
ATTACH;FMTTYPE=image/jpeg:https://www.historyvictoria.org.au/wp-content/uploads/2020/11/Good-girl-2-scaled.jpg
ORGANIZER;CN="Royal Historical Society of Victoria":MAILTO:office@historyvictoria.org.au
GEO:-37.8107817;144.9562417
X-APPLE-STRUCTURED-LOCATION;VALUE=URI;X-ADDRESS=RHSV Gallery Downstairs 239 A'Beckett Street Melbourne VIC 3000 Australia;X-APPLE-RADIUS=500;X-TITLE=239 A'Beckett Street:geo:144.9562417,-37.8107817
END:VEVENT
END:VCALENDAR