BEGIN:VCALENDAR
VERSION:2.0
PRODID:-//Royal Historical Society of Victoria - ECPv6.15.12.2//NONSGML v1.0//EN
CALSCALE:GREGORIAN
METHOD:PUBLISH
X-WR-CALNAME:Royal Historical Society of Victoria
X-ORIGINAL-URL:https://www.historyvictoria.org.au
X-WR-CALDESC:Events for Royal Historical Society of Victoria
REFRESH-INTERVAL;VALUE=DURATION:PT1H
X-Robots-Tag:noindex
X-PUBLISHED-TTL:PT1H
BEGIN:VTIMEZONE
TZID:Australia/Melbourne
BEGIN:STANDARD
TZOFFSETFROM:+1100
TZOFFSETTO:+1000
TZNAME:AEST
DTSTART:20230401T160000
END:STANDARD
BEGIN:DAYLIGHT
TZOFFSETFROM:+1000
TZOFFSETTO:+1100
TZNAME:AEDT
DTSTART:20230930T160000
END:DAYLIGHT
BEGIN:STANDARD
TZOFFSETFROM:+1100
TZOFFSETTO:+1000
TZNAME:AEST
DTSTART:20240406T160000
END:STANDARD
BEGIN:DAYLIGHT
TZOFFSETFROM:+1000
TZOFFSETTO:+1100
TZNAME:AEDT
DTSTART:20241005T160000
END:DAYLIGHT
BEGIN:STANDARD
TZOFFSETFROM:+1100
TZOFFSETTO:+1000
TZNAME:AEST
DTSTART:20250405T160000
END:STANDARD
BEGIN:DAYLIGHT
TZOFFSETFROM:+1000
TZOFFSETTO:+1100
TZNAME:AEDT
DTSTART:20251004T160000
END:DAYLIGHT
END:VTIMEZONE
BEGIN:VEVENT
DTSTART;TZID=Australia/Melbourne:20240327T173000
DTEND;TZID=Australia/Melbourne:20240407T183000
DTSTAMP:20260423T222526
CREATED:20240211T224325Z
LAST-MODIFIED:20240211T224420Z
UID:10000495-1711560600-1712514600@www.historyvictoria.org.au
SUMMARY:M is for Melbourne: The World's Mostly* Liveable City
DESCRIPTION:Melbourne International Comedy Festival show \nDiscount Code: DINGDING (10% off) \nTickets: https://www.comedyfestival.com.au/2024/shows/m-is-for-melbourne-the-world-s-mostly-liveable-city \n  \nMelbourne has been named the “world’s most liveable city”\, which makes you wonder if the judges have ever experienced Hoddle Street rush hour traffic or tried to find a cafe open past 4pm. M is for Melbourne takes an A to Z journey through the weird and wonderful parts of the city – from the truck-destroying Montague Street Bridge\, to the Yarra’s mysterious brown colour. \nThis show is for anyone who loves Melbourne or loves to hate Melbourne. Grab some friends\, head into the Free Tram Zone and be prepared to join the movement to take on Vienna and reclaim the title of the “world’s most liveable city”. \nJulian O’Shea is a popular online creator with millions of views across YouTube\, Instagram and TikTok. You might have seen him on your For You Page standing in front of a strange piece of urban infrastructure. Julian has performed at Melbourne Fringe and various comedy storytelling events including SciFight Comedy Debate\, and has been a comedy writer for Mad Magazine. He is a regular guest on ABC Radio Melbourne with Charlie Pickering and recently shared stories of the city with Julia Zemiro on Great Australian Walks. His work has been featured in The Age\, Herald Sun\, 3AW and the ABC.
URL:https://www.historyvictoria.org.au/event/m-is-for-melbourne-the-worlds-mostly-liveable-city/
LOCATION:DoubleTree by Hilton Hotel Melbourne\, 270 Flinders St\, Melbourne\, VIC\, 3000\, Australia
CATEGORIES:Victorian History Events
ATTACH;FMTTYPE=image/jpeg:https://www.historyvictoria.org.au/wp-content/uploads/2024/02/Julian-OShea-comedy-show-scaled.jpg
END:VEVENT
BEGIN:VEVENT
DTSTART;TZID=Australia/Melbourne:20240404T080000
DTEND;TZID=Australia/Melbourne:20240404T170000
DTSTAMP:20260423T222526
CREATED:20240404T064127Z
LAST-MODIFIED:20240404T064127Z
UID:10000981-1712217600-1712250000@www.historyvictoria.org.au
SUMMARY:Exodus from Vienna
DESCRIPTION:🛄 Exodus from Vienna \nFollowing the 1938 annexation of Austria by Nazi Germany\, many members of Vienna’s vibrant Jewish community sought safe havens overseas to escape growing persecution. Amongst them were Michael and Regine Weiss and their family. Their story\, as told through records held by the National Archives of Australia and other information provided by their descendants\, reveals much about Australia’s attitudes towards Jewish refugees during these dark days. \nPresented by Patrick Ferry\, Assistant State Manager of the Victoria office of the National Archives of Australia. Patrick is an archivist with over 20 years of experience in the field. He is also the author of various local history books and the winner of a Victorian Community History Award in 2020. \nBookings are essential with a gold coin for entry.
URL:https://www.historyvictoria.org.au/event/exodus-from-vienna/
LOCATION:39 St Edmonds Road\, Prahran\, VIC 3181\, 39 St Edmonds Road\, Prahran\, VIC\, 3181\, Australia
CATEGORIES:Victorian History Events
ATTACH;FMTTYPE=image/png:https://www.historyvictoria.org.au/wp-content/uploads/2024/04/Vienna-_Banner_Aug-2024-1.png
ORGANIZER;CN="Prahran Mechanics' Institute Victorian History Library":MAILTO:library@pmi.net.au
END:VEVENT
BEGIN:VEVENT
DTSTART;TZID=Australia/Melbourne:20240404T103000
DTEND;TZID=Australia/Melbourne:20240404T120000
DTSTAMP:20260423T222526
CREATED:20240214T025127Z
LAST-MODIFIED:20240307T014205Z
UID:10000961-1712226600-1712232000@www.historyvictoria.org.au
SUMMARY:Welcome home for our Terlecki timber piano front
DESCRIPTION:Please join us to celebrate the restoration and reframing of our glorious carved Terlecki timber piano front. \nThis piano front was donated to us by Keith Kilner representing his wider family and the recent restoration was paid for with a donation from the Boak family. We are enormously grateful to both families for their generosity. \nWe’ll be celebrating in style with a sparkling morning tea at the RHSV premises\, 239 A’Beckett St and we’ll be hosting members of both the Kilner and Boak families. \nA tiny bit of background … \nIn 1862 Joseph Kilner (piano maker) and Joseph Wilkie (piano tuner)\, opened a music and piano saloon at 15 Collins Street in Melbourne Australia and in 1863 established a factory at 174 Queen Street to construct pianos. Driven by Kilner\, the firm soon began experimenting with using Australian blackwood and red gum but also managed to incorporate other local timbers including kauri\, myrtle\, sassafras\, Queensland pine and huon pine in their instruments. \nWilkie\, Kilner and Company pianos won major prizes at home and abroad including a silver medal for best entry in its class at the Centennial International Exhibition held in Philadelphia in 1876 for an upright wooden-framed instrument that had a front panel intricately carved with Australian plants and animals\, plus the words ‘Advance Australia’ beneath a rising sun\, – reminiscent of the Rising Sun badge proudly worn by soldiers of the 1st and 2nd Australian Imperial Force in both World Wars (this is ‘our’ piano front). \nThe elaborate front was carved by Polish immigrant\, Felix Terlecki\, who also produced some of the finest ornamental wood-carvings found in Melbourne’s colonial churches\, banks etc \nHOUSEKEEPING \n\nThe Gallery Downstairs where this event will be held is fully accessible.\nThere will be no Zoom for this event.\nPlease RSVP\, although the event is free\, we do need to know numbers for catering and seating.\nWhen you RSVP you will be sent an automatically-generated email of confirmation – if this email doesn’t pop up in your in-box\, please check your Spam or Junk mail folders.\nThose who RSVP do not need to bring a ticket on the day – your names will be at the door.
URL:https://www.historyvictoria.org.au/event/welcome-home-our-terlecki-timber-piano-front/
LOCATION:RHSV Gallery Downstairs\, 239 A'Beckett St\, Melbourne\, Victoria\, 3000\, Australia
CATEGORIES:What's On
ATTACH;FMTTYPE=image/jpeg:https://www.historyvictoria.org.au/wp-content/uploads/2024/02/Felix-Terlicki-piano.jpg
END:VEVENT
BEGIN:VEVENT
DTSTART;TZID=Australia/Melbourne:20240411T173000
DTEND;TZID=Australia/Melbourne:20240411T190000
DTSTAMP:20260423T222526
CREATED:20240206T064956Z
LAST-MODIFIED:20240211T225058Z
UID:10000492-1712856600-1712862000@www.historyvictoria.org.au
SUMMARY:EXHIBITION LAUNCH: MELBOURNE'S STORIED LANEWAYS
DESCRIPTION:PLEASE JOIN US FOR THE LAUNCH OF\nMELBOURNE’S STORIED LANEWAYS\nLaunched by Julian O’Shea\nCurated by David Thompson\nDesigned by Daisy Searls\nThursday 11 April\, 5:30pm – 7pm\n\nWe all have our favourite Melbourne laneway and curator\, David Thompson\, has chosen his favourites which reveal some intriguing Melbourne stories. When we think of today’s gussied-up tourist-friendly laneways like Guilford Lane and Hosier Lane\, it is hard to imagine that a mere 50 years ago the laneways were workaday places full still of small factories and light industry. And earlier still there was the desperation of Little Lon. Today we get just glimpses of those rough and ready laneways that serviced the city and a frisson as the mouths of some still grimy and squalid laneways beckon us deeper in. \nThis exhibition has grown out of the RHSV’s latest publication which is an updated version of  historian Weston Bate’s Essential but Unplanned: Melbourne’s Laneways which came out 30 years ago in 1994. The new laneways book will be launched in a few months. \nJulian O’Shea is a popular online creator with millions of views across YouTube\, Instagram and TikTok. You might have seen him on your For You Page standing in front of a strange piece of urban infrastructure. Julian recently won the 2023 Victorian Community History Award for best Digital Storytelling Award. Julian has performed at Melbourne Fringe and various comedy storytelling events including SciFight Comedy Debate\, and has been a comedy writer for Mad Magazine. He is a regular guest on ABC Radio Melbourne with Charlie Pickering and recently shared stories of the city with Julia Zemiro on Great Australian Walks. His work has been featured in The Age\, Herald Sun\, 3AW and the ABC. Julian has an upcoming show\, M is for Melbourne\, in the Melbourne Comedy Festival (27 March – 7 April). \n 
URL:https://www.historyvictoria.org.au/event/launch-melbournes-storied-laneways/
LOCATION:RHSV Gallery Downstairs\, 239 A'Beckett St\, Melbourne\, Victoria\, 3000\, Australia
CATEGORIES:What's On
ATTACH;FMTTYPE=image/png:https://www.historyvictoria.org.au/wp-content/uploads/2024/02/LW-promo-POSTER-final-low-res.png
ORGANIZER;CN="Royal Historical Society of Victoria":MAILTO:office@historyvictoria.org.au
END:VEVENT
BEGIN:VEVENT
DTSTART;TZID=Australia/Melbourne:20240416T173000
DTEND;TZID=Australia/Melbourne:20240416T193000
DTSTAMP:20260423T222526
CREATED:20240304T083515Z
LAST-MODIFIED:20240411T021127Z
UID:10000965-1713288600-1713295800@www.historyvictoria.org.au
SUMMARY:A G L Shaw Lecture. Anti-Slavery and Protection in Port Phillip and NSW: the Curious Colonial Afterlife of the 1837 Select Committee Report on Aborigines
DESCRIPTION:The AGL Shaw lecture has been presented in partnership with the C J La Trobe Society for many years. It is one of the RHSV’s Distinguished Lectures and we are thrilled that\, in 2024\, Professor Penny Edmonds from the Flinders University will be delivering the lecture. \nIn 1838 Quaker James Backhouse posted the 1837 Report of the Parliamentary Select Committee on Aboriginal Tribes (British Settlements) ‘hot off the press’ from Cape Town to key figures he had met in the Australian colonies\, including missionary George Langhorne\, with instructions for it to be sent to Police Magistrate Foster Fyans and Captain William Lonsdale in Port Phillip. The much-studied 1837 report is often described as the ‘blueprint’ for imperial reform and the protection of Aboriginal peoples in the colonies. Backhouse sent the report to New South Wales including to three men of influence whom he had met in Sydney – the Colonial Secretary Alexander McLeay\, police magistrate Archibald Innes and Reverend John Saunders. These three men would be central to the formation of the Sydney branch of the Aborigines’ Protection Society or the ‘Australian APS’\, suggesting that the report’s distribution was part of a transimperial moment of humanitarian activism. \nIn this lecture\, Penny shines new light on these important networks – stretching from Britain to the Cape Colony and Melbourne – and Backhouse’s precious packages containing the report to show the entanglements of antislavery and protection\, and to offer a nuanced account of the activities and flow of policy during the creation of the Port Phillip protectorate. She will illuminate these networks with new forms of data visualisation. As she argues\, the careers of Governors La Trobe and Arthur of Van Diemen’s Land were embodiments of this shift from antislavery to protection during a complex moment when the establishment of Port Phillip and the invasion of Kulin lands occurred at the same time as the rise in humanitarian sentiment and policy regarding Aboriginal peoples in the British colonies. \nQuaker James Backhouse attached the highest importance to the 1837 report as a means of bringing a moral ‘awakening’ to settlers who had invaded Aboriginal lands and protection to Aboriginal people on violent frontiers. Yet the violent frontier wars across the southeastern colonies at this time continued to frustrate the humanitarian aspirations of La Trobe and others. Despite their efforts\, the notion of a ‘humane colonisation’ was always to be an impossible project. \n  \nProfessor Penelope Edmonds is Matthew Flinders Professor\, History\, in the College of Humanities\, Arts and Social Sciences at Flinders University\, South Australia. Penny’s research is distinguished by over two decades of creative and interdisciplinary work in the areas of Australian history\, nineteenth-century British Empire and settler colonialism in the Australian and Pacific region\, postcolonial histories\, heritage and museums. She seeks to bring a critical-theory perspective to questions of colonialism\, race\, gender\, reconciliation and redress\, humanitarianism\, slavery and unfreedom in the Australian and Western Pacific region. Penny’s book Settler Colonialism and (Re)Conciliation: Frontier Violence\, Affective Performances\, and Imaginative Refoundings (Palgrave UK\, 2016) was shortlisted for the 2017 Ernest Scott Prize\, University of Melbourne/Australian Historical Association for best book in colonial history. \nAlan George Lewers Shaw AO\, FAHA\, FASSA\, FRAHS\, FRHSV (1916 – 2012) was an RHSV Councillor from 1965 to 1971 and President from 1987 to 1991. He is also a Benefactor of the Royal Historical Society of Victoria. He was President of the C J La Trobe Society as well and the two organisations\, the C J La Trobe Society and the RHSV\, have jointly presented the annual A G L Shaw lecture since 2002 as a tribute to a great historian. A list of previous lecturers can be viewed here. \n  \nHouse-keeping \nYou will be sent an automatic email confirmation once you book – if this email doesn’t appear in your in-box\, please check your Spam or Junk Mail folder as these automatically generated emails can go astray. \nAs at most RHSV events\, we will be serving refreshments from 5:30pm to 6pm when the lecture starts however\, for the AGL Shaw lecture\, we also serve refreshments after the event and we encourage our members and the members of the C J La Trobe Society to stay a little longer and share our hospitality.
URL:https://www.historyvictoria.org.au/event/a-g-l-shaw-lecture-anti-slavery-and-protection-in-port-phillip-and-nsw-the-curious-colonial-afterlife-of-the-1837-select-committee-report-on-aborigines/
LOCATION:RHSV Gallery Downstairs\, 239 A'Beckett St\, Melbourne\, Victoria\, 3000\, Australia
CATEGORIES:Distinguished Lecturer Series,What's On
ATTACH;FMTTYPE=image/png:https://www.historyvictoria.org.au/wp-content/uploads/2024/03/Penny-Edmonds-high-res-bio-png.png
END:VEVENT
BEGIN:VEVENT
DTSTART;TZID=Australia/Melbourne:20240417T090000
DTEND;TZID=Australia/Melbourne:20240816T170000
DTSTAMP:20260423T222526
CREATED:20240315T024031Z
LAST-MODIFIED:20240408T033432Z
UID:10000967-1713344400-1723827600@www.historyvictoria.org.au
SUMMARY:Gotcha! Concrete Prints from the McEwans Celebrity Pavement
DESCRIPTION:Who remembers the McEwans celebrity pavement? \nBetween 1972 and 1994\, scores of celebrities had their hand- and footprints immortalised in cement at the entrance of the McEwans hardware store in Bourke Street. Shopping for a hammer or a hair-dryer\, you’d step in the prints of actors\, musicians\, sportspeople\, writers\, dancers\, politicians\, an astronaut\, a racehorse – even an operatic dog. \nCurated by Robyn Annear\, ‘Gotcha!’ presents 40 of the surviving prints from the McEwans pavement\, together with stories of the celebrities who made them and newspaper images that capture the mood of the times. \nNote: enter City Gallery via Customer Relations\nMonday to Friday: 9am to 5pm
URL:https://www.historyvictoria.org.au/event/gotcha-concrete-prints-from-the-mcewans-celebrity-pavement/
LOCATION:City Gallery\, 110 Swanston Street\, Melbourne\, VIC\, 3000\, Australia
CATEGORIES:Victorian History Events
ATTACH;FMTTYPE=image/jpeg:https://www.historyvictoria.org.au/wp-content/uploads/2024/03/Gotcha-promo-image-1080-x-1080.jpg
ORGANIZER;CN="City of Melbourne Art and Heritage Collection":MAILTO:citygallery@melbourne.vic.gov.au
END:VEVENT
BEGIN:VEVENT
DTSTART;TZID=Australia/Melbourne:20240418T173000
DTEND;TZID=Australia/Melbourne:20240418T190000
DTSTAMP:20260423T222526
CREATED:20240322T032126Z
LAST-MODIFIED:20240322T032126Z
UID:10000969-1713461400-1713466800@www.historyvictoria.org.au
SUMMARY:South Yarra Water Works Company (1854 – 1863)
DESCRIPTION:Our first co-presentation with Engineering Heritage Victoria in 2024 will be by Ken McInnes who will explore the history\, the entrepreneurs\, the engineers\, the operations\, the expansion and the demise of the short lived South Yarra Water Works Company (1854 – 1863). \nIn 1854\, 170 years ago\, Yan Yean Reservoir was completed. Over the following ten years water was progressively reticulated to the houses and businesses of Melbourne and its suburbs. \nBefore Yan Yean\, water was supplied from the Yarra River above “The Falls”\, pumped into water carts and delivered around town. A large elevated cast iron tank was also built on Eastern Hill\, filled by a steam pump on the north bank of the Yarra River\, and provided reticulated water around the city area. \nTo provide water to Prahran and South Yarra\, the ‘South Yarra Water Works Company’\, pumped water into water carts\, from the south bank of the Yarra River\, upstream near Chapel Street. Once the Company was incorporated in 1855\, it established a steam pump on Forest Hill and pumped water from the Yarra River to a tank on the corner of Chapel Street and Gardiner’s Creek Road\, South Yarra\, and provided reticulated water to nearby establishments. Later on the scheme was extended with another water tank near St.Kilda Junction. \nThe engineers initially associated with the Company were Alexander Kennedy Smith\, George Holmes and Edward Richardson. The initial local entrepreneurs progressively gave way to later investors. There was lobbying\, intrigue\, and politics over granting land\, financing\,  constructing of its tanks\, laying of pipes in Central Roads Board reserves that later became municipal roads\, ‘scuffles’ over the removal by council of pipes laid in ‘their’ streets.  Once Yan Yean water mains were laid to the suburbs south of the Yarra River\, the demise of the Company was inevitable\, leading to its dissolution in 1863\, and the gradual disappearance of all physical traces of its existence. \nThis presentation will provide a fascinating narrative for all who have an interest in the history of Victoria. \n  \nHOUSEKEEPING \nThis event will be offered in person at the RHSV and via Zoom. Those purchasing a Zoom ticket will be sent the log-in details 24 hours before the event. And the Zoom log-in is for 6pm. \n 
URL:https://www.historyvictoria.org.au/event/south-yarra-water-works-company-1854-1863/
LOCATION:RHSV Gallery Downstairs\, 239 A'Beckett St\, Melbourne\, Victoria\, 3000\, Australia
CATEGORIES:What's On
ATTACH;FMTTYPE=image/png:https://www.historyvictoria.org.au/wp-content/uploads/2024/03/SouthYarraWWTalkGraphic.png
END:VEVENT
BEGIN:VEVENT
DTSTART;TZID=Australia/Melbourne:20240424T103000
DTEND;TZID=Australia/Melbourne:20240424T140000
DTSTAMP:20260423T222526
CREATED:20240403T230840Z
LAST-MODIFIED:20240918T222144Z
UID:10000972-1713954600-1713967200@www.historyvictoria.org.au
SUMMARY:Family History Workshops
DESCRIPTION:👩🏽‍👩🏽‍👦🏽‍👦🏽 Family History Workshops hosted by Wendy Eldridge from our Friends of the Library. \nDo you want some guided help with your family history journey? We can help. Join a friendly and supportive environment while making use of the many resources available at the PMI Victorian History Library. \nOur workshops will cover: \n28 Feb – What you need to know what you Get Started\n24 Apr – What Beginners should do\n26 Jun – Special Guest – Heather Arnold\n28 Aug – Doing your family history using Ancestry\n30 Oct – Doing your family history using Ancestry / Understanding Military Records and Resources \nBookings are essential.
URL:https://www.historyvictoria.org.au/event/family-history-workshops/2024-04-24/
LOCATION:39 St Edmonds Road\, Prahran\, VIC 3181\, 39 St Edmonds Road\, Prahran\, VIC\, 3181\, Australia
CATEGORIES:Victorian History Events
ATTACH;FMTTYPE=image/png:https://www.historyvictoria.org.au/wp-content/uploads/2024/04/Book-Sale_2023-PMI.png
ORGANIZER;CN="Prahran Mechanics' Institute Victorian History Library":MAILTO:library@pmi.net.au
END:VEVENT
BEGIN:VEVENT
DTSTART;TZID=Australia/Melbourne:20240424T120000
DTEND;TZID=Australia/Melbourne:20240424T150000
DTSTAMP:20260423T222526
CREATED:20240415T061743Z
LAST-MODIFIED:20240415T061743Z
UID:10000983-1713960000-1713970800@www.historyvictoria.org.au
SUMMARY:Leongatha Historical Society Annual ANZAC lunch
DESCRIPTION:The Society’s annual Anzac lunch will be at the Leongatha RSL at 12 noon on 24 April. The speaker will be Jillian Durance of Mojarra who will talk on the Kongwak Avenue of Honour. Please join us for lunch or come along and hear Jillian speak. Jillian has carried out much research on soldiers from the Kongwak Mojarra area who served in WW1 \nWhen: 24 April 12pm \nWhere: Leongatha RSL\, Crn Smith St & Michael Pl\, Leongatha VIC 3953 \nRSVP: Please contact Lyn 0400249048 if you are able to attend
URL:https://www.historyvictoria.org.au/event/leongatha-historical-society-annual-anzac-lunch/
LOCATION:VIC
CATEGORIES:Victorian History Events
END:VEVENT
BEGIN:VEVENT
DTSTART;TZID=Australia/Melbourne:20240424T140000
DTEND;TZID=Australia/Melbourne:20240424T150000
DTSTAMP:20260423T222526
CREATED:20240403T230941Z
LAST-MODIFIED:20240403T230941Z
UID:10000978-1713967200-1713970800@www.historyvictoria.org.au
SUMMARY:Chapel Street Walks - An Australian Heritage Festival Event
DESCRIPTION:🏛️ Chapel Street Walks – An Australian Heritage Festival Event \nMeet at the PMI Victorian History Library then step into a charming adventure. Discover the tales of yesteryear’s department stores on Chapel Street\, Prahran. An all-inclusive experience\, perfect for everyone – families\, individuals\, and even your beloved pets! \nThe tour will be led by Steve Stefanopoulos OAM\, architectural historian\, former Mayor of the City of Stonnington and President of the PMI Victorian History Library. \nBookings are essential. \nImage: https://stonnington.spydus.com/cgi-bin/spydus.exe/FULL/WPAC/ARCENQ/59432044/22945613\,1?FMT=IMG
URL:https://www.historyvictoria.org.au/event/chapel-street-walks-an-australian-heritage-festival-event/
LOCATION:39 St Edmonds Road\, Prahran\, VIC 3181\, 39 St Edmonds Road\, Prahran\, VIC\, 3181\, Australia
CATEGORIES:Victorian History Events
ATTACH;FMTTYPE=image/png:https://www.historyvictoria.org.au/wp-content/uploads/2024/04/Chapel-Street-Walks-_Banner.png
ORGANIZER;CN="Prahran Mechanics' Institute Victorian History Library":MAILTO:library@pmi.net.au
END:VEVENT
BEGIN:VEVENT
DTSTART;TZID=Australia/Melbourne:20240425T133000
DTEND;TZID=Australia/Melbourne:20240425T160000
DTSTAMP:20260423T222526
CREATED:20240415T060924Z
LAST-MODIFIED:20240415T061445Z
UID:10000982-1714051800-1714060800@www.historyvictoria.org.au
SUMMARY:ANZACs of Coburg Cemetery
DESCRIPTION:The Friends of Coburg Cemetery have something special lined up\, and would love for you to join them! They’re holding a special ANZAC Day tour that’s all about exploring the history and experiences of Australians during wartime. \nANZACs of Coburg Cemetery \nDate: ANZAC Day – 25 April 2024\nTime: 1:30\nLocation: Coburg Cemetery\, Bell/Elizabeth Street\, Preston.\nCost: $10 non-members / $2 members \nDid you know there are over 200 ANZACs resting in Coburg Cemetery? Crazy\, right? This tour is our chance to pay our respects and learn more about the stories of the brave men and women from Coburg/Preston who served our country with courage and selflessness during WWI and WWII. \nThe Friends of Coburg Cemetery will take you on a 90-minute walk filled with captivating tales and heart-wrenching moments as you visit the graves of these brave individuals. It’s a chance to connect with history in a whole new way. \nPlease let them know if you would like to join the tour. Have any questions? Feel free to shoot them a message at focc.group@gmail.com
URL:https://www.historyvictoria.org.au/event/anzacs-of-coburg-cemetery/
LOCATION:VIC
CATEGORIES:Victorian History Events
ATTACH;FMTTYPE=image/jpeg:https://www.historyvictoria.org.au/wp-content/uploads/2024/04/ANZAC-2024.jpg
ORGANIZER;CN="Friends of Coburg Cemetery":MAILTO:focc.group@gmail.com
END:VEVENT
END:VCALENDAR