BEGIN:VCALENDAR
VERSION:2.0
PRODID:-//Royal Historical Society of Victoria - ECPv6.15.12.2//NONSGML v1.0//EN
CALSCALE:GREGORIAN
METHOD:PUBLISH
X-ORIGINAL-URL:https://www.historyvictoria.org.au
X-WR-CALDESC:Events for Royal Historical Society of Victoria
REFRESH-INTERVAL;VALUE=DURATION:PT1H
X-Robots-Tag:noindex
X-PUBLISHED-TTL:PT1H
BEGIN:VTIMEZONE
TZID:Australia/Melbourne
BEGIN:STANDARD
TZOFFSETFROM:+1100
TZOFFSETTO:+1000
TZNAME:AEST
DTSTART:20230401T160000
END:STANDARD
BEGIN:DAYLIGHT
TZOFFSETFROM:+1000
TZOFFSETTO:+1100
TZNAME:AEDT
DTSTART:20230930T160000
END:DAYLIGHT
BEGIN:STANDARD
TZOFFSETFROM:+1100
TZOFFSETTO:+1000
TZNAME:AEST
DTSTART:20240406T160000
END:STANDARD
BEGIN:DAYLIGHT
TZOFFSETFROM:+1000
TZOFFSETTO:+1100
TZNAME:AEDT
DTSTART:20241005T160000
END:DAYLIGHT
BEGIN:STANDARD
TZOFFSETFROM:+1100
TZOFFSETTO:+1000
TZNAME:AEST
DTSTART:20250405T160000
END:STANDARD
BEGIN:DAYLIGHT
TZOFFSETFROM:+1000
TZOFFSETTO:+1100
TZNAME:AEDT
DTSTART:20251004T160000
END:DAYLIGHT
END:VTIMEZONE
BEGIN:VEVENT
DTSTART;TZID=Australia/Melbourne:20240417T090000
DTEND;TZID=Australia/Melbourne:20240816T170000
DTSTAMP:20260423T062809
CREATED:20240315T024031Z
LAST-MODIFIED:20240408T033432Z
UID:10000967-1713344400-1723827600@www.historyvictoria.org.au
SUMMARY:Gotcha! Concrete Prints from the McEwans Celebrity Pavement
DESCRIPTION:Who remembers the McEwans celebrity pavement? \nBetween 1972 and 1994\, scores of celebrities had their hand- and footprints immortalised in cement at the entrance of the McEwans hardware store in Bourke Street. Shopping for a hammer or a hair-dryer\, you’d step in the prints of actors\, musicians\, sportspeople\, writers\, dancers\, politicians\, an astronaut\, a racehorse – even an operatic dog. \nCurated by Robyn Annear\, ‘Gotcha!’ presents 40 of the surviving prints from the McEwans pavement\, together with stories of the celebrities who made them and newspaper images that capture the mood of the times. \nNote: enter City Gallery via Customer Relations\nMonday to Friday: 9am to 5pm
URL:https://www.historyvictoria.org.au/event/gotcha-concrete-prints-from-the-mcewans-celebrity-pavement/
LOCATION:City Gallery\, 110 Swanston Street\, Melbourne\, VIC\, 3000\, Australia
CATEGORIES:Victorian History Events
ATTACH;FMTTYPE=image/jpeg:https://www.historyvictoria.org.au/wp-content/uploads/2024/03/Gotcha-promo-image-1080-x-1080.jpg
ORGANIZER;CN="City of Melbourne Art and Heritage Collection":MAILTO:citygallery@melbourne.vic.gov.au
END:VEVENT
BEGIN:VEVENT
DTSTART;TZID=Australia/Melbourne:20240611T183000
DTEND;TZID=Australia/Melbourne:20240611T193000
DTSTAMP:20260423T062809
CREATED:20240404T064030Z
LAST-MODIFIED:20240404T064030Z
UID:10000515-1718130600-1718134200@www.historyvictoria.org.au
SUMMARY:The Great Orange Peel Panic: and other stories from Melbourne
DESCRIPTION:🍊 The Great Orange Peel Panic: and other stories from Melbourne \nDid you know around the 1860’s civic reprobates who discarded orange peel in the streets of Melbourne\, risked life and limb? Apparently new flagstone paving stones\, combined with discarded orange peels\, were a serious hazard. Oranges were a popular snack at the time and peel littered the pavements\, with women blamed by the newspapers as the ‘chief strewers of peel’. \nJoin us as Robyn Annear talks about this story and more from her new book Corners of Melbourne. Robyn is an author who…’tackles her sprawling subject matter with her trademark wit and her knack for singling out the perfect historical reference.’ Age \nThis is a joint event with Family History Connections. Bookings are essential with a gold coin for entry.
URL:https://www.historyvictoria.org.au/event/the-great-orange-peel-panic-and-other-stories-from-melbourne/
LOCATION:39 St Edmonds Road\, Prahran\, VIC 3181\, 39 St Edmonds Road\, Prahran\, VIC\, 3181\, Australia
CATEGORIES:Victorian History Events
ATTACH;FMTTYPE=image/png:https://www.historyvictoria.org.au/wp-content/uploads/2024/04/The-Great-Orange-_Banner_June-2024.png
ORGANIZER;CN="Prahran Mechanics' Institute Victorian History Library":MAILTO:library@pmi.net.au
END:VEVENT
BEGIN:VEVENT
DTSTART;TZID=Australia/Melbourne:20240613T180000
DTEND;TZID=Australia/Melbourne:20240613T190000
DTSTAMP:20260423T062809
CREATED:20240425T232700Z
LAST-MODIFIED:20240425T232800Z
UID:10000990-1718301600-1718305200@www.historyvictoria.org.au
SUMMARY:Out of the Straight-Jacket: the art of anti-colonial history
DESCRIPTION:PROFESSIONAL HISTORIANS AUSTRALIA PROUDLY INVITES YOU TO THE 2024 WILSON HISTORY ORATION\nOut of the Straight-Jacket: the art of anti-colonial history\nAn oration by Dr Rachel Buchanan \nFrom swamp to chateau to the House of Lords\, as Dr Rachel Buchanan researched the wild\, globetrotting journey of five magnificent 17th century carvings made by ancestors in Taranaki\, she also received an education in the art of anti-colonial history. Through wānanga and discussions with the Hon. Mahara Okeroa and other mentors\, Rachel learned how to escape the straight-jacket of historical facts and write a story that is closer to the truth of ongoing tino rangatiratanga – or sovereignty – for Taranaki. \nAbout Rachel:\nDr Rachel Buchanan (Taranaki\, Te Ātiawa) is a Māori historian who is a manuhiri (guest) on Bunurong land in Naarm-Melbourne. Rachel’s most recent book\, Te Motunui Epa\, was a co-winner of the 2023 Ernest Scott Prize for History for distinguished historical writing that contributes to the history of Australia or New Zealand\, and the 2023 W H Oliver Prize for the best book on any aspect of New Zealand history. \nAbout the Wilson History Oration:\nThe Wilson History Oration was established in memory of Dr Bill Wilson OAM (1942-2021). After retiring from a career in law enforcement\, Bill forged a new career as a historian with an unwavering commitment to the PHA. Every year\, PHA invite an eminent historian in their field to present the Wilson History Oration to PHA members across Australia. \nDate: Thursday 13 June 2024\,\nTime: 6pm-7pm\,\nWhere: online\nThis event is free to all. Register to receive the Zoom link.\n Click here to register
URL:https://www.historyvictoria.org.au/event/out-of-the-straight-jacket-the-art-of-anti-colonial-history/
LOCATION:Online
CATEGORIES:Victorian History Events
ATTACH;FMTTYPE=image/jpeg:https://www.historyvictoria.org.au/wp-content/uploads/2024/04/Wilson-Oration.jpg
END:VEVENT
BEGIN:VEVENT
DTSTART;TZID=Australia/Melbourne:20240617T180000
DTEND;TZID=Australia/Melbourne:20240617T193000
DTSTAMP:20260423T062809
CREATED:20240521T230023Z
LAST-MODIFIED:20240521T230023Z
UID:10000522-1718647200-1718652600@www.historyvictoria.org.au
SUMMARY:'Watandar\, My Countryman' screening
DESCRIPTION:Join us at the Shrine for a screening of the heart-warming and eye-opening documentary film\, Watandar\, My Countryman. \nThe documentary follows photographer and Human Rights Activist Muzafar Ali\, who in 2015 resettled in Australia and became the first in five generations of his family to no longer be a refugee. When he discovers that Afghans have been in Australia for 160 years\, he’s compelled to photograph and document the stories of their descendants. \nThen\, on 15 August 2021\, the Taliban take over Afghanistan. With his homeland lost\, he’s driven to help and reaches out to his former colleagues\, whose lives are in danger. He tries to help them escape\, but he also knows that millions will be left behind and he must do everything he can to keep their hope alive. His photography project becomes an even more personal journey as he recognises\, in the Descendants\, his own search for a new Afghan-Australian identity. \nAfter the screening\, there will be a Q&A with Muzafar Ali and writer\, director and producer\, Jolyon Hoff
URL:https://www.historyvictoria.org.au/event/watandar-my-countryman-screening/2024-06-17/
LOCATION:Shrine of Remembrance\, Birdwood Ave\, Melbourne\, VIC\, 3004\, Australia
CATEGORIES:Victorian History Events
ATTACH;FMTTYPE=image/jpeg:https://www.historyvictoria.org.au/wp-content/uploads/2024/05/RESIZED-Watandar_Poster-scaled.jpg
ORGANIZER;CN="Laura Thomas":MAILTO:programs@shrine.org.au
END:VEVENT
BEGIN:VEVENT
DTSTART;TZID=Australia/Melbourne:20240618T110000
DTEND;TZID=Australia/Melbourne:20240618T123000
DTSTAMP:20260423T062809
CREATED:20240521T230023Z
LAST-MODIFIED:20240521T230023Z
UID:10000523-1718708400-1718713800@www.historyvictoria.org.au
SUMMARY:'Watandar\, My Countryman' screening
DESCRIPTION:Join us at the Shrine for a screening of the heart-warming and eye-opening documentary film\, Watandar\, My Countryman. \nThe documentary follows photographer and Human Rights Activist Muzafar Ali\, who in 2015 resettled in Australia and became the first in five generations of his family to no longer be a refugee. When he discovers that Afghans have been in Australia for 160 years\, he’s compelled to photograph and document the stories of their descendants. \nThen\, on 15 August 2021\, the Taliban take over Afghanistan. With his homeland lost\, he’s driven to help and reaches out to his former colleagues\, whose lives are in danger. He tries to help them escape\, but he also knows that millions will be left behind and he must do everything he can to keep their hope alive. His photography project becomes an even more personal journey as he recognises\, in the Descendants\, his own search for a new Afghan-Australian identity. \nAfter the screening\, there will be a Q&A with Muzafar Ali and writer\, director and producer\, Jolyon Hoff
URL:https://www.historyvictoria.org.au/event/watandar-my-countryman-screening/2024-06-18/
LOCATION:Shrine of Remembrance\, Birdwood Ave\, Melbourne\, VIC\, 3004\, Australia
CATEGORIES:Victorian History Events
ATTACH;FMTTYPE=image/jpeg:https://www.historyvictoria.org.au/wp-content/uploads/2024/05/RESIZED-Watandar_Poster-scaled.jpg
ORGANIZER;CN="Laura Thomas":MAILTO:programs@shrine.org.au
END:VEVENT
BEGIN:VEVENT
DTSTART;TZID=Australia/Melbourne:20240618T183000
DTEND;TZID=Australia/Melbourne:20240618T193000
DTSTAMP:20260423T062809
CREATED:20231129T011505Z
LAST-MODIFIED:20240403T223236Z
UID:10000481-1718735400-1718739000@www.historyvictoria.org.au
SUMMARY:Stories from ASIO’s files
DESCRIPTION:🕵🏽 Stories from ASIO’s files \nStep into the clandestine world of intrigue and mystery! Unveil the enigmatic lives of a doctor\, a teacher\, a gardener\, and an undercover operative\, as Patrick\, the Assistant State Manager of Victoria at NAA\, unravels a riveting tale straight from ASIO’s secretive archives. These seemingly ordinary individuals possessed secrets that caught the eye of the Australian Security Intelligence Organisation. Who were they\, really? What compelled ASIO to track their every move? Join us on a thrilling journey through covert operations and concealed identities. \nImage NAA: A432\, 1963/2272 \nBookings are essential with a gold coin for entry.
URL:https://www.historyvictoria.org.au/event/stories-from-asios-files-2/
LOCATION:39 St Edmonds Road\, Prahran\, VIC 3181\, 39 St Edmonds Road\, Prahran\, VIC\, 3181\, Australia
CATEGORIES:Victorian History Events
ATTACH;FMTTYPE=image/png:https://www.historyvictoria.org.au/wp-content/uploads/2023/11/ASIO-Files_2024.png
ORGANIZER;CN="Prahran Mechanics' Institute Victorian History Library":MAILTO:library@pmi.net.au
END:VEVENT
BEGIN:VEVENT
DTSTART;TZID=Australia/Melbourne:20240619T193000
DTEND;TZID=Australia/Melbourne:20240619T210000
DTSTAMP:20260423T062809
CREATED:20240606T051751Z
LAST-MODIFIED:20240606T051751Z
UID:10000528-1718825400-1718830800@www.historyvictoria.org.au
SUMMARY:Our Yarra River
DESCRIPTION:East Melbourne Historical Society Presents “Our Yarra River” \nPresenter: Ian Penrose \nIan is a former senior executive in the coal mining and gas industries\, but after 27 years he switched his focus to the natural environment. \nHe headed the Victorian Government’s program to restore the Snowy River with increased flows and bankside rehabilitation. Later\, as a state water commissioner\, he helped manage environmental water releases into our depleted rivers and wetlands. \nIn 2006\, he became the first Yarra Riverkeeper\, leading the community’s campaign to improve the well-being and appreciation of Melbourne’s special waterway. This role (of nine years) earned him the City of Melbourne’s 2010 “Melbourne Award for contribution to the environment” and (as co-winner) Boroondara’s 2015 “Citizen of the Year” award. \nIn his presentation Ian will share with us what he has learnt of the Yarra’s history\, and his thoughts about its future. \nWhen: Wednesday 19 Jun 2024 – 7:30pm \nLocation: East Melbourne Library\, 122 George Street\, East Melbourne \nEntry fee: Members free; non-members $5.00 \ntel: 0437 221 249\nemail: enquiries@emhs.org.au
URL:https://www.historyvictoria.org.au/event/our-yarra-river/
LOCATION:East Melbourne Library\, 122 George St\, East Melbourne\, VIC\, 3002\, Australia
CATEGORIES:Victorian History Events
ORGANIZER;CN="East Melbourne Historical Society":MAILTO:info@emhs.org.au
END:VEVENT
BEGIN:VEVENT
DTSTART;TZID=Australia/Melbourne:20240620T110000
DTEND;TZID=Australia/Melbourne:20240620T120000
DTSTAMP:20260423T062809
CREATED:20240423T231357Z
LAST-MODIFIED:20240423T231357Z
UID:10000988-1718881200-1718884800@www.historyvictoria.org.au
SUMMARY:Incinerator History Tours
DESCRIPTION:Discover the captivating history of the Essendon incinerator on our monthly volunteer-led history tour. \nStrategically located near parkland and residences\, this iconic structure emerged in 1929\, revolutionising waste disposal was designed by the offices of visionary architects Walter Burley Griffin and Marion Mahony Griffin. \nJoin us as our knowledgeable guides unveil the ‘Destructor’s’ transformative journey\, from waste disposal facility to council depot\, to a performing arts venue and now Incinerator Gallery. Immerse yourself in the essence of Griffin’s design ethos and explore a bygone era where sanitation and aesthetics converged. Don’t miss the chance to delve into this historic gem’s narrative on our engaging monthly tours. \nHistory Tours are presented at Incinerator Gallery and run from 11 am to 12 noon.
URL:https://www.historyvictoria.org.au/event/incinerator-history-tours/2024-06-20/
LOCATION:Incinerator Gallery\, 180 Holmes Road\, Aberfeldie\, VIC\, 3045\, Australia
CATEGORIES:Victorian History Events
ATTACH;FMTTYPE=image/jpeg:https://www.historyvictoria.org.au/wp-content/uploads/2024/04/Incinerator-History-Tours-2-764x371-1.jpg
END:VEVENT
BEGIN:VEVENT
DTSTART;TZID=Australia/Melbourne:20240620T173000
DTEND;TZID=Australia/Melbourne:20240620T190000
DTSTAMP:20260423T062809
CREATED:20240530T223337Z
LAST-MODIFIED:20240530T223337Z
UID:10001007-1718904600-1718910000@www.historyvictoria.org.au
SUMMARY:The Yallourn Scheme : Celebrating 100 years of Power Generation
DESCRIPTION:  \nEngineering Heritage Victoria and the RHSV present this event to celebrate the centenary of Victoria’s first baseload power station in the Latrobe Valley and the greatest single public infrastructure project the nation had seen. \n  \nPassing without fanfare or public ceremony\, at midday on Sunday 15 June 1924\, electricity from the new Yallourn Power Station first reached Melbourne when the State Electricity Commission switched on the high voltage transmission line linking Morwell and the Yarraville distribution terminal. The event marked the culmination of a five-year project to develop Victoria’s first baseload power station in the Latrobe Valley and the greatest single public infrastructure project the nation had seen. It was proclaimed by the press as “the cessation of Victoria’s subservience … to the coal mines of Newcastle”\, and would provide the foundation for the State’s industrial\, economic and social prosperity over the following decades. \nThis presentation will outline the key events in the development of the Yallourn Power Scheme\, touching on the historic context\, key engineers involved and some of the technical challenges encountered from conception through to commissioning and early operation. The talk will be illustrated by historic images from the extensive photographic collection acquired in 1993 by the Museum of Victoria from the former State Electricity Commission\, prior to its disaggregation and privatisation. \nSpeaker: \nMatthew Churchward\, Senior Curator\, Engineering & Transport\, Museums Victoria \nAfter originally training in mechanical engineering\, Matthew Churchward has spent much of the past 35 years in the museum and heritage sector. He has held a curatorial role with Museums Victoria since 1994\, working on acquisitions\, collection database development\, public programs\, exhibitions and the creation of websites and online content. \nHis engineering skills have proved invaluable in overseeing the restoration and conservation of many large objects in the museum’s collection – ranging from steam engines\, tractors and farm machinery to horse-drawn vehicles\, motor vehicles and the Great Melbourne Telescope. \nHis research interests encompass Victoria’s mining\, engineering and transport history – including shipping\, railways\, roads\, bridges\, ports\, sewerage\, water supply and electricity infrastructure. \n  \n  \nThis will be preceded by an\nOpen Day at PowerWorks\, \nRidge Road\, Morwell.\nSat 15 Jun 2024 12 noon to 3.00 pm\n“Celebration of the centenary of power transmission between Yallourn and Melbourne”.\nIn collaboration with Energy Australia. \nHousekeeping \nWhen you book tickets you will be sent an automatic\, system-generated confirmation email with your tickets. If this can’t be found in your in-box please check your Spam folder or Junk Mail folder as these system-generated emails often go astray. If you can’t find your tickets\, don’t panic\, we always have a list at the door. \nAs with most RHSV events\, we will serve refreshments from 5:30pm – 6pm when the lecture starts. \nThe Zoom-cast will begin at 6pm.
URL:https://www.historyvictoria.org.au/event/the-yallourn-scheme-celebrating-100-years-of-power-generation/
LOCATION:RHSV Gallery Downstairs\, 239 A'Beckett St\, Melbourne\, Victoria\, 3000\, Australia
CATEGORIES:What's On
ATTACH;FMTTYPE=image/png:https://www.historyvictoria.org.au/wp-content/uploads/2024/05/YallournTalkGraphic2.png
END:VEVENT
BEGIN:VEVENT
DTSTART;TZID=Australia/Melbourne:20240626T103000
DTEND;TZID=Australia/Melbourne:20240626T140000
DTSTAMP:20260423T062809
CREATED:20240403T230840Z
LAST-MODIFIED:20240918T222144Z
UID:10000974-1719397800-1719410400@www.historyvictoria.org.au
SUMMARY:Family History Workshops
DESCRIPTION:👩🏽‍👩🏽‍👦🏽‍👦🏽 Family History Workshops hosted by Wendy Eldridge from our Friends of the Library. \nDo you want some guided help with your family history journey? We can help. Join a friendly and supportive environment while making use of the many resources available at the PMI Victorian History Library. \nOur workshops will cover: \n28 Feb – What you need to know what you Get Started\n24 Apr – What Beginners should do\n26 Jun – Special Guest – Heather Arnold\n28 Aug – Doing your family history using Ancestry\n30 Oct – Doing your family history using Ancestry / Understanding Military Records and Resources \nBookings are essential.
URL:https://www.historyvictoria.org.au/event/family-history-workshops/2024-06-26/
LOCATION:39 St Edmonds Road\, Prahran\, VIC 3181\, 39 St Edmonds Road\, Prahran\, VIC\, 3181\, Australia
CATEGORIES:Victorian History Events
ATTACH;FMTTYPE=image/png:https://www.historyvictoria.org.au/wp-content/uploads/2024/04/Book-Sale_2023-PMI.png
ORGANIZER;CN="Prahran Mechanics' Institute Victorian History Library":MAILTO:library@pmi.net.au
END:VEVENT
BEGIN:VEVENT
DTSTART;TZID=Australia/Melbourne:20240626T110000
DTEND;TZID=Australia/Melbourne:20240626T120000
DTSTAMP:20260423T062809
CREATED:20240619T012248Z
LAST-MODIFIED:20240621T050847Z
UID:10000536-1719399600-1719403200@www.historyvictoria.org.au
SUMMARY:CURATOR'S TOUR OF MELBOURNE'S STORIED LANEWAYS WITH DAVID THOMPSON
DESCRIPTION:David Thompson will take you behind the scenes of our current exhibition\, Melbourne’s Storied Laneways which David curated. The exhibition was prompted by the upcoming publication of The Story of Melbourne’s Lanes: Essential but Unplanned by Weston Bate\, Richard Broome\, Nicole Davis\, Andrew J. May\, Helen Stitt which will be launched on 3rd October 2024. \nWe all have our favourite Melbourne laneway and curator David Thompson has chosen a handful of lanes which reveal intriguing Melbourne stories. When we think of today’s gussied-up\, tourist-friendly laneways like Guilford Lane and Hosier Lane\, it is hard to imagine that a mere 50 years ago the laneways were workaday places full still of small factories and light industry. \nOther dates available: \n28 August \n25 September\n9 October 
URL:https://www.historyvictoria.org.au/event/curators-tour-of-melbournes-storied-laneways-with-david-thompson/
LOCATION:RHSV Gallery Downstairs\, 239 A'Beckett St\, Melbourne\, Victoria\, 3000\, Australia
CATEGORIES:What's On
ATTACH;FMTTYPE=image/jpeg:https://www.historyvictoria.org.au/wp-content/uploads/2024/06/Print-A0-Laneway-poster-image-scaled.jpg
ORGANIZER;CN="Royal Historical Society of Victoria":MAILTO:office@historyvictoria.org.au
END:VEVENT
BEGIN:VEVENT
DTSTART;TZID=Australia/Melbourne:20240627T110000
DTEND;TZID=Australia/Melbourne:20240627T120000
DTSTAMP:20260423T062809
CREATED:20221207T014636Z
LAST-MODIFIED:20240423T021746Z
UID:10000836-1719486000-1719489600@www.historyvictoria.org.au
SUMMARY:CATALOGUING CLINICS 2024
DESCRIPTION:Join Jillian Hiscock\, the RHSV Collections Manager\, each month in this informative and easy-going Zoom forum on all aspects of cataloguing collections for historical societies. \nJillian has a different topic each month and is happy to be guided by those who attend as to what they would like covered in upcoming clinics. Bring your questions (no matter the topic) – this is an interactive space where questions are encouraged. The RHSV does not endorse any particular cataloguing software – we believe it is horses for courses – and Jillian will talk about issues that impact on cataloguing whether you are using cataloguing cards or software. \nThe one-hour clinics are free and the Zoom log-in below is used every month in 2024\, however\, we do ask you to register each month as this enables Jillian to send you extra material / links etc after each session. \nThe remaining Cataloguing Clinics in 2024 will be held at \n\nThu 27 Jun 11am – 12noon (AEST)\nThu 25 Jul 11am – 12noon (AEST)\nThu 22 Aug 11am – 12noon (AEST)\nThu 26 Sep 11am – 12noon (AEST)\nThu 24 Oct 11am – 12noon (AEDT)\nThu 28 Nov 11am – 12noon (AEDT)\n\nPlease download and import the following iCalendar (.ics) files to your calendar system.\nMonthly: https://us02web.zoom.us/meeting/tZYqcO-hqD8uH92SLyLFy8RywYTvMs4EraaZ/ics?icsToken=98tyKuGqqTwsE9KRtByORpwQB4_CM_PwpilbgvoPrzP8LwZKOjHvIdt2JJ9sRP3C \nJoin Zoom Meeting\nhttps://us02web.zoom.us/j/82776964459?pwd=NmNXVVpVSWxTejRpUDBQUnpNaEQxdz09 \nMeeting ID: 827 7696 4459\nPasscode: 142102 \nIf joining by phone: \nOne tap mobile\n+61370182005\,\,82776964459#\,\,\,\,*142102# Australia\n+61731853730\,\,82776964459#\,\,\,\,*142102# Australia \nDial by your location\n• +61 3 7018 2005 Australia\n• +61 7 3185 3730 Australia\n• +61 8 6119 3900 Australia\n• +61 8 7150 1149 Australia\n• +61 2 8015 6011 Australia \nMeeting ID: 827 7696 4459\nPasscode: 142102 \nFind your local number: https://us02web.zoom.us/u/kdh0GPiJW \n 
URL:https://www.historyvictoria.org.au/event/cataloguing-clinics-2023-2023-03-16-2023-04-20-2024-03-21-2024-06-27/
LOCATION:ZOOM\, Join from anywhere in the world
CATEGORIES:What's On
ATTACH;FMTTYPE=image/png:https://www.historyvictoria.org.au/wp-content/uploads/2022/12/Cataloguing-is-the-key.png
ORGANIZER;CN="Royal Historical Society of Victoria":MAILTO:office@historyvictoria.org.au
END:VEVENT
BEGIN:VEVENT
DTSTART;TZID=Australia/Melbourne:20240627T180000
DTEND;TZID=Australia/Melbourne:20240627T190000
DTSTAMP:20260423T062809
CREATED:20240530T053431Z
LAST-MODIFIED:20240530T053431Z
UID:10001006-1719511200-1719514800@www.historyvictoria.org.au
SUMMARY:HCV Book+Author seminar series: Science and Power in the Nineteenth-Century Tasman World
DESCRIPTION:In the History Council of Victoria’s third Book+Author event for the year\, we will be joined by Alexandra Roginski\, Melbourne-based historian\, writer and heritage worker and Visiting Fellow of Deakin University\, who will be discussing her fascinating new book in conversation with convenor Dr Yves Rees. Alexandra completed her PhD at the ANU in 2018 and her work focuses on ideas and practices of the body\, past and present. Science and Power in the Nineteenth-Century Tasman World is Alexandra’s second book\, and explores the contentious science of phrenology\, which once promised insight into character and intellect through external ‘reading’ of the head. In the transforming settler-colonial landscapes of nineteenth-century Australia and Aotearoa New Zealand\, popular phrenologists – figures who often hailed from the margins – performed their science of touch and cranial jargon everywhere from mechanics’ institutions to public houses. In this compelling work\, Alexandra Roginski recounts a history of this everyday practice\, exploring how it featured in the fates of people living in\, and moving through\, the Tasman World. \nTime/date: Thursday 27 June\, 6pm-7pm \nWhere: The Wheeler Centre\, State Library of Victoria\, Melbourne CBD \n\n\n\nBOOK HERE
URL:https://www.historyvictoria.org.au/event/hcv-bookauthor-seminar-series-science-and-power-in-the-nineteenth-century-tasman-world/
LOCATION:The Wheeler Centre\, 176 Little Londsale Street\, Melbourne\, VIC\, 3000\, Australia
CATEGORIES:Victorian History Events
ATTACH;FMTTYPE=image/png:https://www.historyvictoria.org.au/wp-content/uploads/2024/05/book-author-event.png
ORGANIZER;CN="History Council of Victoria":MAILTO:info@historycouncilvic.org.au
END:VEVENT
BEGIN:VEVENT
DTSTART;VALUE=DATE:20240629
DTEND;VALUE=DATE:20240630
DTSTAMP:20260423T062809
CREATED:20240508T232158Z
LAST-MODIFIED:20240508T232158Z
UID:10000518-1719619200-1719705599@www.historyvictoria.org.au
SUMMARY:The Value of Local History- Into the Future
DESCRIPTION:Conference held by Association of Eastern Historical Societies
URL:https://www.historyvictoria.org.au/event/the-value-of-local-history-into-the-future/
LOCATION:Lilydale Lakeside Conference Centre\, 1 Jarlo Drive\, Lilydale\, VIC\, 3140\, Australia
CATEGORIES:Victorian History Events
ATTACH;FMTTYPE=image/jpeg:https://www.historyvictoria.org.au/wp-content/uploads/2024/05/AEHS-Conference-Poster.jpg
END:VEVENT
BEGIN:VEVENT
DTSTART;VALUE=DATE:20240629
DTEND;VALUE=DATE:20240630
DTSTAMP:20260423T062809
CREATED:20240528T051433Z
LAST-MODIFIED:20240528T051433Z
UID:10001004-1719619200-1719705599@www.historyvictoria.org.au
SUMMARY:Association of Eastern Historical Societies - Conference
DESCRIPTION:May we have our conference advertised again please? \nThe Value of Local History- Into the Future will be held on June 29 at Lilydale Lakeside conference centre \nThe all day program aims to inspire local history groups to consider ways to survive and grow in the coming years.
URL:https://www.historyvictoria.org.au/event/association-of-eastern-historical-societies-conference/
LOCATION:Lilydale Lakeside Conference Centre\, 1 Jarlo Drive\, Lilydale\, VIC\, 3140\, Australia
CATEGORIES:Victorian History Events
ATTACH;FMTTYPE=image/jpeg:https://www.historyvictoria.org.au/wp-content/uploads/2024/05/AEHS-Conference-Poster-1.jpg
END:VEVENT
BEGIN:VEVENT
DTSTART;TZID=Australia/Melbourne:20240629T090000
DTEND;TZID=Australia/Melbourne:20240629T170000
DTSTAMP:20260423T062809
CREATED:20240404T004454Z
LAST-MODIFIED:20240404T004454Z
UID:10000503-1719651600-1719680400@www.historyvictoria.org.au
SUMMARY:The Value of Local History - Into the Future 2024 Conference
DESCRIPTION:The Association of Eastern Historical Societies presents \nThe Value of Local History – Into the Future 2024 Conference \nSaturday 29 June 2024\n9am-5pm\nLilydale Lakeside Conference Centre\n1 Jarlo Drive\, Lilydale \nSpeakers include: \n\nBryan Kalms- Keynote\nRichard Broome\nAnthony McAleer\nRosalie Trioli\nJanice Newton\nJohn Peterson\nGraeme Davison\nVal Polley\nPatrick Ferry – NAA\nDavid Taylor – PROV\nKitty Owens – Yarra Ranges Regional Museum\nChristine Barker Byrnes/Chris Byrnes – Malmsbury Historical Society\nJackie Fraser – Victorian Collections\n\nFor more information: associationofeasternhistorical@gmail.com \nTo book tickets: https://www.trybooking.com/CQJSC 
URL:https://www.historyvictoria.org.au/event/the-value-of-local-history-into-the-future-2024-conference/
LOCATION:Lilydale Lakeside Conference Centre\, 1 Jarlo Drive\, Lilydale\, VIC\, 3140\, Australia
CATEGORIES:Victorian History Events
ATTACH;FMTTYPE=image/jpeg:https://www.historyvictoria.org.au/wp-content/uploads/2024/04/AEHS-conference.jpg
ORGANIZER;CN="The Association of Eastern Historical Societies":MAILTO:associationofeasternhistorical@gmail.com
END:VEVENT
END:VCALENDAR