BEGIN:VCALENDAR
VERSION:2.0
PRODID:-//Royal Historical Society of Victoria - ECPv6.15.12.2//NONSGML v1.0//EN
CALSCALE:GREGORIAN
METHOD:PUBLISH
X-WR-CALNAME:Royal Historical Society of Victoria
X-ORIGINAL-URL:https://www.historyvictoria.org.au
X-WR-CALDESC:Events for Royal Historical Society of Victoria
REFRESH-INTERVAL;VALUE=DURATION:PT1H
X-Robots-Tag:noindex
X-PUBLISHED-TTL:PT1H
BEGIN:VTIMEZONE
TZID:Australia/Melbourne
BEGIN:STANDARD
TZOFFSETFROM:+1100
TZOFFSETTO:+1000
TZNAME:AEST
DTSTART:20230401T160000
END:STANDARD
BEGIN:DAYLIGHT
TZOFFSETFROM:+1000
TZOFFSETTO:+1100
TZNAME:AEDT
DTSTART:20230930T160000
END:DAYLIGHT
BEGIN:STANDARD
TZOFFSETFROM:+1100
TZOFFSETTO:+1000
TZNAME:AEST
DTSTART:20240406T160000
END:STANDARD
BEGIN:DAYLIGHT
TZOFFSETFROM:+1000
TZOFFSETTO:+1100
TZNAME:AEDT
DTSTART:20241005T160000
END:DAYLIGHT
BEGIN:STANDARD
TZOFFSETFROM:+1100
TZOFFSETTO:+1000
TZNAME:AEST
DTSTART:20250405T160000
END:STANDARD
BEGIN:DAYLIGHT
TZOFFSETFROM:+1000
TZOFFSETTO:+1100
TZNAME:AEDT
DTSTART:20251004T160000
END:DAYLIGHT
END:VTIMEZONE
BEGIN:VEVENT
DTSTART;VALUE=DATE:20240823
DTEND;VALUE=DATE:20241021
DTSTAMP:20260420T041631
CREATED:20240815T042005Z
LAST-MODIFIED:20240815T042005Z
UID:10001021-1724371200-1729468799@www.historyvictoria.org.au
SUMMARY:Como House of Discovery: Traces of Girlhood
DESCRIPTION:History has left only traces of the experience of girlhood. Yet traces do remain\, poignant and important. They tell the stories of girls and young women who grew up in 19th and early 20th-century Victoria and the central role they played in our society.   \nThis exhibition at Como House in South Yarra will illuminate these traces\, featuring handiwork\, scrapbooks\, writing\, archaeological artefacts and photographs.   \nExploring themes including opportunities and expectations\, work and play\, learning and connections\, Traces of Girlhood brings together the diverse experiences of girls from our past through the things they have left behind.   \nBook tickets for the weekend Open House sessions to view the exhibition at your own pace\, or join a house tour to learn more of the history and stories of Como House & Garden.  \nThis exhibition is generously supported by The Hansen Little Public Humanities Grant\, Faculty of Arts\, University of Melbourne\, and presenting partner Heritage Victoria.
URL:https://www.historyvictoria.org.au/event/como-house-of-discovery-traces-of-girlhood/
LOCATION:Como House &amp; Garden\, Corner Williams Rd & Lechlade Ave\, South Yarra\, Victoria\, 3141\, Australia
CATEGORIES:Victorian History Events
ATTACH;FMTTYPE=image/jpeg:https://www.historyvictoria.org.au/wp-content/uploads/2024/08/3-Laura-Armytage.jpg
END:VEVENT
BEGIN:VEVENT
DTSTART;TZID=Australia/Melbourne:20240903T183000
DTEND;TZID=Australia/Melbourne:20240903T213000
DTSTAMP:20260420T041631
CREATED:20240725T061205Z
LAST-MODIFIED:20240725T061205Z
UID:10001013-1725388200-1725399000@www.historyvictoria.org.au
SUMMARY:Some History Lessons for Present-day Housing Campaigners
DESCRIPTION:Collingwood Historical Society is pleased to announce that Janet McCalman AC will be our guest speaker at this year’s AGM. Her topic will range over slum clearances\, the establishment of the Housing Commission of Victoria\, and current housing issues.\nThe evening will start with dinner at a venerable Collingwood pub at 6:30\, followed by (brief!) AGM business at 7:45\, then Janet will talk from 8 pm.\nBookings are essential for both dinner and AGM. Please email collingwoodhs@yahoo.com and specify whether you will be attending for dinner as well as the AGM. Attendees will order and pay for their own meals and drinks on arrival.
URL:https://www.historyvictoria.org.au/event/some-history-lessons-for-present-day-housing-campaigners/
LOCATION:Yorkshire Stingo Hotel\, 48 Hoddle Street\, Abbotsford\, Victoria\, 3067\, Australia
CATEGORIES:Victorian History Events
ATTACH;FMTTYPE=image/jpeg:https://www.historyvictoria.org.au/wp-content/uploads/2024/07/CHS-AGM-2024-Flyer-1-1.jpg
ORGANIZER;CN="Collingwood Historical Society":MAILTO:collingwoodhs@yahoo.com
END:VEVENT
BEGIN:VEVENT
DTSTART;TZID=Australia/Melbourne:20240910T183000
DTEND;TZID=Australia/Melbourne:20240910T193000
DTSTAMP:20260420T041631
CREATED:20240404T063922Z
LAST-MODIFIED:20240404T063922Z
UID:10000511-1725993000-1725996600@www.historyvictoria.org.au
SUMMARY:Unsettling Legacies from Six Peaks
DESCRIPTION:⛰️ Barry Golding’s presentation delves into the question of how to help future generations confront the legacies of events surrounding mountains in our landscape. Focused on the peaks in southern Dja Dja Wurrung Country\, his talk explores ideas for reconciling with these mountains and the communities residing on their slopes. \nThis presentation serves as a preview to the upcoming book\, “Six Peaks Speak: Unsettling Legacies\,” co-authored by Barry Golding and Clive Willman\, scheduled for release in October 2024. It uncovers the unique stories of each peak\, delving into geological origins\, Dja Dja Wurrung management\, and the exploitation and transformation of these landscapes since unsettlement. \nBarry Golding acknowledges support for this project as part of a State Library Victoria Creative Fellowship in 2023. \nBookings are essential with a gold coin for entry.
URL:https://www.historyvictoria.org.au/event/unsettling-legacies-from-six-peaks/
LOCATION:39 St Edmonds Road\, Prahran\, VIC 3181\, 39 St Edmonds Road\, Prahran\, VIC\, 3181\, Australia
CATEGORIES:Victorian History Events
ATTACH;FMTTYPE=image/png:https://www.historyvictoria.org.au/wp-content/uploads/2024/04/Six-Peaks-_Banner_Sept-2024.png
ORGANIZER;CN="Prahran Mechanics' Institute Victorian History Library":MAILTO:library@pmi.net.au
END:VEVENT
BEGIN:VEVENT
DTSTART;TZID=Australia/Melbourne:20240917T173000
DTEND;TZID=Australia/Melbourne:20240917T190000
DTSTAMP:20260420T041631
CREATED:20240430T031515Z
LAST-MODIFIED:20240916T095039Z
UID:10000996-1726594200-1726599600@www.historyvictoria.org.au
SUMMARY:Tracing Madame Brussels: A public figure with an elusive background
DESCRIPTION:We are delighted that esteemed historian Barbara Minchinton will deliver our September lecture based on the research for her latest book. \nMadame Brussels was Melbourne’s most vilified brothel-keeper of the nineteenth century\, but little has been known about Caroline Hodgson\, the woman who played the role. There were no Visitors’ Books to reveal her networks\, and few letters written in her own hand. Family material that came to light in 2018 provided some clues\, and a German genealogist found others\, but for her biography the details of her life in Melbourne were largely sourced from newspapers and government records. The story that emerged was the story of Melbourne’s sex industry from 1871 to its criminalisation in 1908. \nBarbara Minchinton is a historian and independent researcher who has worked extensively with the collections of the Public Record Office Victoria as a volunteer. Her first book The Women of Little Lon: Sex Workers in Nineteenth-Century Melbourne won the Victorian Community History Publication Award for 2022. Barbara’s latest book\, published in July 2024 by La Trobe University Press\, is Madame Brussels: The Life and Times of Melbourne’s Most Notorious Woman. \nBarbara’s books will be available for purchase on the night and Barbara is happy to sign copies. \nHousekeeping \nThis event will be hybrid so presented in person in our rooms and also via ZOOM. Those purchasing Zoom tickets will be sent the log-in details 24hrs before the event. \nAn automatically generated confirmation of booking email is sent on booking – please check your Trash or Spam folders if this email does not turn up in your In Box. \nAs with most of our events\, refreshments will be served from 5:30pm – 6pm when the lecture starts (the Zoom session also starts at 6pm). There will be Q&A at the end of the lecture.
URL:https://www.historyvictoria.org.au/event/tracing-madame-brussels-a-public-figure-with-an-elusive-background/
LOCATION:RHSV Gallery Downstairs\, 239 A'Beckett St\, Melbourne\, Victoria\, 3000\, Australia
CATEGORIES:What's On
ATTACH;FMTTYPE=image/jpeg:https://www.historyvictoria.org.au/wp-content/uploads/2024/04/Minchinto-Barbara.jpg
END:VEVENT
BEGIN:VEVENT
DTSTART;TZID=Australia/Melbourne:20240918T180000
DTEND;TZID=Australia/Melbourne:20240918T200000
DTSTAMP:20260420T041631
CREATED:20240524T015204Z
LAST-MODIFIED:20240524T020509Z
UID:10000524-1726682400-1726689600@www.historyvictoria.org.au
SUMMARY:Rare Book Week: Noted Donations to the Melbourne Public Library
DESCRIPTION:From its beginning the Melbourne Public Library supplemented its book stock with donations. In 1873\, the library published a catalogue of these gifts\, listing an array of donors from emperors and kings to more humble colonists. In part a celebration\, in part an appeal for more gifts\, the catalogue provides an insight into the literary culture of the time. Historian Shane Carmody will discuss book culture in the early years of the Colony of Victoria\, featuring eminent donors and their fascinating donations to the Melbourne Public Library collection. \nSpeaker: Shane Carmody \nThursday 18th July\, 6-8pm\nPresented by The C J LaTrobe Society at Tonic House\n386 Flinders Lane\, Melbourne \nInformation: dmreilly@optusnet.com.au \nClick here to register  \n  \nThis event is part of Rare Book Week.\nYou can access the full program here.
URL:https://www.historyvictoria.org.au/event/rare-book-week-noted-donations-to-the-melbourne-public-library/
LOCATION:Tonic House\, 386 Flinders Lane\, Melbourne 3000\, Victoria\, 3000\, Australia
CATEGORIES:Victorian History Events
ATTACH;FMTTYPE=image/jpeg:https://www.historyvictoria.org.au/wp-content/uploads/2024/05/noted-donations-to-the-melborne-public-lib.jpg
ORGANIZER;CN="C J La Trobe Society":MAILTO:treasurer@latrobesociety.org.au
GEO:-37.8180213;144.9611986
X-APPLE-STRUCTURED-LOCATION;VALUE=URI;X-ADDRESS=Tonic House 386 Flinders Lane Melbourne 3000 Victoria 3000 Australia;X-APPLE-RADIUS=500;X-TITLE=386 Flinders Lane:geo:144.9611986,-37.8180213
END:VEVENT
BEGIN:VEVENT
DTSTART;TZID=Australia/Melbourne:20240920T140000
DTEND;TZID=Australia/Melbourne:20240920T150000
DTSTAMP:20260420T041631
CREATED:20240801T013142Z
LAST-MODIFIED:20240801T013142Z
UID:10001019-1726840800-1726844400@www.historyvictoria.org.au
SUMMARY:History of the PMI Victorian History Library
DESCRIPTION:📜 Join our Collections Librarian Ellen Coates\, on a journey through the fascinating history of Victoria’s second oldest library as they celebrate their 170th year. Beginning when the Library declared itself into existence in on the 1st of May 1854. The challenges of the early years\, including how the Committee dealt with a squatting Secretary Librarian\, then onto how the collection\, at the time\, came to be described by Aeneas Gunn as “without exception to be in a shockingly neglected and filthy condition.” \nThe 20th century saw the Library survive war\, pandemic\, and hostile takeover and to ultimately make the decision to specialize in Victorian History\, which has seen it stay relevant. \nThe talk also includes a tour of the PMI’s 170th exhibition and the stories behind it. \nBookings are essential.
URL:https://www.historyvictoria.org.au/event/history-of-the-pmi-victorian-history-library/
LOCATION:39 St Edmonds Road\, Prahran\, VIC 3181\, 39 St Edmonds Road\, Prahran\, VIC\, 3181\, Australia
CATEGORIES:Victorian History Events
ATTACH;FMTTYPE=image/png:https://www.historyvictoria.org.au/wp-content/uploads/2024/08/Library-History_LinkedIn_2024.png
ORGANIZER;CN="PMI Victorian History Library":MAILTO:library@pmi.net.au
END:VEVENT
BEGIN:VEVENT
DTSTART;TZID=Australia/Melbourne:20240924T183000
DTEND;TZID=Australia/Melbourne:20240924T193000
DTSTAMP:20260420T041631
CREATED:20240801T013130Z
LAST-MODIFIED:20240801T013130Z
UID:10001018-1727202600-1727206200@www.historyvictoria.org.au
SUMMARY:A Musical Ouroboros
DESCRIPTION:🎶 A Musical Ouroboros – how the Hottest 100 both reflects and encourages the empowerment of Australian youth. \nFor 30 years\, triple j’s Hottest 100 has been Australia’s go-to countdown for the year’s top songs. Beyond mere entertainment\, it’s a reflection of youth sentiment. In the past\, it echoed Gen X rebellion with bands like Nirvana and Pearl Jam. Today\, it’s a diverse tapestry showcasing female artists\, LGBTQ+ voices\, and people of colour\, mirroring a generational shift. This countdown isn’t just about music; it’s a space where young Aussies steer the conversation. Their votes drive the event’s success\, inadvertently giving them a platform and a voice in shaping cultural dialogue. \nBookings are essential with a gold coin for entry.
URL:https://www.historyvictoria.org.au/event/a-musical-ouroboros-2/
LOCATION:39 St Edmonds Road\, Prahran\, VIC 3181\, 39 St Edmonds Road\, Prahran\, VIC\, 3181\, Australia
CATEGORIES:Victorian History Events
ATTACH;FMTTYPE=image/png:https://www.historyvictoria.org.au/wp-content/uploads/2024/08/Musical-Ouroboros_LinkedIn_2024-1.png
ORGANIZER;CN="PMI Victorian History Library":MAILTO:library@pmi.net.au
END:VEVENT
BEGIN:VEVENT
DTSTART;TZID=Australia/Melbourne:20240925T110000
DTEND;TZID=Australia/Melbourne:20240925T120000
DTSTAMP:20260420T041631
CREATED:20240621T050141Z
LAST-MODIFIED:20240821T224324Z
UID:10000540-1727262000-1727265600@www.historyvictoria.org.au
SUMMARY:CURATOR'S TOUR OF MELBOURNE'S STORIED LANEWAYS WITH DAVID THOMPSON
DESCRIPTION:David Thompson will take you behind the scenes of our current exhibition\, Melbourne’s Storied Laneways which David curated. The exhibition was prompted by the upcoming publication of  The Story of Melbourne’s Lanes: Essential but Unplanned by Weston Bate\, Richard Broome\, Nicole Davis\, Andrew J. May\, Helen Stitt  which will be launched on 3rd October 2024. \nWe all have our favourite Melbourne laneway and curator David Thompson has chosen a handful of lanes which reveal intriguing Melbourne stories. When we think of today’s gussied-up\, tourist-friendly laneways like Guilford Lane and Hosier Lane\, it is hard to imagine that a mere 50 years ago the laneways were workaday places full still of small factories and light industry. \nOther dates available: \n26 June \n28 August \n9 October 
URL:https://www.historyvictoria.org.au/event/curators-tour-of-melbournes-storied-laneways-with-david-thompson-3/
LOCATION:RHSV Gallery Downstairs\, 239 A'Beckett St\, Melbourne\, Victoria\, 3000\, Australia
CATEGORIES:What's On
ATTACH;FMTTYPE=image/jpeg:https://www.historyvictoria.org.au/wp-content/uploads/2024/06/Print-A0-Laneway-poster-image-scaled.jpg
ORGANIZER;CN="Royal Historical Society of Victoria":MAILTO:office@historyvictoria.org.au
END:VEVENT
BEGIN:VEVENT
DTSTART;TZID=Australia/Melbourne:20240926T110000
DTEND;TZID=Australia/Melbourne:20240926T120000
DTSTAMP:20260420T041631
CREATED:20221207T014636Z
LAST-MODIFIED:20240729T044145Z
UID:10000839-1727348400-1727352000@www.historyvictoria.org.au
SUMMARY:CATALOGUING CLINICS 2024
DESCRIPTION:Join Jillian Hiscock\, the RHSV Collections Manager\, each month in this informative and easy-going Zoom forum on all aspects of cataloguing collections for historical societies. \nIn 2024’s first Cataloguing Clinic for the year\, Jillian will talk about collection management\, what you keep or don’t keep\, when you catalogue material as an archive or a collection and any issues around the actual collection. \nJillian has a different topic each month and is happy to be guided by those who attend as to what they would like covered in upcoming clinics. Bring your questions (no matter the topic) – this is an interactive space where questions are encouraged. The RHSV does not endorse any particular cataloguing software – we believe it is horses for courses – and Jillian will talk about issues that impact on cataloguing whether you are using cataloguing cards or software. \nThe one-hour clinics are free and the Zoom log-in below is used every month in 2024\, however\, we do ask you to register each month as this enables Jillian to send you extra material / links etc after each session. \nThe Cataloguing Clinics in 2024 will be held at \n\nThu 22 Feb 11am – 12noon (AEDT)\nThu 28 Mar 11am – 12noon (AEDT)\nThu 2 May 11am – 12noon (AEST) * this is a week later than normal because of Anzac Day\nThu 23 May 11am – 12noon (AEST)\nThu 27 Jun 11am – 12noon (AEST)\nThu 25 Jul 11am – 12noon (AEST)\nThu 22 Aug 11am – 12noon (AEST)\nThu 26 Sep 11am – 12noon (AEST)\nThu 24 Oct 11am – 12noon (AEDT)\nThu 28 Nov 11am – 12noon (AEDT)\n\nPlease download and import the following iCalendar (.ics) files to your calendar system.\nMonthly: https://us02web.zoom.us/meeting/tZYqcO-hqD8uH92SLyLFy8RywYTvMs4EraaZ/ics?icsToken=98tyKuGqqTwsE9KRtByORpwQB4_CM_PwpilbgvoPrzP8LwZKOjHvIdt2JJ9sRP3C \nJoin Zoom Meeting\nhttps://us02web.zoom.us/j/82776964459?pwd=NmNXVVpVSWxTejRpUDBQUnpNaEQxdz09 \nMeeting ID: 827 7696 4459\nPasscode: 142102 \nIf joining by phone: \nOne tap mobile\n+61370182005\,\,82776964459#\,\,\,\,*142102# Australia\n+61731853730\,\,82776964459#\,\,\,\,*142102# Australia \nDial by your location\n• +61 3 7018 2005 Australia\n• +61 7 3185 3730 Australia\n• +61 8 6119 3900 Australia\n• +61 8 7150 1149 Australia\n• +61 2 8015 6011 Australia \nMeeting ID: 827 7696 4459\nPasscode: 142102 \nFind your local number: https://us02web.zoom.us/u/kdh0GPiJW \n 
URL:https://www.historyvictoria.org.au/event/cataloguing-clinics-2023-2023-03-16-2023-04-20-2024-03-21-2024-09-26/
LOCATION:ZOOM\, Join from anywhere in the world
CATEGORIES:What's On
ATTACH;FMTTYPE=image/png:https://www.historyvictoria.org.au/wp-content/uploads/2022/12/Cataloguing-is-the-key.png
ORGANIZER;CN="Royal Historical Society of Victoria":MAILTO:office@historyvictoria.org.au
END:VEVENT
END:VCALENDAR