BEGIN:VCALENDAR
VERSION:2.0
PRODID:-//Royal Historical Society of Victoria - ECPv6.15.12.2//NONSGML v1.0//EN
CALSCALE:GREGORIAN
METHOD:PUBLISH
X-WR-CALNAME:Royal Historical Society of Victoria
X-ORIGINAL-URL:https://www.historyvictoria.org.au
X-WR-CALDESC:Events for Royal Historical Society of Victoria
REFRESH-INTERVAL;VALUE=DURATION:PT1H
X-Robots-Tag:noindex
X-PUBLISHED-TTL:PT1H
BEGIN:VTIMEZONE
TZID:Australia/Melbourne
BEGIN:STANDARD
TZOFFSETFROM:+1100
TZOFFSETTO:+1000
TZNAME:AEST
DTSTART:20180331T160000
END:STANDARD
BEGIN:DAYLIGHT
TZOFFSETFROM:+1000
TZOFFSETTO:+1100
TZNAME:AEDT
DTSTART:20181006T160000
END:DAYLIGHT
BEGIN:STANDARD
TZOFFSETFROM:+1100
TZOFFSETTO:+1000
TZNAME:AEST
DTSTART:20190406T160000
END:STANDARD
BEGIN:DAYLIGHT
TZOFFSETFROM:+1000
TZOFFSETTO:+1100
TZNAME:AEDT
DTSTART:20191005T160000
END:DAYLIGHT
BEGIN:STANDARD
TZOFFSETFROM:+1100
TZOFFSETTO:+1000
TZNAME:AEST
DTSTART:20200404T160000
END:STANDARD
BEGIN:DAYLIGHT
TZOFFSETFROM:+1000
TZOFFSETTO:+1100
TZNAME:AEDT
DTSTART:20201003T160000
END:DAYLIGHT
END:VTIMEZONE
BEGIN:VEVENT
DTSTART;TZID=Australia/Melbourne:20190906T130000
DTEND;TZID=Australia/Melbourne:20190906T160000
DTSTAMP:20260421T054249
CREATED:20190808T013744Z
LAST-MODIFIED:20190905T020247Z
UID:10000381-1567774800-1567785600@www.historyvictoria.org.au
SUMMARY:ALL YOU NEED TO KNOW. MODULE 2: USING CATALOGUING SOFTWARE
DESCRIPTION:The RHSV is offering a series of 6 linked workshops which cover cataloguing and digitisation. This series of workshops starts with basic concepts and builds in complexity. \nWe have spaced the workshops so that participants have time in which to put into practice their new skills before the next workshop. \nSome participants will want to book for the full series of 6 workshops and others will want to choose those individual workshops that are most suitable for them. So\, although the series is designed as a cohesive whole\, the individual workshops also work as stand-alone training sessions. \nAll workshops are limited to 20 participants and will be lead by Sophie Shilling\, our digital expert. They are all to be held at the RHSV: Officers’ Mess Upstairs\, RHSV 239 A’Beckett St\, Melbourne. This room\, unfortunately\,  is only accessible by a staircase – there is no disabled access. \nMODULE 2: USING CATALOGUING SOFTWARE\nFRIDAY 6 SEPTEMBER 1PM – 4PM\nThis workshop is for small organisations that are going to start use cataloguing software. Participants will have the opportunity to create catalogue records using cataloguing software\, and will learn how to move import an existing catalogue from Excel. This workshop is suitable for those who have created catalogue records using Excel and are looking to try some good cataloguing options before committing to one software application. \nMODULE 3: SCANNING FOR BEGINNERS\nFRIDAY 4 OCTOBER 1PM – 4PM\nMODULE 4: DIGITISING BOOKS AND PHOTOGRAPHING OBJECTS\nFRIDAY 1 NOVEMBER 1PM – 4PM\nMODULE 5: LOOKING AFTER DIGITAL FILES\nFRIDAY 22 NOVEMBER 1PM – 4PM\nMODULE 6: MAKING COLLECTIONS ACCESSIBLE\nFRIDAY 13 DECEMBER 1PM – 4PM\nINDIVIDUAL WORKSHOPS: RHSV MEMBERS: $25       NON-RHSV MEMBERS: $35\nQUERIES: +61 3 9326 9288 / OFFICE@HISTORYVICTORIA.ORG.AU\n\nAnd\, finally\, a date-claimer for our first workshop in 2020: \nBORN DIGITAL\nFRIDAY 24 JANUARY 2020 1PM – 4PM\, OFFICERS’ MESS UPSTAIRS\, RHSV 239 A’BECKETT ST\, MELBOURNE\nThis workshop is a stand-alone workshop which will be presented in partnership with AMaGA. It covers Born Digital documents – those documents that only exist in digital format. Although it is not part of our 6 module series it is naturally a good fit as a coda.  So\, this is a date-claimer as bookings for this stand-alone workshop will not open for several months yet. \n  \nEarlier modules in the series:\nMODULE 1: COMPUTER CATALOGUING FOR ABSOLUTE BEGINNERS\nFRIDAY 26 JULY 1PM – 4PM
URL:https://www.historyvictoria.org.au/event/all-you-need-to-know-module-2-using-cataloguing-software/
LOCATION:RHSV ZOOM by Invitation\, Australia
CATEGORIES:What's On,Workshop
ATTACH;FMTTYPE=image/jpeg:https://www.historyvictoria.org.au/wp-content/uploads/2019/07/ShillingSophie.jpg
ORGANIZER;CN="Royal Historical Society of Victoria":MAILTO:office@historyvictoria.org.au
GEO:-37.8107817;144.9562417
END:VEVENT
END:VCALENDAR