BEGIN:VCALENDAR
VERSION:2.0
PRODID:-//Royal Historical Society of Victoria - ECPv6.15.12.2//NONSGML v1.0//EN
CALSCALE:GREGORIAN
METHOD:PUBLISH
X-WR-CALNAME:Royal Historical Society of Victoria
X-ORIGINAL-URL:https://www.historyvictoria.org.au
X-WR-CALDESC:Events for Royal Historical Society of Victoria
REFRESH-INTERVAL;VALUE=DURATION:PT1H
X-Robots-Tag:noindex
X-PUBLISHED-TTL:PT1H
BEGIN:VTIMEZONE
TZID:Australia/Melbourne
BEGIN:STANDARD
TZOFFSETFROM:+1100
TZOFFSETTO:+1000
TZNAME:AEST
DTSTART:20180331T160000
END:STANDARD
BEGIN:DAYLIGHT
TZOFFSETFROM:+1000
TZOFFSETTO:+1100
TZNAME:AEDT
DTSTART:20181006T160000
END:DAYLIGHT
BEGIN:STANDARD
TZOFFSETFROM:+1100
TZOFFSETTO:+1000
TZNAME:AEST
DTSTART:20190406T160000
END:STANDARD
BEGIN:DAYLIGHT
TZOFFSETFROM:+1000
TZOFFSETTO:+1100
TZNAME:AEDT
DTSTART:20191005T160000
END:DAYLIGHT
BEGIN:STANDARD
TZOFFSETFROM:+1100
TZOFFSETTO:+1000
TZNAME:AEST
DTSTART:20200404T160000
END:STANDARD
BEGIN:DAYLIGHT
TZOFFSETFROM:+1000
TZOFFSETTO:+1100
TZNAME:AEDT
DTSTART:20201003T160000
END:DAYLIGHT
END:VTIMEZONE
BEGIN:VEVENT
DTSTART;TZID=Australia/Melbourne:20190912T100000
DTEND;TZID=Australia/Melbourne:20190912T120000
DTSTAMP:20260421T054232
CREATED:20190903T102235Z
LAST-MODIFIED:20190903T102235Z
UID:10000033-1568282400-1568289600@www.historyvictoria.org.au
SUMMARY:Ills\, Pills & Hospitals Bus Tour
DESCRIPTION:As part of the Whitehorse Healthy Heritage Week\, the Box Hill and Surrey Hills Historical Societies are conducting a bus tour of the sites of former and current medical services in the Box Hill/Surrey Hills area.  The tour includes a visit and refreshments at Hethersett\, a former WW1 rehabilitation hospital\, now part of the PLC Burwood campus. \nCost: $20 or $15 for local Historical Society Members. Bookings are essential and should be done via www.trybooking.com/BCREY
URL:https://www.historyvictoria.org.au/event/ills-pills-hospitals-bus-tour/
CATEGORIES:Victorian History Events
ATTACH;FMTTYPE=image/jpeg:https://www.historyvictoria.org.au/wp-content/uploads/2019/08/B0038-–-Heathersett-Presbyterian-Ladies-College-Burwood..jpg
ORGANIZER;CN="Box Hill Historical Society":MAILTO:boxhillhistory@gmail.com
END:VEVENT
BEGIN:VEVENT
DTSTART;VALUE=DATE:20190913
DTEND;VALUE=DATE:20190914
DTSTAMP:20260421T054232
CREATED:20190903T102238Z
LAST-MODIFIED:20190903T102238Z
UID:10000039-1568332800-1568419199@www.historyvictoria.org.au
SUMMARY:Whitehorse Heritage Week Exhibition & Talks
DESCRIPTION:Visit our exhibition\, be entertained and informed by our speakers\, and check out our databases. See historic items loaned by Bolton Clarke (the Royal District Nursing Service)\, Box Hill Hospital\, Red Cross\, St John Ambulance and Kew Historical Society. \nWere any of your family members struck down with influenza in 1919?  Historian Mary Sheehan will talk on the flu pandemic that killed more worldwide than the the 1st World War.  Check out our database of local people who were infected.  Find out about Friendly Societies and the role they played in community life\, and become a life saver by learning CPR.  All this and more!
URL:https://www.historyvictoria.org.au/event/whitehorse-heritage-week-exhibition-talks-2/
LOCATION:Box Hill Town Hall\, lower hall\, 1022 Whitehorse Road\, Box Hill\, Select one\, 3128\, Australia
CATEGORIES:Victorian History Events
ATTACH;FMTTYPE=image/jpeg:https://www.historyvictoria.org.au/wp-content/uploads/2019/08/Heritge-Wk-2019-Friday-13th.jpg
ORGANIZER;CN="Box Hill Historical Society":MAILTO:boxhillhistory@gmail.com
GEO:-37.819205;145.126622
X-APPLE-STRUCTURED-LOCATION;VALUE=URI;X-ADDRESS=Box Hill Town Hall lower hall 1022 Whitehorse Road Box Hill Select one 3128 Australia;X-APPLE-RADIUS=500;X-TITLE=1022 Whitehorse Road:geo:145.126622,-37.819205
END:VEVENT
BEGIN:VEVENT
DTSTART;TZID=Australia/Melbourne:20190913T173000
DTEND;TZID=Australia/Melbourne:20190913T193000
DTSTAMP:20260421T054232
CREATED:20190702T075749Z
LAST-MODIFIED:20190722T221859Z
UID:10000025-1568395800-1568403000@www.historyvictoria.org.au
SUMMARY:RHSV Wine-Tasting
DESCRIPTION:Join us for a very different and very convivial history event. \nEvidence of wine drinking can be dated back 9\,000 years. We certainly like our altered states of consciousness! We won’t be delving back 9\,000 years but both our hosts\, David Dunstan and Ron Leslie\, know their wine and their history and will be guiding us through both. \nThere will be a talk by David and a tasting of six wines organised by Ron\, book-ended with some mood-lightening Prosecco. \nThere will be raffles of quality wines on the night. A Barossa Langmeil The Freedom 1843 (old vine) 2010 Shiraz and a Campbell’s Liqueur Tokay  – the latter is being offered for a free tasting at the conclusion as well. \nDavid Dunstan. David\, an RHSV member\, is a Senior Research Fellow with the School of Philosophical\, Historical and International Studies at Monash University.  He has written on Melbourne\, cricket and wine. \nDavid’s wine articles have appeared in journals\, newspapers and magazines for decades. His books include: Better than Pommard! A History of Wine in Victoria (1994); and A Vision for Wine. A History of the Viticultural Society of Victoria (2013). \nRon Leslie. Ron is a former English and History School teacher (1966-99) and RHSV member. In 1968 he entered the wine industry and became a part-time wine wholesaler and retailer (1973-1992). He worked for Oddbins in London in 1978. \nRon was a judge for thirteen years at the Federation Square Regional Victorian Wine Competition and chief judge for seven years \n 
URL:https://www.historyvictoria.org.au/event/rhsv-wine-tasting/
LOCATION:RHSV\, Gallery Downstairs\, 239 A'Beckett Street\, Melbourne\, VIC\, 3000\, Australia
CATEGORIES:What's On
ATTACH;FMTTYPE=image/jpeg:https://www.historyvictoria.org.au/wp-content/uploads/2019/07/wine.jpg
ORGANIZER;CN="Royal Historical Society of Victoria":MAILTO:office@historyvictoria.org.au
GEO:-37.8107817;144.9562417
X-APPLE-STRUCTURED-LOCATION;VALUE=URI;X-ADDRESS=RHSV Gallery Downstairs 239 A'Beckett Street Melbourne VIC 3000 Australia;X-APPLE-RADIUS=500;X-TITLE=239 A'Beckett Street:geo:144.9562417,-37.8107817
END:VEVENT
BEGIN:VEVENT
DTSTART;VALUE=DATE:20190914
DTEND;VALUE=DATE:20190915
DTSTAMP:20260421T054232
CREATED:20190903T102237Z
LAST-MODIFIED:20190903T102237Z
UID:10000037-1568419200-1568505599@www.historyvictoria.org.au
SUMMARY:Whitehorse Heritage Week Exhibition & Talks
DESCRIPTION:Visit our exhibition\, be entertained and informed by our speakers\, and check out our databases. See historic items loaned by Bolton Clarke (the Royal District Nursing Service)\, Box Hill Hospital\, Red Cross\, St John Ambulance and Kew Historical Society. \nWere any of your family members struck down with an infectious disease in the past? Diphtheria\, scarlet fever\, typhoid fever\, tuberculosis\, polio and meningitis were common diseases last century. Check out our names index of cases reported to the Health Department between 1914–1926. Read some of the district’s health reports\, and letters of complaint by residents about offensive smells\, wandering cows\, lack of a water supply\, and unsatisfactory sanitary arrangements.\nBox Hill
URL:https://www.historyvictoria.org.au/event/whitehorse-heritage-week-exhibition-talks/
LOCATION:Box Hill Town Hall\, lower hall\, 1022 Whitehorse Road\, Box Hill\, Select one\, 3128\, Australia
CATEGORIES:Victorian History Events
ATTACH;FMTTYPE=image/jpeg:https://www.historyvictoria.org.au/wp-content/uploads/2019/08/Heritge-Wk-2019-Sat-14th.jpg
ORGANIZER;CN="Box Hill Historical Society":MAILTO:boxhillhistory@gmail.com
GEO:-37.819205;145.126622
X-APPLE-STRUCTURED-LOCATION;VALUE=URI;X-ADDRESS=Box Hill Town Hall lower hall 1022 Whitehorse Road Box Hill Select one 3128 Australia;X-APPLE-RADIUS=500;X-TITLE=1022 Whitehorse Road:geo:145.126622,-37.819205
END:VEVENT
BEGIN:VEVENT
DTSTART;TZID=Australia/Melbourne:20190914T140000
DTEND;TZID=Australia/Melbourne:20190914T160000
DTSTAMP:20260421T054232
CREATED:20190903T102231Z
LAST-MODIFIED:20190903T102231Z
UID:10000413-1568469600-1568476800@www.historyvictoria.org.au
SUMMARY:Medicos & Misadventures Cemetery Tour
DESCRIPTION:As part of the Whitehorse Heritage Week\, the Box Hill and Surrey Hills Historical Societies are conducting a tour of the Box Hill Cemetery.  Visit the graves of one of the first osteopaths in Australia; learn about a victim of the 1919 flu epidemic; hear about some well-loved doctors and nurses\, and the details of a few deaths by misadventure!\nCost $20 or $15 for local Historical Society Members.\, Bookings are essential and should be done via www.trybooking.com/BCQGN
URL:https://www.historyvictoria.org.au/event/medicos-misadventures-cemetery-tour/
LOCATION:Box Hill Cemetery\, 395 Middleborough Road\, Box Hill\, VIC\, 3128\, Australia
CATEGORIES:Victorian History Events
ATTACH;FMTTYPE=image/jpeg:https://www.historyvictoria.org.au/wp-content/uploads/2019/08/Box-Hill-Cemetery..jpg
ORGANIZER;CN="Box Hill Historical Society":MAILTO:boxhillhistory@gmail.com
END:VEVENT
BEGIN:VEVENT
DTSTART;TZID=Australia/Melbourne:20190914T193000
DTEND;TZID=Australia/Melbourne:20190914T220000
DTSTAMP:20260421T054232
CREATED:20190903T102234Z
LAST-MODIFIED:20190903T102234Z
UID:10000415-1568489400-1568498400@www.historyvictoria.org.au
SUMMARY:Trivia Night – What’s Up Doc?
DESCRIPTION:Test the health of your brain cells and the extent of your trivia knowledge with our quiz master Rev Shane Hubner\, and help raise funds for the digitization of the Box Hill Reporter so all can read it online at Trove\, the National Library’s website.   Team and individual prizes to be won.  This event is part of the Whitehorse Healthy Heritage Week. \nCost:  $20 per person; or book a table of 8.   Please bring your own nibbles and drinks.  Tea/coffee/chips provided.\nBookings essential:  www.trybooking.com/BCRFE
URL:https://www.historyvictoria.org.au/event/trivia-night-whats-up-doc/
LOCATION:St Peter’s Church hall\, 1038 Whitehorse Road\, Box Hill\, Vic\, 3128\, Australia
CATEGORIES:Victorian History Events
ATTACH;FMTTYPE=image/jpeg:https://www.historyvictoria.org.au/wp-content/uploads/2019/08/Trivia-night.jpg
ORGANIZER;CN="Box Hill Historical Society":MAILTO:boxhillhistory@gmail.com
END:VEVENT
BEGIN:VEVENT
DTSTART;TZID=Australia/Melbourne:20190915T140000
DTEND;TZID=Australia/Melbourne:20190915T160000
DTSTAMP:20260421T054232
CREATED:20190903T102236Z
LAST-MODIFIED:20190903T102236Z
UID:10000035-1568556000-1568563200@www.historyvictoria.org.au
SUMMARY:History of Emergency Medicine.
DESCRIPTION:Dr Edward Brentnall OAM joined Box Hill Hospital in 1975 and was a major player in the evolution of emergency medicine following the introduction of Medicare and an increased demand for hospital services.  This talk is part of the Whitehorse Heritage Week activities organised by the Box Hill Historical Society.\nNo booking necessary.
URL:https://www.historyvictoria.org.au/event/history-of-emergency-medicine/
LOCATION:Bert Lewis Room\, first floor\, Box Hill Library\, 1040 Whitehorse Road\, Box Hill\, Select one\, 3128\, Australia
CATEGORIES:Victorian History Events
ATTACH;FMTTYPE=image/jpeg:https://www.historyvictoria.org.au/wp-content/uploads/2019/08/B0089-–-Aerial-view-of-Box-Hill-Hospital-51-Nelson-Rd.-Box-Hill.-1.jpg
ORGANIZER;CN="Box Hill Historical Society":MAILTO:boxhillhistory@gmail.com
GEO:-37.819192;145.127742
X-APPLE-STRUCTURED-LOCATION;VALUE=URI;X-ADDRESS=Bert Lewis Room first floor Box Hill Library 1040 Whitehorse Road Box Hill Select one 3128 Australia;X-APPLE-RADIUS=500;X-TITLE=1040 Whitehorse Road:geo:145.127742,-37.819192
END:VEVENT
BEGIN:VEVENT
DTSTART;TZID=Australia/Melbourne:20190915T143000
DTEND;TZID=Australia/Melbourne:20190915T160000
DTSTAMP:20260421T054232
CREATED:20190506T083900Z
LAST-MODIFIED:20190521T044005Z
UID:10000013-1568557800-1568563200@www.historyvictoria.org.au
SUMMARY:Sunday Talk with the La Trobe Society
DESCRIPTION:CHARLES HOTSON EBDEN : VICTORIA’S FIRST AUDITOR-GENERAL \nSpeaker: Carolyn Brown\, President Black Rock House Inc. \nIncludes afternoon tea.  All welcome. Bookings essentail
URL:https://www.historyvictoria.org.au/event/sunday-talk-with-the-la-trobe-society-2/
LOCATION:Mueller Hall\, Herbarium\, Royal Botanic Gardens\, Birdwood Avenue\, Melbourne\, 3004\, Australia
CATEGORIES:Victorian History Events
ATTACH;FMTTYPE=image/jpeg:https://www.historyvictoria.org.au/wp-content/uploads/2019/05/Charles-Ebden2.-2.jpg
ORGANIZER;CN="LaTrobe Society":MAILTO:talks@latrobesociety.org.au
GEO:-37.8311011;144.9766951
X-APPLE-STRUCTURED-LOCATION;VALUE=URI;X-ADDRESS=Mueller Hall Herbarium Royal Botanic Gardens Birdwood Avenue Melbourne 3004 Australia;X-APPLE-RADIUS=500;X-TITLE=Birdwood Avenue:geo:144.9766951,-37.8311011
END:VEVENT
END:VCALENDAR