BEGIN:VCALENDAR
VERSION:2.0
PRODID:-//Royal Historical Society of Victoria - ECPv6.15.12.2//NONSGML v1.0//EN
CALSCALE:GREGORIAN
METHOD:PUBLISH
X-WR-CALNAME:Royal Historical Society of Victoria
X-ORIGINAL-URL:https://www.historyvictoria.org.au
X-WR-CALDESC:Events for Royal Historical Society of Victoria
REFRESH-INTERVAL;VALUE=DURATION:PT1H
X-Robots-Tag:noindex
X-PUBLISHED-TTL:PT1H
BEGIN:VTIMEZONE
TZID:Australia/Melbourne
BEGIN:STANDARD
TZOFFSETFROM:+1100
TZOFFSETTO:+1000
TZNAME:AEST
DTSTART:20180331T160000
END:STANDARD
BEGIN:DAYLIGHT
TZOFFSETFROM:+1000
TZOFFSETTO:+1100
TZNAME:AEDT
DTSTART:20181006T160000
END:DAYLIGHT
BEGIN:STANDARD
TZOFFSETFROM:+1100
TZOFFSETTO:+1000
TZNAME:AEST
DTSTART:20190406T160000
END:STANDARD
BEGIN:DAYLIGHT
TZOFFSETFROM:+1000
TZOFFSETTO:+1100
TZNAME:AEDT
DTSTART:20191005T160000
END:DAYLIGHT
BEGIN:STANDARD
TZOFFSETFROM:+1100
TZOFFSETTO:+1000
TZNAME:AEST
DTSTART:20200404T160000
END:STANDARD
BEGIN:DAYLIGHT
TZOFFSETFROM:+1000
TZOFFSETTO:+1100
TZNAME:AEDT
DTSTART:20201003T160000
END:DAYLIGHT
END:VTIMEZONE
BEGIN:VEVENT
DTSTART;TZID=Australia/Melbourne:20190924T193000
DTEND;TZID=Australia/Melbourne:20190924T194500
DTSTAMP:20260420T075315
CREATED:20190208T050100Z
LAST-MODIFIED:20190212T230044Z
UID:10000282-1569353400-1569354300@www.historyvictoria.org.au
SUMMARY:Blue Lake: Finding Dudley Flats and the West Melbourne Swamp.
DESCRIPTION:Talk by David Sornig – Blue Lake: Finding Dudley Flats and the West Melbourne Swamp. \nIn Blue Lake\, David Sornig examines how the 8km-square zone to the west of central Melbourne became the city’s blind spot. Once a fertile wetland with a large blue saltwater lagoon\, it passed through various incarnations: from boneyards and rubbish tips; through the Depression-era Dudley Flats shanty town; to the modern-day docks. Through it all\, one thing that has persisted is its uncanny\, liminal quality. \nAs well as being a social history and a psychogeographic contemplation\, Blue Lake is a biography of three specific characters: Elsie Williams\, a Bendigo-born singer of Afro-Caribbean origin; Jack Peacock\, the king of Dudley Flats’ tip-scavenging economy; and Lauder Rogge\, a German hermit who lived for decades with sixty dogs on a stranded ship. By charting the rises and falls in their individual fortunes\, Sornig reveals much about the race and class divides of their times and explores questions about those strange and singular places in the urban fabric where chaos is difficult to contain.
URL:https://www.historyvictoria.org.au/event/blue-lake-finding-dudley-flats-and-the-west-melbourne-swamp/
LOCATION:North Melbourne Library\, 66 Errol Street\, North Melbourne\, VIC\, 3051\, Australia
CATEGORIES:Victorian History Events
ATTACH;FMTTYPE=image/jpeg:https://www.historyvictoria.org.au/wp-content/uploads/2019/02/The-Blue-Lake-by-David-Sornig.jpg
ORGANIZER;CN="Hotham History Project Inc.":MAILTO:info@hothamhistory.org.au
GEO:-37.8035558;144.9497872
X-APPLE-STRUCTURED-LOCATION;VALUE=URI;X-ADDRESS=North Melbourne Library 66 Errol Street North Melbourne VIC 3051 Australia;X-APPLE-RADIUS=500;X-TITLE=66 Errol Street:geo:144.9497872,-37.8035558
END:VEVENT
END:VCALENDAR