BEGIN:VCALENDAR
VERSION:2.0
PRODID:-//Royal Historical Society of Victoria - ECPv6.15.12.2//NONSGML v1.0//EN
CALSCALE:GREGORIAN
METHOD:PUBLISH
X-ORIGINAL-URL:https://www.historyvictoria.org.au
X-WR-CALDESC:Events for Royal Historical Society of Victoria
REFRESH-INTERVAL;VALUE=DURATION:PT1H
X-Robots-Tag:noindex
X-PUBLISHED-TTL:PT1H
BEGIN:VTIMEZONE
TZID:Australia/Melbourne
BEGIN:STANDARD
TZOFFSETFROM:+1100
TZOFFSETTO:+1000
TZNAME:AEST
DTSTART:20190406T160000
END:STANDARD
BEGIN:DAYLIGHT
TZOFFSETFROM:+1000
TZOFFSETTO:+1100
TZNAME:AEDT
DTSTART:20191005T160000
END:DAYLIGHT
BEGIN:STANDARD
TZOFFSETFROM:+1100
TZOFFSETTO:+1000
TZNAME:AEST
DTSTART:20200404T160000
END:STANDARD
BEGIN:DAYLIGHT
TZOFFSETFROM:+1000
TZOFFSETTO:+1100
TZNAME:AEDT
DTSTART:20201003T160000
END:DAYLIGHT
BEGIN:STANDARD
TZOFFSETFROM:+1100
TZOFFSETTO:+1000
TZNAME:AEST
DTSTART:20210403T160000
END:STANDARD
BEGIN:DAYLIGHT
TZOFFSETFROM:+1000
TZOFFSETTO:+1100
TZNAME:AEDT
DTSTART:20211002T160000
END:DAYLIGHT
END:VTIMEZONE
BEGIN:VEVENT
DTSTART;TZID=Australia/Melbourne:20200327T100000
DTEND;TZID=Australia/Melbourne:20200327T110000
DTSTAMP:20260421T021351
CREATED:20200219T003547Z
LAST-MODIFIED:20200317T220525Z
UID:10000562-1585303200-1585306800@www.historyvictoria.org.au
SUMMARY:Gippsland Art Gallery: tour and talk
DESCRIPTION:Please contact the organiser before attending this event in case it has been cancelled. \nEnjoy a guided tour of the Gippsland Art Gallery led by Director\, Simon Gregg\, and hear about the learnings and successes of the 2018 redevelopment of the gallery.\nPresented by AMaGA \nAMaGA members free\nNon-members $10\nBookings: www.amagavic.org.au/events\nor call 03 8341 7344 (also call this number for disability access information / assistance)
URL:https://www.historyvictoria.org.au/event/gippsland-art-gallery-tour-and-talk/
LOCATION:Gippsland Art Gallery\, 70 Foster St\, Sale\, VIC\, 3850\, Australia
CATEGORIES:Victorian History Events
ATTACH;FMTTYPE=image/png:https://www.historyvictoria.org.au/wp-content/uploads/2020/02/AMaGA-logo.png
ORGANIZER;CN="AMaGA":MAILTO:info@amagavic.org.au
END:VEVENT
BEGIN:VEVENT
DTSTART;TZID=Australia/Melbourne:20200327T130000
DTEND;TZID=Australia/Melbourne:20200327T160000
DTSTAMP:20260421T021351
CREATED:20200219T004115Z
LAST-MODIFIED:20200317T220423Z
UID:10000564-1585314000-1585324800@www.historyvictoria.org.au
SUMMARY:Designing  a Travelling Exhibition
DESCRIPTION:Please contact the organiser before attending this event in case it has been cancelled. \nThis AMaGA workshop\, targeted at small museums and volunteers will look at exhibition development\, design principles\, installation and display techniques for exhibitions that are easily transportable and can be displayed in a range of venues. \nAMaGA members $35\nNon-members $40\nBookings: www.amagavic.org.au/events\nor call 03 8341 7344 (also call this number for disability access information / assistance)
URL:https://www.historyvictoria.org.au/event/designing-a-travelling-exhibition/
LOCATION:Bairnsdale Library\, 22 Service St\,\, Bairnsdale\, VIC\, 3875\, Australia
CATEGORIES:Victorian History Events
ATTACH;FMTTYPE=image/png:https://www.historyvictoria.org.au/wp-content/uploads/2020/02/AMaGA-logo-1.png
ORGANIZER;CN="AMaGA":MAILTO:info@amagavic.org.au
END:VEVENT
END:VCALENDAR