BEGIN:VCALENDAR
VERSION:2.0
PRODID:-//Royal Historical Society of Victoria - ECPv6.15.12.2//NONSGML v1.0//EN
CALSCALE:GREGORIAN
METHOD:PUBLISH
X-ORIGINAL-URL:https://www.historyvictoria.org.au
X-WR-CALDESC:Events for Royal Historical Society of Victoria
REFRESH-INTERVAL;VALUE=DURATION:PT1H
X-Robots-Tag:noindex
X-PUBLISHED-TTL:PT1H
BEGIN:VTIMEZONE
TZID:Australia/Melbourne
BEGIN:STANDARD
TZOFFSETFROM:+1100
TZOFFSETTO:+1000
TZNAME:AEST
DTSTART:20190406T160000
END:STANDARD
BEGIN:DAYLIGHT
TZOFFSETFROM:+1000
TZOFFSETTO:+1100
TZNAME:AEDT
DTSTART:20191005T160000
END:DAYLIGHT
BEGIN:STANDARD
TZOFFSETFROM:+1100
TZOFFSETTO:+1000
TZNAME:AEST
DTSTART:20200404T160000
END:STANDARD
BEGIN:DAYLIGHT
TZOFFSETFROM:+1000
TZOFFSETTO:+1100
TZNAME:AEDT
DTSTART:20201003T160000
END:DAYLIGHT
BEGIN:STANDARD
TZOFFSETFROM:+1100
TZOFFSETTO:+1000
TZNAME:AEST
DTSTART:20210403T160000
END:STANDARD
BEGIN:DAYLIGHT
TZOFFSETFROM:+1000
TZOFFSETTO:+1100
TZNAME:AEDT
DTSTART:20211002T160000
END:DAYLIGHT
END:VTIMEZONE
BEGIN:VEVENT
DTSTART;TZID=Australia/Melbourne:20200401T110000
DTEND;TZID=Australia/Melbourne:20200730T150000
DTSTAMP:20260423T180055
CREATED:20200308T091311Z
LAST-MODIFIED:20200415T075127Z
UID:10000084-1585738800-1596121200@www.historyvictoria.org.au
SUMMARY:Our Chinese Community
DESCRIPTION:Please contact the organiser before attending this event in case it has been cancelled. \nOur Chinese Community Exhibition opens daily from 1st April 11am till 3pm at Echuca Historical Society Museum\, 1 Dickson Street Echuca 3564\nThis exhibition tells the story of some of our earliest residents the Chinese. Find out why our first Chinese residents made Echuca home.\nChinese market gardeners arrived in Echuca in April 1865 and by 1892 there were seventeen different Chinese paying rates on land. Others had experience as bankers\, storekeepers and interpreters\, general labourers and even a river boat owner/captain.\nThere were many marriages between white women and Chinese men on the goldfields and then in towns to where the miners moved when the gold failed. Find out about the burning tower.
URL:https://www.historyvictoria.org.au/event/our-chinese-community/
LOCATION:ECHUCA HISTORICAL SCOEITY MUSEUM\, 1 Dickson Street\, Echuca\, victoria\, 3564\, Australia
ATTACH;FMTTYPE=image/jpeg:https://www.historyvictoria.org.au/wp-content/uploads/2020/03/Water-wheel-in-operation.jpg
ORGANIZER;CN="ECHUCA HISTORICAL SOCIETY":MAILTO:eh.soc@bigpond.com
END:VEVENT
BEGIN:VEVENT
DTSTART;TZID=Australia/Melbourne:20200512T173000
DTEND;TZID=Australia/Melbourne:20200512T190000
DTSTAMP:20260423T180055
CREATED:20200310T092940Z
LAST-MODIFIED:20200512T053359Z
UID:10000620-1589304600-1589310000@www.historyvictoria.org.au
SUMMARY:ZOOM History Bookclub: The Maddest Place on Earth
DESCRIPTION:We are delighted that Jill Giese\, the author of he Maddest Place on Earth\, will join our Zoom book club on the 12 May. \nDue to  the COVID-19 pandemic this group will be conducted by ZOOM. Do read the book now (what else do we have to do except read?) so you’ll be ahead of the game when life resumes and we will keep you updated as to when and how the ZOOM meeting can occur. \nOur bookclub usually meets monthly on the 2nd Tuesday of each month from 5:30pm – 7pm at the RHSV. We ponder the big issues and the small over a glass of wine and some cheese but for the forseeable future it will be in your own lounge-room. \n\nGold-fuelled Melbourne was booming\, but dwelling in the fault lines of the proud young colony was an alarming fact – Victoria had the highest rate of insanity in the world. Was it the antipodean sun\, gold mania\, excessive masturbation\, the heady pace of modern life? \nThe true story of colonial Victoria’s quest to cure insanity unfolds through the lives of three English newcomers – a gifted artist\, exiled from his homeland for his madness; an ambitious doctor\, bringing enlightened treatment ideals to his post in charge of the overflowing asylum; and a mysterious undercover journalist\, who sensationally exposed the lunatics’ plight in Melbourne’s press. \nAmid the clamour of fraught endeavours and maddened minds\, the story reveals unexpected hope\, creativity and ennobling humanity – and surprising contemporary relevance as we continue to grapple with this ancient human malady. \nWinner 2018 Victorian Premier’s History Award \nLonglisted 2018 Nib Literary Award \nJill Giese is a clinical psychologist and writer\, whose extensive career in mental health encompasses many years of clinical practice and executive roles in policy and advocacy. \n\nThe following bookclub on Tuesday 9 June will read Mannix by Brenda Niall
URL:https://www.historyvictoria.org.au/event/history-bookclub-the-maddest-place-on-earth/
LOCATION:RHSV\, Gordon Moffatt Room\, 239 A'Beckett St\, Melbourne\, VIC\, 3000\, Australia
CATEGORIES:What's On
ATTACH;FMTTYPE=image/jpeg:https://www.historyvictoria.org.au/wp-content/uploads/2018/10/Maddest-Place-On-Earth-Jill-Giese-416x621.jpg
ORGANIZER;CN="Royal Historical Society of Victoria":MAILTO:office@historyvictoria.org.au
END:VEVENT
BEGIN:VEVENT
DTSTART;TZID=Australia/Melbourne:20200512T180000
DTEND;TZID=Australia/Melbourne:20200512T193000
DTSTAMP:20260423T180055
CREATED:20200204T221905Z
LAST-MODIFIED:20200415T075900Z
UID:10000537-1589306400-1589311800@www.historyvictoria.org.au
SUMMARY:Victoria's Native Vegetation: History\, Heritage\, Politics
DESCRIPTION:Please contact the organiser before attending this event in case it has been cancelled. \nIn recognition of 2020 as the UN International Year of Plant Health\, this History Council of Victoria seminar will illuminate the challenging and contested past\, present and future of Victoria’s native vegetation. \n  \nThis is a free event however bookings should be made through the HCV website. \nProfessional historian Dr Gary Presland\, author of many books about Victoria’s natural and human heritage (including Understanding our natural world: the Field Naturalists Club of Victoria 1880-2015) will speak about the importance of native vegetation in understanding past human activity. \nProfessor Mike Clarke from the Centre for Future Landscapes at La Trobe University will consider the place of fire in the history of Victoria’s vegetation: ‘The Bush will be OK\, it’s evolved to cope with fire…hasn’t it?’. \nDr Lilian Pearce\, a research fellow on the ARC-funded project Owning nature: mapping the contested country of private protected areas and a member of the Landscape Reference Group with the National Trust of Australia (Victoria)\, will consider the changing role of history in contemporary environmental management activities. \nThis seminar contributes to the 2020 Australian Heritage Festival for which the theme is ‘Our Heritage for the Future’. The discussion will be chaired by Professor Alistair Thomson of Monash University.
URL:https://www.historyvictoria.org.au/event/victorias-native-vegetation-history-heritage-politics/
LOCATION:Old Treasury Building\, 20 Spring St\, East Melbourne\, VIC\, 3002\, Australia
ATTACH;FMTTYPE=image/png:https://www.historyvictoria.org.au/wp-content/uploads/2020/02/Old-Treasury-Building.png
ORGANIZER;CN="History Council of Victoria":MAILTO:info@historycouncilvic.org.au
END:VEVENT
BEGIN:VEVENT
DTSTART;VALUE=DATE:20200513
DTEND;VALUE=DATE:20200514
DTSTAMP:20260423T180055
CREATED:20200326T063249Z
LAST-MODIFIED:20200415T080428Z
UID:10000091-1589328000-1589414399@www.historyvictoria.org.au
SUMMARY:TAKE A WALK
DESCRIPTION:If you are close to the city why not do a historical walk in the Flagstaff area? \nWe have two self-guided walks on our website as podcasts. The first walk includes The Gill\, QVM\, St James Old Cathedral and Flagstaff Gardens \nThe second walk includes the block around the RHSV: La Trobe\, Elizabeth\, William and Lonsdale Streets. \nWalking Tour Podcasts
URL:https://www.historyvictoria.org.au/event/take-a-walk/
LOCATION:VIC
CATEGORIES:What's On
ATTACH;FMTTYPE=image/jpeg:https://www.historyvictoria.org.au/wp-content/uploads/2020/03/Royal-Mint-William-St-1892-small.jpg
END:VEVENT
BEGIN:VEVENT
DTSTART;VALUE=DATE:20200513
DTEND;VALUE=DATE:20200514
DTSTAMP:20260423T180055
CREATED:20200326T064452Z
LAST-MODIFIED:20200415T080342Z
UID:10000092-1589328000-1589414399@www.historyvictoria.org.au
SUMMARY:LISTEN TO A PODCAST
DESCRIPTION:We have an extraordinary library of lectures given at the RHSV over many years available on our website. Please download and indulge yourself. \nThere are lectures and talks by Gary Presland\, Simon Ambrose\, Robyn Annear\, Rozzi Bazzani\, Richard Broome\, Judith Brett\, Margaret Bowman\, Marilyn Bowler\, Judith Buckrich\, John Burch and many many more \nImage: Gary Presland \nThis is the link: https://www.historyvictoria.org.au/resources/lecture-podcasts/ \n  \n 
URL:https://www.historyvictoria.org.au/event/listen-to-a-podcast/
LOCATION:VIC
CATEGORIES:What's On
ATTACH;FMTTYPE=image/jpeg:https://www.historyvictoria.org.au/wp-content/uploads/2020/03/reduct_4435-low-res.jpg
END:VEVENT
BEGIN:VEVENT
DTSTART;TZID=Australia/Melbourne:20200514T171500
DTEND;TZID=Australia/Melbourne:20200514T190000
DTSTAMP:20260423T180055
CREATED:20200305T090030Z
LAST-MODIFIED:20200324T010442Z
UID:10000083-1589476500-1589482800@www.historyvictoria.org.au
SUMMARY:Returning our Ancestors
DESCRIPTION:Bookings for this event have been cancelled at the current time due to the ongoing restrictions of COVID-19. We may be rescheduling later in the year. We will keep our members informed as the COVID-19 pandemic unfolds. \nRepatriation of Aboriginal Ancestral Remains is guided by a commitment to return the Ancestors to rest on Country by all involved. \n\nIn this partnership event between the Royal Historical Society of Victoria and the Victorian Aboriginal Heritage Council we will be screening the documentary\, Returning Our Ancestors\, which will be followed by a discussion with Bonnie Chew\, Councillor of the Victorian Aboriginal Heritage Council and our President\, Richard Broome. \n\n\n\n\n\n“As part of the process of colonisation\, Aboriginal peoples’ burial places were desecrated in the name of curiosity\, science and research. Aboriginal Ancestors were stolen from their land where they had been placed with care and ceremony\, to be housed in metal boxes as specimens or ornaments of curiosity by individuals\, families and institutions. \nThe 1980’s saw Aboriginal Ancestors start to return to rest on Country. But the journey is by no means complete and there are many more of our Ancestors still to come home. We can all walk together and help in this essential work.” \nReturning our Ancestors is a documentary\, four years in the making\, which shares some of this difficult but healing journey. Produced by the Victorian Aboriginal Heritage Council\, with the contribution of stories from Victorian Traditional Owners and others. Returning our Ancestors is unlike any film on this topic: current\, relevant\, intimate\, emotional and extraordinary. It is a call to action\, to help Traditional Owners return their Ancestors to Country. The project raises awareness of the sensitivities around connection to Country\, the importance of reporting and returning Ancestors and the reasons Ancestors are not in the custodianship of their Traditional Owners. \nReturning our Ancestors shows us what we can do as a Victorian community to work together for the rightful and respectful return and protection of Aboriginal Ancestors\, now and into the future. \nAs with all RHSV events\, we provide refreshments from 5:15pm till just before 6pm when we move upstairs for the screening and conversation.  \n\nBonnie Chew is a proud Wadawurrung (Wathaurung) woman with many years’ experience in Aboriginal Cultural Heritage and Education. \nBonnie regularly gives lectures promoting cultural heritage management and has sound knowledge of the Aboriginal Heritage Act 2006. In April 2012\, she had the opportunity to be a representative for Ballarat at the World Historical Cities Conference in Vietnam\, where she was able to share her knowledge and network with people of many other nations on a range of heritage issues. \nRecently\, Bonnie held the role of Cultural Heritage Coordinator for a Registered Aboriginal Party (Wathaurung Aboriginal Corporation). In that role\, Bonnie worked closely with the community\, archaeologists\, developers\, anthropologists\, ecologists and government authorities\, on approximately 126 projects to achieve the best outcomes regarding the preservation of cultural heritage on her traditional Country. \nRichard Broome is one of Australia’s leading historians. While he has written on a wide range of subjects\, ‘it is his work on Indigenous history with its emphasis on Aboriginal agency and capacity for negotiation and self-empowerment that has been most influential. His book Aboriginal Australians: A History Since 1788\, first published in 1982\, is now in its 5th fully revised edition and has sold over 60\,000 copies in that time. It is the most widely read work in this field. He has also written Aboriginal Victorians: A History since 1800\, published in 2005 and the most comprehensive account available of Aboriginal history since white settlement in this state. \nHis history of the Victorian Aborigines Advancement League\, Fighting Hard\, was published in 2015 to document the fight against policies of assimilation and the struggle for civil rights. In the clarity and accessibility of his writing\, his great capacity for story-telling and his meticulous research\, Richard has opened up the history of Aboriginal Australians to a much wider public readership than academic historians.’ \n\nOur affiliated historical societies are encouraged to host their own screenings of this important documentary\, Returning our Ancestors\, for their members and friends. It is\, no doubt\, very pertinent to some historical societies which hold Ancestral Remains in their collections.  \nThe Victorian Aboriginal Heritage Council wants as many Victorians to see the documentary as possible so they can be aware of the issues and challenges the documentary raises. The film is relevant to your communities\, to people in your area\, to the Traditional Owners of Country in your region and should be seen\, discussed and shared as widely as possible so action can be taken. The invitation is for you to run an event\, and for Victorian Aboriginal Heritage Council to support it\, but also to keep the call to action ‘alive’ through other events and communications you undertake during 2020 and beyond. The call to action and communication about the message should exist and grow beyond one event or one screening of the documentary.
URL:https://www.historyvictoria.org.au/event/returning-our-ancestors/
LOCATION:RHSV ZOOM by Invitation\, Australia
ATTACH;FMTTYPE=image/jpeg:https://www.historyvictoria.org.au/wp-content/uploads/2020/03/Bonnie-and-Richard.jpg
ORGANIZER;CN="Royal Historical Society of Victoria":MAILTO:office@historyvictoria.org.au
GEO:-37.8107817;144.9562417
END:VEVENT
END:VCALENDAR