BEGIN:VCALENDAR
VERSION:2.0
PRODID:-//Royal Historical Society of Victoria - ECPv6.15.12.2//NONSGML v1.0//EN
CALSCALE:GREGORIAN
METHOD:PUBLISH
X-ORIGINAL-URL:https://www.historyvictoria.org.au
X-WR-CALDESC:Events for Royal Historical Society of Victoria
REFRESH-INTERVAL;VALUE=DURATION:PT1H
X-Robots-Tag:noindex
X-PUBLISHED-TTL:PT1H
BEGIN:VTIMEZONE
TZID:Australia/Melbourne
BEGIN:STANDARD
TZOFFSETFROM:+1100
TZOFFSETTO:+1000
TZNAME:AEST
DTSTART:20190406T160000
END:STANDARD
BEGIN:DAYLIGHT
TZOFFSETFROM:+1000
TZOFFSETTO:+1100
TZNAME:AEDT
DTSTART:20191005T160000
END:DAYLIGHT
BEGIN:STANDARD
TZOFFSETFROM:+1100
TZOFFSETTO:+1000
TZNAME:AEST
DTSTART:20200404T160000
END:STANDARD
BEGIN:DAYLIGHT
TZOFFSETFROM:+1000
TZOFFSETTO:+1100
TZNAME:AEDT
DTSTART:20201003T160000
END:DAYLIGHT
BEGIN:STANDARD
TZOFFSETFROM:+1100
TZOFFSETTO:+1000
TZNAME:AEST
DTSTART:20210403T160000
END:STANDARD
BEGIN:DAYLIGHT
TZOFFSETFROM:+1000
TZOFFSETTO:+1100
TZNAME:AEDT
DTSTART:20211002T160000
END:DAYLIGHT
END:VTIMEZONE
BEGIN:VEVENT
DTSTART;TZID=Australia/Melbourne:20201026T170000
DTEND;TZID=Australia/Melbourne:20201026T180000
DTSTAMP:20260425T015032
CREATED:20201015T010240Z
LAST-MODIFIED:20201026T021642Z
UID:10000114-1603731600-1603735200@www.historyvictoria.org.au
SUMMARY:Using technology to bring life to stories from the past
DESCRIPTION:Shortlisted for this year’s Victorian Community History Awards\, Misadventure in Little Lon is an AR Game that promises to shake up how we interact with History! \nBased on a true crime in Melbourne’s notorious red-light district in 1910\, Misadventure In Little Lon is the debut game in the series and the world’s first augmented reality true crime mobile game. \nTo celebrate History Month\, the team behind the game will hold a panel event so join the team discussing the story\, characters and development process behind Misadventure In Little Lon. The panel will delve into how augmented reality can enhance other historical stories/precincts and appeal to a broader audience. \n\nCarly Godden (chair) – writer\, historian\, podcaster\nEmma Ramsay – Game developer\, producer\nAndy Yong – Game developer\, artist\nMichael Shelford – consultant\, writer\, historian\nJenny Samms – descendent of central characters Maud & Ernest Gunter\n\n  \nZoom log-in details for this event : \nMonday 26 Oct @ 5pm AEDT \nhttps://us02web.zoom.us/j/89985230077?pwd=RDFFM3k2Ymh0ZUZaamFhbjlSNmVjQT09 \nMeeting ID: 899 8523 0077\nPasscode: 975748
URL:https://www.historyvictoria.org.au/event/using-technology-to-bring-to-life-stories-from-the-past/
LOCATION:ZOOM\, Join from anywhere in the world
CATEGORIES:What's On
ATTACH;FMTTYPE=image/jpeg:https://www.historyvictoria.org.au/wp-content/uploads/2020/10/20190430_140929-scaled.jpg
ORGANIZER;CN="Royal Historical Society of Victoria":MAILTO:office@historyvictoria.org.au
END:VEVENT
BEGIN:VEVENT
DTSTART;TZID=Australia/Melbourne:20201027T093000
DTEND;TZID=Australia/Melbourne:20201027T103000
DTSTAMP:20260425T015032
CREATED:20201011T031641Z
LAST-MODIFIED:20201013T003252Z
UID:10000110-1603791000-1603794600@www.historyvictoria.org.au
SUMMARY:Zoom events clinic
DESCRIPTION:This session is for people new to Zoom who’d like to know how to set up events (including AGMs) in Zoom \nRosemary Cameron will cover: \n\nsetting up the event\nrecording the event\nscreen sharing\nusing polls (very useful for AGMs)\nsending out invitations\n\nLike our cataloguing clinics – this is a relaxed format where questions and discussion are encouraged. \nPrinted material will be emailed out to all participants. \nZoom details: \nJoin Zoom Meeting\nhttps://us02web.zoom.us/j/86175726174?pwd=bHFOQ3NqWHFFSkROcnpKYjZ6U29EUT09 \nMeeting ID: 861 7572 6174\nPasscode: 018456
URL:https://www.historyvictoria.org.au/event/zoom-events-clinic/
LOCATION:ZOOM\, Join from anywhere in the world
CATEGORIES:What's On
ATTACH;FMTTYPE=image/png:https://www.historyvictoria.org.au/wp-content/uploads/2020/10/Zoom.png
ORGANIZER;CN="Royal Historical Society of Victoria":MAILTO:office@historyvictoria.org.au
END:VEVENT
BEGIN:VEVENT
DTSTART;TZID=Australia/Melbourne:20201027T100000
DTEND;TZID=Australia/Melbourne:20201027T150000
DTSTAMP:20260425T015032
CREATED:20200312T034434Z
LAST-MODIFIED:20200415T075323Z
UID:10000626-1603792800-1603810800@www.historyvictoria.org.au
SUMMARY:Workshop: Victorian Collections
DESCRIPTION:This hands-on workshop will guide you through the process of cataloguing on the Victorian Collections system and cover basic principles of collection management\, object handling and digitisation.
URL:https://www.historyvictoria.org.au/event/workshop-victorian-collections-2/
LOCATION:Melbourne Museum\, 11 Nicholson St\, Carlton\, VIC\, 3053\, Australia
ATTACH;FMTTYPE=image/png:https://www.historyvictoria.org.au/wp-content/uploads/2020/03/download-6.png
ORGANIZER;CN="AMaGA":MAILTO:info@amagavic.org.au
END:VEVENT
BEGIN:VEVENT
DTSTART;TZID=Australia/Melbourne:20201027T171500
DTEND;TZID=Australia/Melbourne:20201027T183000
DTSTAMP:20260425T015032
CREATED:20201011T091854Z
LAST-MODIFIED:20201011T092045Z
UID:10000112-1603818900-1603823400@www.historyvictoria.org.au
SUMMARY:Emerging Historians 2020
DESCRIPTION:To celebrate History Month join your friends and colleagues from the Professional Historians Association and RHSV to listen to emerging historians present on their research topics. \nThis is always a fascinating event as we get insights into a wide variety of history research from across the state. \nChaired by Andrew Lemon. \n  \nRSVP: https://phavic.wildapricot.org/event-4005885
URL:https://www.historyvictoria.org.au/event/emerging-historians-2020/
LOCATION:ZOOM\, Join from anywhere in the world
CATEGORIES:What's On
ATTACH;FMTTYPE=image/jpeg:https://www.historyvictoria.org.au/wp-content/uploads/2020/10/Emerging-historians-flyer.jpg
ORGANIZER;CN="Royal Historical Society of Victoria":MAILTO:office@historyvictoria.org.au
END:VEVENT
BEGIN:VEVENT
DTSTART;TZID=Australia/Melbourne:20201029T110000
DTEND;TZID=Australia/Melbourne:20201029T120000
DTSTAMP:20260425T015032
CREATED:20200928T115839Z
LAST-MODIFIED:20201002T103212Z
UID:10000100-1603969200-1603972800@www.historyvictoria.org.au
SUMMARY:Cataloguing Clinic: Thu 29 Oct
DESCRIPTION:Calling all historical societies across Victoria. \nOur next Zoom online Cataloguing Clinic during History Month is the 29th of October. \nJillian Hiscock\, our RHSV Collections Manager and a very experienced reference librarian\, will be available through Zoom to answer any queries you might have about cataloguing – or\, indeed any other aspect of your collection. \nIf you want\, you can email Jillian beforehand with your questions as sometimes it is easier to put something in writing.  Or just connect up on the day and pose your question then and give Jillian a surprise! (collections@historyvictoria.org.au) \nJillian will open with some basic cataloguing tips and we’ll take it from there. \nThese clinics are monthly – so keep an eye out for the one in November. Your participation is entirely up to you  – you might want to just listen in for the hour and learn from other’s questions – or maybe you have the answers too. It will be a place for historical societies to get together and talk cataloguing and collections. \nThese events are free. If you are not familiar with Zoom please\, well before the event starts\, click on one of the links below and familiarise yourself with the process. \n2. Thu 29th Oct\, 2020 11:00 Eastern Australian Daylight Time \nJoin Zoom Meeting \nhttps://us02web.zoom.us/j/84764828806?pwd=MndndWpISHRnV29ac0c3aFRZeHFqUT09 \nMeeting ID: 847 6482 8806\nPasscode: 163042
URL:https://www.historyvictoria.org.au/event/cataloguing-clinic-thu-1-oct/
LOCATION:ZOOM\, Join from anywhere in the world
CATEGORIES:What's On
ATTACH;FMTTYPE=image/jpeg:https://www.historyvictoria.org.au/wp-content/uploads/2020/07/IMG_6960.jpg
ORGANIZER;CN="Royal Historical Society of Victoria":MAILTO:office@historyvictoria.org.au
END:VEVENT
END:VCALENDAR