BEGIN:VCALENDAR
VERSION:2.0
PRODID:-//Royal Historical Society of Victoria - ECPv6.15.12.2//NONSGML v1.0//EN
CALSCALE:GREGORIAN
METHOD:PUBLISH
X-WR-CALNAME:Royal Historical Society of Victoria
X-ORIGINAL-URL:https://www.historyvictoria.org.au
X-WR-CALDESC:Events for Royal Historical Society of Victoria
REFRESH-INTERVAL;VALUE=DURATION:PT1H
X-Robots-Tag:noindex
X-PUBLISHED-TTL:PT1H
BEGIN:VTIMEZONE
TZID:Australia/Melbourne
BEGIN:STANDARD
TZOFFSETFROM:+1100
TZOFFSETTO:+1000
TZNAME:AEST
DTSTART:20200404T160000
END:STANDARD
BEGIN:DAYLIGHT
TZOFFSETFROM:+1000
TZOFFSETTO:+1100
TZNAME:AEDT
DTSTART:20201003T160000
END:DAYLIGHT
BEGIN:STANDARD
TZOFFSETFROM:+1100
TZOFFSETTO:+1000
TZNAME:AEST
DTSTART:20210403T160000
END:STANDARD
BEGIN:DAYLIGHT
TZOFFSETFROM:+1000
TZOFFSETTO:+1100
TZNAME:AEDT
DTSTART:20211002T160000
END:DAYLIGHT
BEGIN:STANDARD
TZOFFSETFROM:+1100
TZOFFSETTO:+1000
TZNAME:AEST
DTSTART:20220402T160000
END:STANDARD
BEGIN:DAYLIGHT
TZOFFSETFROM:+1000
TZOFFSETTO:+1100
TZNAME:AEDT
DTSTART:20221001T160000
END:DAYLIGHT
BEGIN:STANDARD
TZOFFSETFROM:+1100
TZOFFSETTO:+1000
TZNAME:AEST
DTSTART:20230401T160000
END:STANDARD
BEGIN:DAYLIGHT
TZOFFSETFROM:+1000
TZOFFSETTO:+1100
TZNAME:AEDT
DTSTART:20230930T160000
END:DAYLIGHT
END:VTIMEZONE
BEGIN:VEVENT
DTSTART;VALUE=DATE:20210312
DTEND;VALUE=DATE:20220318
DTSTAMP:20260421T154057
CREATED:20210304T060612Z
LAST-MODIFIED:20220125T092035Z
UID:10000125-1615507200-1647561599@www.historyvictoria.org.au
SUMMARY:Tales from the MacRobertson International Air Races
DESCRIPTION:To celebrate Victoria’s centenary in 1934\, Macpherson Robertson sponsored a great air race from England to Melbourne. There were originally 20 entrants of which only 12 arrived in Melbourne. The British winning entrants took a whisker under 3 days\, the last plane to arrive took some 4 months.\nThe Royal Historical Society of Victoria is mounting an exhibition which takes a close look at the entrants in the races (there were two races run concurrently – a speed race and a handicap race) including the Dutch entrant\, the Uiver. The Uiver (stork) is the most famous of the entries even though it came second. It was forced by bad weather to make an emergency landing in Albury where the locals used the town’s lights to spell A L B U R Y in morse code and then created a make-shift aerodrome on the racetrack using car headlights to con the plane down. Macpherson Robertson always maintained that the Uiver\, a commercial KLM flight that went to Batavia in the Dutch East Indies with a little extra hop to Australia\, came closest to his ideal as Robertson sponsored the race to encourage commercial flight not speed. \nThe first aircraft to finish was the De Havilland DH-88 Comet Grosvenor House\, a specially- designed racing aircraft flown by Charles W. A. Scott and Tom Campbell Black. Both pilots were much feted in Melbourne. Photos show a handsome pair being mobbed by thousands. The adulation didn’t last\, Campbell Black was killed by a plane propeller just 2 years later and Scott suicided. \nHarold Brook was the pilot with the least experience – barely the minimum 100 hours. He had a paying passenger\, the 28-year old Miss Ella Lay\, who knitted her way to Australia. She was a pilot herself and the only woman to travel the full race distance from Mildenhall in England to Melbourne. Ella stayed on in Melbourne\, took up nursing\, and in 1941 enlisted in the Australian Army Nursing Service in the very building where the exhibition is being held (the former Army Medical Corps Drill Hall). Ella died in 2005\, aged 99. The Times printed her obituary. \nThe race generated many more fabulous stories including C. J. “Jimmy” Melrose who at 21 was the youngest pilot and one of the few Australians. Jimmy was funded by his mother and his De Havilland Puss Moth was christened My Hildergarde in her honour. He too died\, too young\, just two years later in a plane crash. \nThe last plane to arrive was piloted by Ray Parer and Godfrey Hemsworth and funded by New Guinea miners. Another entry was owned by well-known Australian pioneer aviator Horrie Miller who at the time was managing director of MacRobertson-Miller Aviation. He engaged James Wood and Don Bennett to fly the race however they came unstuck in Aleppo. As Bennett wrote in his autobiography\, they “… hit the ground with a fair wallop and the undercarriage collapsed; down she went and the nose went in as we whipped over on our back. I was in the tail of the machine and my velocity from one end of the cabin to the other was remarkable. Even more astounding was the degree of “concertina-ing” of my body which took place at the far end.” That was the end of their race.
URL:https://www.historyvictoria.org.au/event/tales-from-the-macrobertson-international-air-races/
LOCATION:RHSV\, Gallery Downstairs\, 239 A'Beckett Street\, Melbourne\, VIC\, 3000\, Australia
CATEGORIES:Exhibition
ATTACH;FMTTYPE=image/jpeg:https://www.historyvictoria.org.au/wp-content/uploads/2021/02/Race-outside-poster.jpg
ORGANIZER;CN="Royal Historical Society of Victoria":MAILTO:office@historyvictoria.org.au
GEO:-37.8107817;144.9562417
X-APPLE-STRUCTURED-LOCATION;VALUE=URI;X-ADDRESS=RHSV Gallery Downstairs 239 A'Beckett Street Melbourne VIC 3000 Australia;X-APPLE-RADIUS=500;X-TITLE=239 A'Beckett Street:geo:144.9562417,-37.8107817
END:VEVENT
BEGIN:VEVENT
DTSTART;TZID=Australia/Melbourne:20210316T173000
DTEND;TZID=Australia/Melbourne:20210316T190000
DTSTAMP:20260421T154057
CREATED:20210111T053636Z
LAST-MODIFIED:20210216T011638Z
UID:10000648-1615915800-1615921200@www.historyvictoria.org.au
SUMMARY:Vera Deakin in War and Peace
DESCRIPTION:The RHSV’s major lecture during Women’s History Month (March). The lecture will start at 6pm and we will be serving drinks prior to that from 5:30pm. \nThe daughter of Prime Minister Alfred Deakin\, Vera Deakin studied music in the Habsburg Empire on the eve of the Great War. Driven by British imperial fervour on her return to Australia\, she bypassed the government’s restrictions on women’s participation in the war effort by serving with the fledgling Australian Red Cross. Aged only 23 in 1915\, she became the founding secretary of the Australian Red Cross Wounded & Missing Enquiry Bureau in Cairo and later London. Narrowly avoiding replacement by a man\, she showed outstanding leadership and was appointed OBE. In peace she married an adventurous military pilot\, Captain Thomas White\, later a cabinet minister. When he was knighted\, she became Lady White. Vera led several humanitarian causes but her lodestar remained the Red Cross. \nCarole Woods OAM is a Fellow and honorary secretary of the RHSV. A former librarian\, bibliographer and freelance historian\, she has been a longtime advocate for community history. She chaired the judges’ panel of the Victorian Community History Awards for seven years and curated two exhibitions at the RHSV.  Her books include Beechworth. A Titan’s Field and the recently published Vera Deakin and the Red Cross. \nChaired by Dr Judith Smart AM.
URL:https://www.historyvictoria.org.au/event/vera-deakin-in-war-and-peace/
LOCATION:RHSV\, Gallery Downstairs\, 239 A'Beckett Street\, Melbourne\, VIC\, 3000\, Australia
CATEGORIES:What's On
ATTACH;FMTTYPE=image/jpeg:https://www.historyvictoria.org.au/wp-content/uploads/2018/10/vera-deakin-red-cross-uniform.jpg
ORGANIZER;CN="Royal Historical Society of Victoria":MAILTO:office@historyvictoria.org.au
GEO:-37.8107817;144.9562417
X-APPLE-STRUCTURED-LOCATION;VALUE=URI;X-ADDRESS=RHSV Gallery Downstairs 239 A'Beckett Street Melbourne VIC 3000 Australia;X-APPLE-RADIUS=500;X-TITLE=239 A'Beckett Street:geo:144.9562417,-37.8107817
END:VEVENT
BEGIN:VEVENT
DTSTART;TZID=Australia/Melbourne:20210319T170000
DTEND;TZID=Australia/Melbourne:20210319T183000
DTSTAMP:20260421T154057
CREATED:20210309T034532Z
LAST-MODIFIED:20210309T034532Z
UID:10000126-1616173200-1616178600@www.historyvictoria.org.au
SUMMARY:LAUNCH OF RHSV WOMEN'S DICTIONARY OF BIOGRAPHY
DESCRIPTION:Do join us to celebrate the launch of this major research project and its online presence.  \nThere is a perception that from its beginnings in 1909\, the Royal Historical Society has been the domain of men. Yet from the outset women have played an active role in the Society in many capacities – as members\, councillors\, fellows\, employees\, volunteers\, patrons\, benefactors. \nThe RHSV Women’s Biographical Dictionary has been established to honour the contributions made by women to the Society\, particularly those who do not appear in the Australian Dictionary of Biography  or Women Australia or The Australian Women’s Register.  Where the life of a featured woman has been documented elsewhere\, her entry will highlight her contribution to the RHSV. \nThis project has been instigated by the indefatigable Cheryl Griffin. Cheryl has done all the research thus far but we are hoping that there are more people out there interested in adding to the dictionary. Katrin Strohl\, President of Coburg Historical Society and talented graphic designer\, has designed the individual pages. Come to the launch and learn how you too can be involved. The dictionary will always be a work-in-progress.  \nPhotos above are (L to R): Mary Webster\, Louise Bakewell and Mary Lyell.
URL:https://www.historyvictoria.org.au/event/launch-of-rhsv-womens-dictionary-of-biography/
LOCATION:RHSV\, Gallery Downstairs\, 239 A'Beckett Street\, Melbourne\, VIC\, 3000\, Australia
CATEGORIES:What's On
ATTACH;FMTTYPE=image/png:https://www.historyvictoria.org.au/wp-content/uploads/2021/03/WBD-Instagram.png
ORGANIZER;CN="Royal Historical Society of Victoria":MAILTO:office@historyvictoria.org.au
GEO:-37.8107817;144.9562417
X-APPLE-STRUCTURED-LOCATION;VALUE=URI;X-ADDRESS=RHSV Gallery Downstairs 239 A'Beckett Street Melbourne VIC 3000 Australia;X-APPLE-RADIUS=500;X-TITLE=239 A'Beckett Street:geo:144.9562417,-37.8107817
END:VEVENT
END:VCALENDAR