BEGIN:VCALENDAR
VERSION:2.0
PRODID:-//Royal Historical Society of Victoria - ECPv6.15.12.2//NONSGML v1.0//EN
CALSCALE:GREGORIAN
METHOD:PUBLISH
X-WR-CALNAME:Royal Historical Society of Victoria
X-ORIGINAL-URL:https://www.historyvictoria.org.au
X-WR-CALDESC:Events for Royal Historical Society of Victoria
REFRESH-INTERVAL;VALUE=DURATION:PT1H
X-Robots-Tag:noindex
X-PUBLISHED-TTL:PT1H
BEGIN:VTIMEZONE
TZID:Australia/Melbourne
BEGIN:STANDARD
TZOFFSETFROM:+1100
TZOFFSETTO:+1000
TZNAME:AEST
DTSTART:20200404T160000
END:STANDARD
BEGIN:DAYLIGHT
TZOFFSETFROM:+1000
TZOFFSETTO:+1100
TZNAME:AEDT
DTSTART:20201003T160000
END:DAYLIGHT
BEGIN:STANDARD
TZOFFSETFROM:+1100
TZOFFSETTO:+1000
TZNAME:AEST
DTSTART:20210403T160000
END:STANDARD
BEGIN:DAYLIGHT
TZOFFSETFROM:+1000
TZOFFSETTO:+1100
TZNAME:AEDT
DTSTART:20211002T160000
END:DAYLIGHT
BEGIN:STANDARD
TZOFFSETFROM:+1100
TZOFFSETTO:+1000
TZNAME:AEST
DTSTART:20220402T160000
END:STANDARD
BEGIN:DAYLIGHT
TZOFFSETFROM:+1000
TZOFFSETTO:+1100
TZNAME:AEDT
DTSTART:20221001T160000
END:DAYLIGHT
BEGIN:STANDARD
TZOFFSETFROM:+1100
TZOFFSETTO:+1000
TZNAME:AEST
DTSTART:20230401T160000
END:STANDARD
BEGIN:DAYLIGHT
TZOFFSETFROM:+1000
TZOFFSETTO:+1100
TZNAME:AEDT
DTSTART:20230930T160000
END:DAYLIGHT
END:VTIMEZONE
BEGIN:VEVENT
DTSTART;VALUE=DATE:20210312
DTEND;VALUE=DATE:20220318
DTSTAMP:20260421T091524
CREATED:20210304T060612Z
LAST-MODIFIED:20220125T092035Z
UID:10000125-1615507200-1647561599@www.historyvictoria.org.au
SUMMARY:Tales from the MacRobertson International Air Races
DESCRIPTION:To celebrate Victoria’s centenary in 1934\, Macpherson Robertson sponsored a great air race from England to Melbourne. There were originally 20 entrants of which only 12 arrived in Melbourne. The British winning entrants took a whisker under 3 days\, the last plane to arrive took some 4 months.\nThe Royal Historical Society of Victoria is mounting an exhibition which takes a close look at the entrants in the races (there were two races run concurrently – a speed race and a handicap race) including the Dutch entrant\, the Uiver. The Uiver (stork) is the most famous of the entries even though it came second. It was forced by bad weather to make an emergency landing in Albury where the locals used the town’s lights to spell A L B U R Y in morse code and then created a make-shift aerodrome on the racetrack using car headlights to con the plane down. Macpherson Robertson always maintained that the Uiver\, a commercial KLM flight that went to Batavia in the Dutch East Indies with a little extra hop to Australia\, came closest to his ideal as Robertson sponsored the race to encourage commercial flight not speed. \nThe first aircraft to finish was the De Havilland DH-88 Comet Grosvenor House\, a specially- designed racing aircraft flown by Charles W. A. Scott and Tom Campbell Black. Both pilots were much feted in Melbourne. Photos show a handsome pair being mobbed by thousands. The adulation didn’t last\, Campbell Black was killed by a plane propeller just 2 years later and Scott suicided. \nHarold Brook was the pilot with the least experience – barely the minimum 100 hours. He had a paying passenger\, the 28-year old Miss Ella Lay\, who knitted her way to Australia. She was a pilot herself and the only woman to travel the full race distance from Mildenhall in England to Melbourne. Ella stayed on in Melbourne\, took up nursing\, and in 1941 enlisted in the Australian Army Nursing Service in the very building where the exhibition is being held (the former Army Medical Corps Drill Hall). Ella died in 2005\, aged 99. The Times printed her obituary. \nThe race generated many more fabulous stories including C. J. “Jimmy” Melrose who at 21 was the youngest pilot and one of the few Australians. Jimmy was funded by his mother and his De Havilland Puss Moth was christened My Hildergarde in her honour. He too died\, too young\, just two years later in a plane crash. \nThe last plane to arrive was piloted by Ray Parer and Godfrey Hemsworth and funded by New Guinea miners. Another entry was owned by well-known Australian pioneer aviator Horrie Miller who at the time was managing director of MacRobertson-Miller Aviation. He engaged James Wood and Don Bennett to fly the race however they came unstuck in Aleppo. As Bennett wrote in his autobiography\, they “… hit the ground with a fair wallop and the undercarriage collapsed; down she went and the nose went in as we whipped over on our back. I was in the tail of the machine and my velocity from one end of the cabin to the other was remarkable. Even more astounding was the degree of “concertina-ing” of my body which took place at the far end.” That was the end of their race.
URL:https://www.historyvictoria.org.au/event/tales-from-the-macrobertson-international-air-races/
LOCATION:RHSV\, Gallery Downstairs\, 239 A'Beckett Street\, Melbourne\, VIC\, 3000\, Australia
CATEGORIES:Exhibition
ATTACH;FMTTYPE=image/jpeg:https://www.historyvictoria.org.au/wp-content/uploads/2021/02/Race-outside-poster.jpg
ORGANIZER;CN="Royal Historical Society of Victoria":MAILTO:office@historyvictoria.org.au
GEO:-37.8107817;144.9562417
X-APPLE-STRUCTURED-LOCATION;VALUE=URI;X-ADDRESS=RHSV Gallery Downstairs 239 A'Beckett Street Melbourne VIC 3000 Australia;X-APPLE-RADIUS=500;X-TITLE=239 A'Beckett Street:geo:144.9562417,-37.8107817
END:VEVENT
BEGIN:VEVENT
DTSTART;TZID=Australia/Melbourne:20210324T103000
DTEND;TZID=Australia/Melbourne:20210324T120000
DTSTAMP:20260421T091524
CREATED:20200211T103850Z
LAST-MODIFIED:20210201T064247Z
UID:10000556-1616581800-1616587200@www.historyvictoria.org.au
SUMMARY:Launch of the Jessie Webb Society
DESCRIPTION:  \nRichard Broome AM\, President\, Councillors and Foundation Committee members \nof the Royal Historical Society of Victoria \ninvite you to the launch of \n\nwith special guests\, Annette Webb\, \nGary Presland and Bill Russell. \n  \nCreate history. Make a bequest.  \nOver our considerable lifetime the RHSV has received many bequests which allow us to make great leaps forward. They allow us to tackle the larger projects and these have included restoring significant original artworks\, digitising our unique Pioneer Register\, indexing the on-line Victorian Historical Journals\, funding prizes and\, just as vital if more prosaic\, building our new website and funding our database. \nThe trouble with bequests is that we never get the opportunity to say a heart-felt thank you. So we have established the Jessie Webb Society to honour those who have made a bequest to the RHSV whilst they are still with us. \nJoin the Council and Foundation to raise a toast to Jessie Webb and to celebrate our new society and those who have become its founding members. \n  \nWho was Jessie Webb (1880-1944)? \nIn 1909 Jessie Stobo Watson Webb was not only an original Historical Society of Victoria member (membership No. 30) and the first woman but she also provided rooms in Block Arcade in which our first meeting was held. She was a passionate historian and a true individual who lived by her own rules. Graduating from the University of Melbourne with first class honours in history and political economy\, she became the third woman appointed to the University teaching staff when she joined its history department as an evening lecturer in 1908. \nShe and her friends exemplified the ‘new woman’: intelligent\, emancipated women who led rich intellectual lives. She spent 7 months trekking from Cape Town to Cairo in 1922 and thence to Athens where she spent eight months at the British School of Archaeology which had a huge influence on the rest of her life. She was an alternate Delegate to the League of Nations\, travelled through outback Australia in 1926 in a Baby Austin 7 and returned to Europe\, North Africa and the Middle East in 1936 for one last historical tour. She was a founding member of many academic clubs and associations and lived her life in the pursuit of education and adventure. \nWe want to honour Jessie’s legacy\, and her impact on the RHSV which is still felt over 100 years later\, by naming our bequest society after her. The Jessie Webb Society\, like its namesake\, is there to make a difference and its members understand the power of a legacy. \n“My bequest through the Jessie Webb Society is made in acknowledgement of the enduring value and worth there is in the study of history. I am pleased to provide support for a discipline that gave me not only many years of enjoyable employment\, but also enduring friendships\, and opportunities to contribute to an understanding of our past. \nI am proud to think that\, through the Jessie Webb Society\, my achievements can be of benefit in the future. That\, surely\, is what ‘history’ is about.” \nDr Gary Presland FRHSV \n“As Victoria grows\, we mustn’t forget our heritage in records\, stories\, and historical places and figures. If we neglect the past\, we lose our soul; history provides the links and stories that give our communities meaning. The RHSV has been collecting\, saving and publishing those stories for over 110 years.  \n“By leaving a bequest to the RHSV\, I know I’m helping secure their vital work in protecting Victoria’s heritage\, and the stories and histories of its communities\, into another century.\nJessie Webb loved the past but saw to the future: We can all contribute to the goal of preserving the stories and records of Victoria’s history long into the future. One of the best ways is to leave a bequest to the RHSV Foundation\, which is what I intend to do.\n \n“The success of the RHSV depends upon the generosity of people like you and me. If we value the past\, we must protect its future.” \nProfessor E W Russell \n  \nWe invite you to become a member of the Jessie Webb Society\nThe RHSV established the Jessie Webb Society to honour those who bequeath funds to us. If you make the decision to leave the RHSV a bequest in your will there is no obligation to notify us\, however\, we’d love it if you did so that we can acknowledge your generous gift now and invite you to enjoy the Jessie Webb Society and its benefits. \nFind Out More \nPhotograph of Jessie Webb courtesy of Annette Webb. Taken in her early twenties\, just a few years before she joined the Historical Society of Victoria. 
URL:https://www.historyvictoria.org.au/event/launch-of-the-jessie-webb-society/
LOCATION:RHSV\, Gallery Downstairs\, 239 A'Beckett Street\, Melbourne\, VIC\, 3000\, Australia
CATEGORIES:What's On
ATTACH;FMTTYPE=image/jpeg:https://www.historyvictoria.org.au/wp-content/uploads/2020/02/JESSIE-WEBB-WHEN-YOUNG-cropped.jpg
ORGANIZER;CN="Royal Historical Society of Victoria":MAILTO:office@historyvictoria.org.au
GEO:-37.8107817;144.9562417
X-APPLE-STRUCTURED-LOCATION;VALUE=URI;X-ADDRESS=RHSV Gallery Downstairs 239 A'Beckett Street Melbourne VIC 3000 Australia;X-APPLE-RADIUS=500;X-TITLE=239 A'Beckett Street:geo:144.9562417,-37.8107817
END:VEVENT
BEGIN:VEVENT
DTSTART;TZID=Australia/Melbourne:20210324T180000
DTEND;TZID=Australia/Melbourne:20210324T190000
DTSTAMP:20260421T091524
CREATED:20210111T065920Z
LAST-MODIFIED:20210118T225814Z
UID:10000651-1616608800-1616612400@www.historyvictoria.org.au
SUMMARY:CORAGULAC HOUSE: book launch
DESCRIPTION:Author and historian\, Jennifer F. O’Donnell\, invites RHSV members and friends to celebrate the launch of her latest history\, Coragulac House.  Drinks and light refreshments will be served in the RHSV’s Gallery Downstairs. \nIn the early 1870s\, George Pringle Robertson built “Coragulac”\, nestled in the shelter of Red Rock near Colac. Built of bluestone quarried on the land and designed by architects Davidson and Henderson\, it was an unexceptional mansion with a wide verandah and lacking a tower\, so common in the Western District. \nRobertson’s father William was a member of Batman’s expeditions to Port Phillip and started buying land near Colac in 1840 (at the time of his death in 1874 it is estimated he held 40\,000 acres). Three generations of the Robertson family lived in the area their story being integral to the history and the development of Colac. \nAndrew Spence Chirnside bought “Coragulac” in 1901 and set about radically restructuring the building\, tearing down external walls\, realigning the roof\, raising the billiard room roof\, re-locating the front door and adding a new wing. The architect\, Guyon Purchas\, added conical turrets on each side; internally the house now featured two magnificent fireplaces\, carved by Robert Prenzel\, along with a host of other Art Nouveau additions. In 1903\, Chirnside employed his friend\, Ballarat architect William Braznor\, to erect vast new stables. \nThomas Baker bought “Coragulac” in 1912. A prominent Colac estate agent\, among his other activities\, he was a strong believer in sub-division and opened up the area to farming. He died in “Coragulac” in 1924 and the mansion fell into neglect. \nIn 1932 Len Ralton\, a potato and onion grower\, bought the property and set about rescuing the mansion. Ralton was a founding figure in the Apex movement; when war came\, he answered the call. In 1947 “Coragulac” was put on the market and finally bought by the Matthews brothers in 1950. Members of the Matthews family would own “Coragulac” for next 64 years. Today\, with new owners Gary and Sharyn Gibson\, “Coragulac” is being restored to earlier glory. \nJenny O’Donnell\, historian and photographer\, has carved out a niche writing histories of Victoria’s splendid homesteads and mansions. Her earlier books include Thornebridge: the Bridge Hotel at Murchison\, Noorilim: from wool to wine\, Narrapumelap: a pastoral history\, Ravenswood\, Kawarau and\, most recently\, St Kilda Families. Memorials in Christ Church. 
URL:https://www.historyvictoria.org.au/event/coragulac-house-book-launch/
LOCATION:RHSV\, Gallery Downstairs\, 239 A'Beckett Street\, Melbourne\, VIC\, 3000\, Australia
CATEGORIES:Victorian History Events
ATTACH;FMTTYPE=image/jpeg:https://www.historyvictoria.org.au/wp-content/uploads/2021/01/Coragulac-small.jpg
ORGANIZER;CN="Royal Historical Society of Victoria":MAILTO:office@historyvictoria.org.au
GEO:-37.8107817;144.9562417
X-APPLE-STRUCTURED-LOCATION;VALUE=URI;X-ADDRESS=RHSV Gallery Downstairs 239 A'Beckett Street Melbourne VIC 3000 Australia;X-APPLE-RADIUS=500;X-TITLE=239 A'Beckett Street:geo:144.9562417,-37.8107817
END:VEVENT
BEGIN:VEVENT
DTSTART;VALUE=DATE:20210325
DTEND;VALUE=DATE:20210329
DTSTAMP:20260421T091524
CREATED:20210313T060741Z
LAST-MODIFIED:20210313T061213Z
UID:10000665-1616630400-1616975999@www.historyvictoria.org.au
SUMMARY:Aviation Cultures Mk.V
DESCRIPTION:This inclusive\, online conference will bring together researchers\, academics\, curators and practitioners to share their knowledge and ideas of flight\, and its place in history and society. \nThe conference will address how aviation has changed the world\, and how the world has changed aviation. \nKeynote addresses will include: \n\nWing Commander Marija ‘Maz’ Jovanovich\, RAAF test pilot;\nMadelyn Shaw\, Smithsonian Institution;\nMarnix ‘Max’ Groot\, airport historian and editor of AirportHistory.org;\nDr Leigh Edmonds\, civil aviation historian;\nFrank Quinlan\, Federation Executive Director of the Royal Flying Doctor Service.\n\nRegistration for the conference is $25\, with $10 concession rate for full-time students\, COVID-affected and the unwaged. \nGet your tickets now \nClick here \nYou can follow Aviation Cultures Mk.V on Twitter (@AvCulturesConf) and on Facebook or visit the Aviation Cultures website (aviationcultures.org) for regular updates. \nWe look forward to meeting you at this online event which will include live video chat\, panel discussions\, digital papers\, presentations\, videos and entertainment by harmony quartet Company B. \nWant to know more? Check out the Aviation Cultures Mk.V flyer and program schedule. \nBest wishes\,\nJames Kightly\, Phil Vabre and the conference team \n 
URL:https://www.historyvictoria.org.au/event/aviation-cultures-mk-v/
CATEGORIES:Victorian History Events
ATTACH;FMTTYPE=image/jpeg:https://www.historyvictoria.org.au/wp-content/uploads/2021/03/Aviation-culture.jpg
END:VEVENT
BEGIN:VEVENT
DTSTART;TZID=Australia/Melbourne:20210325T110000
DTEND;TZID=Australia/Melbourne:20210325T120000
DTSTAMP:20260421T091524
CREATED:20210310T222006Z
LAST-MODIFIED:20210310T222608Z
UID:10000127-1616670000-1616673600@www.historyvictoria.org.au
SUMMARY:Cataloguing Clinic via Zoom with Jillian Hiscock
DESCRIPTION:Jillian Hiscock\, the RHSV Collections Manager\, started these cataloguing clinics during the early days of COVID and they suit Zoom very well. The clinics run for an hour from 11am – 12noon on the 4th Thursday of each month. It is a relaxed gathering of people who are finding their way through the intricacies of cataloguing material in historical collections which\, as we all know\, fall between a library and a museum with sometimes a bit of art gallery thrown in.  With our membership scattered across Australia please remember that this is Melbourne time – AEDT in summer and AEST in winter. \nJillian always prepares some material on some specific queries but questions are encouraged and\, remember\, a problem shared is a problem halved. The clinics are conversational in format rather than a seminar. If you are new to cataloguing or an old hand you will find plenty to interest you in these sessions. Jillian often has material which is emailed out to attendees after the clinic. \nThe clinics for 2021 will be held (all via Zoom) on these dates: \n\nFeb 25\, 2021 11AM\nMar 25\, 2021 11AM\nApr 22\, 2021 11AM\nMay 27\, 2021 11AM\nJun 24\, 2021 11AM\nJul 22\, 2021 11AM\nAug 26\, 2021 11AM\nSep 23\, 2021 11AM\nOct 28\, 2021 11AM\nNov 25\, 2021 11AM\n\n  \nPlease download and import the following iCalendar (.ics) files to your calendar system.\nMonthly: https://us02web.zoom.us/meeting/tZItd-yhqz8oHtJgxpBNwW8ieSnpwIWjKaLP/ics?icsToken=98tyKuGurjsvE9GRsh2BRpwAAoigZ_PwmClBgrd3mwf1IQ5EVVv_M9FMIqVWJ9L7 \nJoin Zoom Meeting (this is applicable to all 10 clinics during 2021)\nhttps://us02web.zoom.us/j/86005954246?pwd=eUsyRlRxTE92bU5Wb3IzVjVIcmxKdz09 \nMeeting ID: 860 0595 4246\nPasscode: 217816
URL:https://www.historyvictoria.org.au/event/cataloguing-clinic-via-zoom-with-jillian-hiscock/
LOCATION:ZOOM\, Join from anywhere in the world
ATTACH;FMTTYPE=image/jpeg:https://www.historyvictoria.org.au/wp-content/uploads/2021/03/IMG_6960.jpg
ORGANIZER;CN="Royal Historical Society of Victoria":MAILTO:office@historyvictoria.org.au
END:VEVENT
BEGIN:VEVENT
DTSTART;TZID=Australia/Melbourne:20210328T140000
DTEND;TZID=Australia/Melbourne:20210328T170000
DTSTAMP:20260421T091524
CREATED:20210202T220746Z
LAST-MODIFIED:20210202T220746Z
UID:10000655-1616940000-1616950800@www.historyvictoria.org.au
SUMMARY:Walking tour: Colonial Mayors of Prahran
DESCRIPTION:Come and listen to the fascinating stories of the lives of those Colonial Prahran Mayors on a walking tour of St Kilda Cemetery led by Claire Barton. \nSt Kilda Cemetery\, Dandenong Road\, St Kilda East\nMelway 58 F9 \nCost: $15 includes refreshments afterwards \nMeet at the Main Gates at 2.00pm \nBookings required. Ring Gabriel on 0451831102\,\nemail gabrielhermes@live.com or go to http://foskc.org \nWe go in all weathers\, rain\, hail or shine so please wear\nsuitable clothing and footwear and bring an umbrella. \nPhoto caption: Prahran Council meeting 1901. Photograph: Yeoman and Company.\nCourtesy Stonnington History Centre.
URL:https://www.historyvictoria.org.au/event/walking-tour-colonial-mayors-of-prahran/
LOCATION:St Kilda Cemetery\, Dandenong Road & Hotham Street\, St Kilda East\, Vic\, Australia
CATEGORIES:Victorian History Events
ATTACH;FMTTYPE=image/jpeg:https://www.historyvictoria.org.au/wp-content/uploads/2021/02/FSKC.jpg
ORGANIZER;CN="Friends of St Kilda Cemetery":MAILTO:info@foskc.org
GEO:-37.859299;145.00114
X-APPLE-STRUCTURED-LOCATION;VALUE=URI;X-ADDRESS=St Kilda Cemetery Dandenong Road & Hotham Street St Kilda East Vic Australia;X-APPLE-RADIUS=500;X-TITLE=Dandenong Road & Hotham Street:geo:145.00114,-37.859299
END:VEVENT
END:VCALENDAR