BEGIN:VCALENDAR
VERSION:2.0
PRODID:-//Royal Historical Society of Victoria - ECPv6.15.12.2//NONSGML v1.0//EN
CALSCALE:GREGORIAN
METHOD:PUBLISH
X-WR-CALNAME:Royal Historical Society of Victoria
X-ORIGINAL-URL:https://www.historyvictoria.org.au
X-WR-CALDESC:Events for Royal Historical Society of Victoria
REFRESH-INTERVAL;VALUE=DURATION:PT1H
X-Robots-Tag:noindex
X-PUBLISHED-TTL:PT1H
BEGIN:VTIMEZONE
TZID:Australia/Melbourne
BEGIN:STANDARD
TZOFFSETFROM:+1100
TZOFFSETTO:+1000
TZNAME:AEST
DTSTART:20200404T160000
END:STANDARD
BEGIN:DAYLIGHT
TZOFFSETFROM:+1000
TZOFFSETTO:+1100
TZNAME:AEDT
DTSTART:20201003T160000
END:DAYLIGHT
BEGIN:STANDARD
TZOFFSETFROM:+1100
TZOFFSETTO:+1000
TZNAME:AEST
DTSTART:20210403T160000
END:STANDARD
BEGIN:DAYLIGHT
TZOFFSETFROM:+1000
TZOFFSETTO:+1100
TZNAME:AEDT
DTSTART:20211002T160000
END:DAYLIGHT
BEGIN:STANDARD
TZOFFSETFROM:+1100
TZOFFSETTO:+1000
TZNAME:AEST
DTSTART:20220402T160000
END:STANDARD
BEGIN:DAYLIGHT
TZOFFSETFROM:+1000
TZOFFSETTO:+1100
TZNAME:AEDT
DTSTART:20221001T160000
END:DAYLIGHT
BEGIN:STANDARD
TZOFFSETFROM:+1100
TZOFFSETTO:+1000
TZNAME:AEST
DTSTART:20230401T160000
END:STANDARD
BEGIN:DAYLIGHT
TZOFFSETFROM:+1000
TZOFFSETTO:+1100
TZNAME:AEDT
DTSTART:20230930T160000
END:DAYLIGHT
END:VTIMEZONE
BEGIN:VEVENT
DTSTART;VALUE=DATE:20210312
DTEND;VALUE=DATE:20220318
DTSTAMP:20260420T105807
CREATED:20210304T060612Z
LAST-MODIFIED:20220125T092035Z
UID:10000125-1615507200-1647561599@www.historyvictoria.org.au
SUMMARY:Tales from the MacRobertson International Air Races
DESCRIPTION:To celebrate Victoria’s centenary in 1934\, Macpherson Robertson sponsored a great air race from England to Melbourne. There were originally 20 entrants of which only 12 arrived in Melbourne. The British winning entrants took a whisker under 3 days\, the last plane to arrive took some 4 months.\nThe Royal Historical Society of Victoria is mounting an exhibition which takes a close look at the entrants in the races (there were two races run concurrently – a speed race and a handicap race) including the Dutch entrant\, the Uiver. The Uiver (stork) is the most famous of the entries even though it came second. It was forced by bad weather to make an emergency landing in Albury where the locals used the town’s lights to spell A L B U R Y in morse code and then created a make-shift aerodrome on the racetrack using car headlights to con the plane down. Macpherson Robertson always maintained that the Uiver\, a commercial KLM flight that went to Batavia in the Dutch East Indies with a little extra hop to Australia\, came closest to his ideal as Robertson sponsored the race to encourage commercial flight not speed. \nThe first aircraft to finish was the De Havilland DH-88 Comet Grosvenor House\, a specially- designed racing aircraft flown by Charles W. A. Scott and Tom Campbell Black. Both pilots were much feted in Melbourne. Photos show a handsome pair being mobbed by thousands. The adulation didn’t last\, Campbell Black was killed by a plane propeller just 2 years later and Scott suicided. \nHarold Brook was the pilot with the least experience – barely the minimum 100 hours. He had a paying passenger\, the 28-year old Miss Ella Lay\, who knitted her way to Australia. She was a pilot herself and the only woman to travel the full race distance from Mildenhall in England to Melbourne. Ella stayed on in Melbourne\, took up nursing\, and in 1941 enlisted in the Australian Army Nursing Service in the very building where the exhibition is being held (the former Army Medical Corps Drill Hall). Ella died in 2005\, aged 99. The Times printed her obituary. \nThe race generated many more fabulous stories including C. J. “Jimmy” Melrose who at 21 was the youngest pilot and one of the few Australians. Jimmy was funded by his mother and his De Havilland Puss Moth was christened My Hildergarde in her honour. He too died\, too young\, just two years later in a plane crash. \nThe last plane to arrive was piloted by Ray Parer and Godfrey Hemsworth and funded by New Guinea miners. Another entry was owned by well-known Australian pioneer aviator Horrie Miller who at the time was managing director of MacRobertson-Miller Aviation. He engaged James Wood and Don Bennett to fly the race however they came unstuck in Aleppo. As Bennett wrote in his autobiography\, they “… hit the ground with a fair wallop and the undercarriage collapsed; down she went and the nose went in as we whipped over on our back. I was in the tail of the machine and my velocity from one end of the cabin to the other was remarkable. Even more astounding was the degree of “concertina-ing” of my body which took place at the far end.” That was the end of their race.
URL:https://www.historyvictoria.org.au/event/tales-from-the-macrobertson-international-air-races/
LOCATION:RHSV\, Gallery Downstairs\, 239 A'Beckett Street\, Melbourne\, VIC\, 3000\, Australia
CATEGORIES:Exhibition
ATTACH;FMTTYPE=image/jpeg:https://www.historyvictoria.org.au/wp-content/uploads/2021/02/Race-outside-poster.jpg
ORGANIZER;CN="Royal Historical Society of Victoria":MAILTO:office@historyvictoria.org.au
GEO:-37.8107817;144.9562417
X-APPLE-STRUCTURED-LOCATION;VALUE=URI;X-ADDRESS=RHSV Gallery Downstairs 239 A'Beckett Street Melbourne VIC 3000 Australia;X-APPLE-RADIUS=500;X-TITLE=239 A'Beckett Street:geo:144.9562417,-37.8107817
END:VEVENT
BEGIN:VEVENT
DTSTART;TZID=Australia/Melbourne:20210525T183000
DTEND;TZID=Australia/Melbourne:20210525T213000
DTSTAMP:20260420T105807
CREATED:20210316T052142Z
LAST-MODIFIED:20210413T070830Z
UID:10000666-1621967400-1621978200@www.historyvictoria.org.au
SUMMARY:Early Melbourne Suburbs joint GSV & RHSV seminar by Zoom
DESCRIPTION:Essendon and Malvern and the Development of Melbourne’s Tram System: A Zoom Seminar\nThe GSV and RHSV are jointly conducting a seminar exploring the development of the suburbs of Essendon and Malvern together with the history of Melbourne’s extensive tram system. \nWarren Doubleday\, the Manager of the Melbourne Tram Museum collection\, will speak on the establishment of Melbourne’s tram system including the Malvern and Essendon lines. He will also provide information on researching tramway records at PROV and on the Tram Museum website. \nSteve Stefanopoulos\, local historian with the Malvern Historical Society and archivist\, and Hayden Williams from the Essendon Historical Society\, will talk about the development of their suburbs from approximately 1850 to the early 20th century. Their presentations will highlight the experience\, skills and records available at their societies that will assist you to research local and family history in the areas. \nThere will be time for questions following each presentation. \nThe seminar is open to members of the GSV and RHSV only up to a maximum of 45 members from each Society. Bookings are required.
URL:https://www.historyvictoria.org.au/event/early-melbourne-suburbs-joint-gsv-rhsv-seminar-by-zoom/
LOCATION:ZOOM\, Join from anywhere in the world
CATEGORIES:What's On
ATTACH;FMTTYPE=image/jpeg:https://www.historyvictoria.org.au/wp-content/uploads/2021/03/EarlyMelbSuburbsSeminar_PosterImage_v2.1.jpg
ORGANIZER;CN="Royal Historical Society of Victoria":MAILTO:office@historyvictoria.org.au
END:VEVENT
BEGIN:VEVENT
DTSTART;TZID=Australia/Melbourne:20210525T184500
DTEND;TZID=Australia/Melbourne:20210525T203000
DTSTAMP:20260420T105807
CREATED:20210509T234502Z
LAST-MODIFIED:20210510T002800Z
UID:10000215-1621968300-1621974600@www.historyvictoria.org.au
SUMMARY:Pre-European Aboriginal Culture in the Camberwell Area
DESCRIPTION:Pre-European Aboriginal culture in the Camberwell area a presentation via zoom by Dr Gary Presland \nDr Gary Presland studied history at LaTrobe University and archaeology at the University of London. For the past forty years his major research interests have been in the Aboriginal history and natural history of the Melbourne area.\nAt the time Europeans settled in the area of Camberwell\, it was part of the estate of the Wurundjeri willam clan of the Kulin Nation. Dr Presland will detail who these people were\, the many ways in which they were connected and related to other clans within the Kulin\, and how they made a living. \nTuesday 25 May 2021 \n6.45pm for 7pm \nPlease book – the zoom link will be sent after booking \nPhone George Fernando 9885 9927 or enquires@chs.org.au
URL:https://www.historyvictoria.org.au/event/pre-european-aboriginal-culture-in-the-camberwell-area/
LOCATION:ZOOM\, Join from anywhere in the world
CATEGORIES:Local History,Victorian History Events
ATTACH;FMTTYPE=image/png:https://www.historyvictoria.org.au/wp-content/uploads/2021/05/Presland.png
ORGANIZER;CN="Camberwell Historical Society":MAILTO:enquiries@chs.org.au
END:VEVENT
BEGIN:VEVENT
DTSTART;TZID=Australia/Melbourne:20210526T173000
DTEND;TZID=Australia/Melbourne:20210526T193000
DTSTAMP:20260420T105807
CREATED:20210504T230154Z
LAST-MODIFIED:20210504T230154Z
UID:10000214-1622050200-1622057400@www.historyvictoria.org.au
SUMMARY:FRIENDS OF LA TROBE’S COTTAGE ANNUAL LECTURE
DESCRIPTION:C J La Trobe: Jolimont plantsman\nGuest Speaker: Helen Botham \nGarden history researcher\, author of La Trobe’s Jolimont: a walk round my garden\, and coordinator La Trobe’s Cottage management team \nThis presentation will explore how Charles La Trobe’s school days and his travel experiences as a young adult fostered his interest in the natural world which led him to seek out the plants of Port Phillip and to create a beautiful garden at Jolimont. The talk includes a pictorial tour around La Trobe’s Jolimont garden\, noting his plant choices. \nAdmission: $25.00 including refreshments \nBookings Essential by Wednesday 19 May \n———————————————————————————————————————————— \nBookings and payment: \n\nElectronic\n\nOnline – https://www.latrobesociety.org.au/friends-of-la-trobes-cottage-annual-lecture-2\nEmail – treasurer@latrobesociety.org.au – (add name of those attending)\n\n\n\nEFT to BSB 033-018\, Account No.149584 (Please put your name on the EFT) \n✂ ——————————————————————————————————————————– \n\nPost – to The Treasurer\, La Trobe Society\, PO Box 65\, Port Melbourne\, Victoria 3207\n\nNames of those attending: ___________________________________________________ \n  \nRemit a cheque payable to ‘The C J La Trobe Society Inc.’
URL:https://www.historyvictoria.org.au/event/friends-of-la-trobes-cottage-annual-lecture-2/
LOCATION:RHSV\, Gallery Downstairs\, 239 A'Beckett Street\, Melbourne\, VIC\, 3000\, Australia
CATEGORIES:Victorian History Events
ATTACH;FMTTYPE=image/jpeg:https://www.historyvictoria.org.au/wp-content/uploads/2021/05/C-J-La-Trobe-Society-Logo.jpg
ORGANIZER;CN="C J La Trobe Society":MAILTO:treasurer@latrobesociety.org.au
GEO:-37.8107817;144.9562417
X-APPLE-STRUCTURED-LOCATION;VALUE=URI;X-ADDRESS=RHSV Gallery Downstairs 239 A'Beckett Street Melbourne VIC 3000 Australia;X-APPLE-RADIUS=500;X-TITLE=239 A'Beckett Street:geo:144.9562417,-37.8107817
END:VEVENT
BEGIN:VEVENT
DTSTART;TZID=Australia/Melbourne:20210526T193000
DTEND;TZID=Australia/Melbourne:20210526T210000
DTSTAMP:20260420T105807
CREATED:20210511T061537Z
LAST-MODIFIED:20210525T073601Z
UID:10000670-1622057400-1622062800@www.historyvictoria.org.au
SUMMARY:From sanatoria to urban bushland: An environmental history of Melbourne’s former sites of tuberculosis treatment.
DESCRIPTION:A talk by Environmental Historian\, Rebecca Le Get.\nRebecca Le Get is an independent scholar and environmental historian. She is\ninterested in how tuberculosis and its treatment has influenced the\ndevelopment of green spaces and bushland reserves in suburban Melbourne.\nWere it not for these forests being selected for healthcare\, it is uncertain if\nthese areas of bushland would have persisted into the present.
URL:https://www.historyvictoria.org.au/event/from-sanatoria-to-urban-bushland-an-environmental-history-of-melbournes-former-sites-of-tuberculosis-treatment/
LOCATION:Join via Zoom
CATEGORIES:Victorian History Events
ATTACH;FMTTYPE=image/png:https://www.historyvictoria.org.au/wp-content/uploads/2021/05/Mt-Macedon-1899.png
ORGANIZER;CN="Glen Eira Historical Society":MAILTO:gehs@optusnet.com.au
GEO:-37.8800269;145.0233007
END:VEVENT
BEGIN:VEVENT
DTSTART;TZID=Australia/Melbourne:20210527T110000
DTEND;TZID=Australia/Melbourne:20210527T120000
DTSTAMP:20260420T105807
CREATED:20210310T223416Z
LAST-MODIFIED:20210505T034840Z
UID:10000658-1622113200-1622116800@www.historyvictoria.org.au
SUMMARY:Cataloguing Clinic via Zoom with Jillian Hiscock
DESCRIPTION:At the 27 May Clinic\, Jillian will revisit the process of book cataloguing\, both published and unpublished material. What is the information that should be captured and what is the nice-to-add extras that can be useful. \nJillian Hiscock\, the RHSV Collections Manager\, started these cataloguing clinics during the early days of COVID and they suit Zoom very well. The clinics run for an hour from 11am – 12noon on the 4th Thursday of each month. It is a relaxed gathering of people who are finding their way through the intricacies of cataloguing material in historical collections which\, as we all know\, fall between a library and a museum with sometimes a bit of art gallery thrown in.  With our membership scattered across Australia please remember that this is Melbourne time – AEDT in summer and AEST in winter. \nJillian always prepares some material on some specific queries but questions are encouraged and\, remember\, a problem shared is a problem halved. The clinics are conversational in format rather than a seminar. If you are new to cataloguing or an old hand you will find plenty to interest you in these sessions. Jillian often has material which is emailed out to attendees after the clinic. \nThe remaining clinics for 2021 will be held (all via Zoom) on these dates: \n\nMay 27\, 2021 11AM\nJun 24\, 2021 11AM\nJul 22\, 2021 11AM\nAug 26\, 2021 11AM\nSep 23\, 2021 11AM\nOct 28\, 2021 11AM\nNov 25\, 2021 11AM\n\n  \nPlease download and import the following iCalendar (.ics) files to your calendar system.\nMonthly: https://us02web.zoom.us/meeting/tZItd-yhqz8oHtJgxpBNwW8ieSnpwIWjKaLP/ics?icsToken=98tyKuGurjsvE9GRsh2BRpwAAoigZ_PwmClBgrd3mwf1IQ5EVVv_M9FMIqVWJ9L7 \nJoin Zoom Meeting (this is applicable to all 10 clinics during 2021)\nhttps://us02web.zoom.us/j/86005954246?pwd=eUsyRlRxTE92bU5Wb3IzVjVIcmxKdz09 \nMeeting ID: 860 0595 4246\nPasscode: 217816
URL:https://www.historyvictoria.org.au/event/cataloguing-clinic-via-zoom-with-jillian-hiscock-3/
LOCATION:ZOOM\, Join from anywhere in the world
CATEGORIES:What's On
ATTACH;FMTTYPE=image/jpeg:https://www.historyvictoria.org.au/wp-content/uploads/2021/03/IMG_6960.jpg
ORGANIZER;CN="Royal Historical Society of Victoria":MAILTO:office@historyvictoria.org.au
END:VEVENT
END:VCALENDAR