BEGIN:VCALENDAR
VERSION:2.0
PRODID:-//Royal Historical Society of Victoria - ECPv6.15.12.2//NONSGML v1.0//EN
CALSCALE:GREGORIAN
METHOD:PUBLISH
X-WR-CALNAME:Royal Historical Society of Victoria
X-ORIGINAL-URL:https://www.historyvictoria.org.au
X-WR-CALDESC:Events for Royal Historical Society of Victoria
REFRESH-INTERVAL;VALUE=DURATION:PT1H
X-Robots-Tag:noindex
X-PUBLISHED-TTL:PT1H
BEGIN:VTIMEZONE
TZID:Australia/Melbourne
BEGIN:STANDARD
TZOFFSETFROM:+1100
TZOFFSETTO:+1000
TZNAME:AEST
DTSTART:20200404T160000
END:STANDARD
BEGIN:DAYLIGHT
TZOFFSETFROM:+1000
TZOFFSETTO:+1100
TZNAME:AEDT
DTSTART:20201003T160000
END:DAYLIGHT
BEGIN:STANDARD
TZOFFSETFROM:+1100
TZOFFSETTO:+1000
TZNAME:AEST
DTSTART:20210403T160000
END:STANDARD
BEGIN:DAYLIGHT
TZOFFSETFROM:+1000
TZOFFSETTO:+1100
TZNAME:AEDT
DTSTART:20211002T160000
END:DAYLIGHT
BEGIN:STANDARD
TZOFFSETFROM:+1100
TZOFFSETTO:+1000
TZNAME:AEST
DTSTART:20220402T160000
END:STANDARD
BEGIN:DAYLIGHT
TZOFFSETFROM:+1000
TZOFFSETTO:+1100
TZNAME:AEDT
DTSTART:20221001T160000
END:DAYLIGHT
BEGIN:STANDARD
TZOFFSETFROM:+1100
TZOFFSETTO:+1000
TZNAME:AEST
DTSTART:20230401T160000
END:STANDARD
BEGIN:DAYLIGHT
TZOFFSETFROM:+1000
TZOFFSETTO:+1100
TZNAME:AEDT
DTSTART:20230930T160000
END:DAYLIGHT
END:VTIMEZONE
BEGIN:VEVENT
DTSTART;VALUE=DATE:20210312
DTEND;VALUE=DATE:20220318
DTSTAMP:20260420T100028
CREATED:20210304T060612Z
LAST-MODIFIED:20220125T092035Z
UID:10000125-1615507200-1647561599@www.historyvictoria.org.au
SUMMARY:Tales from the MacRobertson International Air Races
DESCRIPTION:To celebrate Victoria’s centenary in 1934\, Macpherson Robertson sponsored a great air race from England to Melbourne. There were originally 20 entrants of which only 12 arrived in Melbourne. The British winning entrants took a whisker under 3 days\, the last plane to arrive took some 4 months.\nThe Royal Historical Society of Victoria is mounting an exhibition which takes a close look at the entrants in the races (there were two races run concurrently – a speed race and a handicap race) including the Dutch entrant\, the Uiver. The Uiver (stork) is the most famous of the entries even though it came second. It was forced by bad weather to make an emergency landing in Albury where the locals used the town’s lights to spell A L B U R Y in morse code and then created a make-shift aerodrome on the racetrack using car headlights to con the plane down. Macpherson Robertson always maintained that the Uiver\, a commercial KLM flight that went to Batavia in the Dutch East Indies with a little extra hop to Australia\, came closest to his ideal as Robertson sponsored the race to encourage commercial flight not speed. \nThe first aircraft to finish was the De Havilland DH-88 Comet Grosvenor House\, a specially- designed racing aircraft flown by Charles W. A. Scott and Tom Campbell Black. Both pilots were much feted in Melbourne. Photos show a handsome pair being mobbed by thousands. The adulation didn’t last\, Campbell Black was killed by a plane propeller just 2 years later and Scott suicided. \nHarold Brook was the pilot with the least experience – barely the minimum 100 hours. He had a paying passenger\, the 28-year old Miss Ella Lay\, who knitted her way to Australia. She was a pilot herself and the only woman to travel the full race distance from Mildenhall in England to Melbourne. Ella stayed on in Melbourne\, took up nursing\, and in 1941 enlisted in the Australian Army Nursing Service in the very building where the exhibition is being held (the former Army Medical Corps Drill Hall). Ella died in 2005\, aged 99. The Times printed her obituary. \nThe race generated many more fabulous stories including C. J. “Jimmy” Melrose who at 21 was the youngest pilot and one of the few Australians. Jimmy was funded by his mother and his De Havilland Puss Moth was christened My Hildergarde in her honour. He too died\, too young\, just two years later in a plane crash. \nThe last plane to arrive was piloted by Ray Parer and Godfrey Hemsworth and funded by New Guinea miners. Another entry was owned by well-known Australian pioneer aviator Horrie Miller who at the time was managing director of MacRobertson-Miller Aviation. He engaged James Wood and Don Bennett to fly the race however they came unstuck in Aleppo. As Bennett wrote in his autobiography\, they “… hit the ground with a fair wallop and the undercarriage collapsed; down she went and the nose went in as we whipped over on our back. I was in the tail of the machine and my velocity from one end of the cabin to the other was remarkable. Even more astounding was the degree of “concertina-ing” of my body which took place at the far end.” That was the end of their race.
URL:https://www.historyvictoria.org.au/event/tales-from-the-macrobertson-international-air-races/
LOCATION:RHSV\, Gallery Downstairs\, 239 A'Beckett Street\, Melbourne\, VIC\, 3000\, Australia
CATEGORIES:Exhibition
ATTACH;FMTTYPE=image/jpeg:https://www.historyvictoria.org.au/wp-content/uploads/2021/02/Race-outside-poster.jpg
ORGANIZER;CN="Royal Historical Society of Victoria":MAILTO:office@historyvictoria.org.au
GEO:-37.8107817;144.9562417
X-APPLE-STRUCTURED-LOCATION;VALUE=URI;X-ADDRESS=RHSV Gallery Downstairs 239 A'Beckett Street Melbourne VIC 3000 Australia;X-APPLE-RADIUS=500;X-TITLE=239 A'Beckett Street:geo:144.9562417,-37.8107817
END:VEVENT
BEGIN:VEVENT
DTSTART;TZID=Australia/Melbourne:20210803T183000
DTEND;TZID=Australia/Melbourne:20210803T193000
DTSTAMP:20260420T100028
CREATED:20210728T062328Z
LAST-MODIFIED:20210728T081231Z
UID:10000225-1628015400-1628019000@www.historyvictoria.org.au
SUMMARY:Together Apart: Meet the Authors
DESCRIPTION:When COVID-19 hit Melbourne harder than a runaway tram\, our lives changed – literally overnight. Photographer Jude van Daalen and editor Belinda Jackson join us to talk about their experience capturing Melbourne’s lockdown through ‘Together Apart: Life in Lockdown’\, a beautiful\, black-and-white coffee table book featuring 60 interviews and portraits of people in the Hobsons Bay community.
URL:https://www.historyvictoria.org.au/event/together-apart-meet-the-authors/
LOCATION:Online
CATEGORIES:Victorian History Events
ATTACH;FMTTYPE=image/jpeg:https://www.historyvictoria.org.au/wp-content/uploads/2021/07/Cover-Together-Apart-Jude-van-Daalen.jpg
ORGANIZER;CN="Hobsons Bay Libraries":MAILTO:heritage@hobsonsbay.vic.gov.au
END:VEVENT
BEGIN:VEVENT
DTSTART;TZID=Australia/Melbourne:20210805T163000
DTEND;TZID=Australia/Melbourne:20210805T173000
DTSTAMP:20260420T100028
CREATED:20210618T073705Z
LAST-MODIFIED:20210831T025527Z
UID:10000681-1628181000-1628184600@www.historyvictoria.org.au
SUMMARY:Welcome to new RHSV members
DESCRIPTION:Welcome to new RHSV members\nEvery year we like to host an event or two in the Drill Hall\, before one of our lectures\, to welcome our new members. We serve drinks and cheese and the staff give new members a background briefing on the RHSV and its treasures. So you’ll learn about our Collection from Jillian Hiscock\, our Collections Manager\, and Helen Stitt who looks after our huge images collection and our EO\, Rosemary Cameron\, will outline all the other membership benefits and how you can make the most of your membership. \nBecause we weren’t able to host these events last year we have a bit of catching up to do! We’ve scheduled 5 of these events over the coming months and new members are welcome to attend whichever one suits them. Our lectures are usually $5 or $10 for members ($20 for non-members) however\, if you book for a new member event you can attend the following lecture free-of-charge. \nWe’d love to see you at one of these events – please indicate in the RSVPs if you want to attend just the New Member Welcome or the New Member Welcome + Lecture \nPlease note that these events will only go ahead if we are not in lockdown – we really need to be in the Drill Hall to show you what the RHSV is all about. If we are in lockdown we’ll be holding more New Member Welcomes at some point in the future and we’ll contact you again.  \nNew Member lecture 4:30pm – 5:30pm\, drinks continue until just before 6pm. Lecture 6pm – 7pm (includes Q&A). \nThe  remaining lecture is: \nTue 19 Oct: Barbara Minchinton on The Women of Little Lon \nImage caption:  Holy Trinity Church of England\, Bay Street\, Port Melbourne by Samuel Hemming\, 1853\, erected under the supervision of Knight\, Kemp and Kerr\, 1855. RHSV Collection A-52-C. Miles Lewis has used this image in a powerpoint on portable buildings (https://s3.ap-southeast-2.amazonaws.com/hdp.au.prod.app.vic-engage.files/8515/2418/2642/Lewis_Evidence.pdf)
URL:https://www.historyvictoria.org.au/event/welcome-to-new-rhsv-members/2021-08-05/
LOCATION:RHSV\, Gallery Downstairs\, 239 A'Beckett Street\, Melbourne\, VIC\, 3000\, Australia
CATEGORIES:What's On
ATTACH;FMTTYPE=image/jpeg:https://www.historyvictoria.org.au/wp-content/uploads/2019/01/rhsv-logo-high-res.jpg
ORGANIZER;CN="Royal Historical Society of Victoria":MAILTO:office@historyvictoria.org.au
GEO:-37.8107817;144.9562417
X-APPLE-STRUCTURED-LOCATION;VALUE=URI;X-ADDRESS=RHSV Gallery Downstairs 239 A'Beckett Street Melbourne VIC 3000 Australia;X-APPLE-RADIUS=500;X-TITLE=239 A'Beckett Street:geo:144.9562417,-37.8107817
END:VEVENT
BEGIN:VEVENT
DTSTART;TZID=Australia/Melbourne:20210805T173000
DTEND;TZID=Australia/Melbourne:20210805T190000
DTSTAMP:20260420T100028
CREATED:20210701T013352Z
LAST-MODIFIED:20220503T090449Z
UID:10000216-1628184600-1628190000@www.historyvictoria.org.au
SUMMARY:Portable Buildings in Australia by Miles Lewis
DESCRIPTION:Portable Buildings in Australia by Miles Lewis\nPLEASE NOTE: This lecture will be delivered both on-site at the RHSV and also simultaneously delivered via Zoom. We have reached our capacity for a on-site audience and attendance via Zoom only is now available. \nWe are delighted to present this event in partnership with Engineering Heritage Victoria. \nPortable buildings\, today referred to as prefabricated\, were imported in larger numbers to Australia than to any other part of the world during the nineteenth century. They were made not merely of timber and iron\, but of oilcloth\, slate\, zinc\, papier mâché\, and ‘portable brick’.  More also survive in Australia than anywhere else\, though not of those more ephemeral materials. They range through iron lighthouses\, cottages of ‘teak’ from Singapore\, German glazed conservatories\, plate iron fronted buildings from Glasgow\, and redwood houses from California. Many are of the greatest technical interest\, and in few cases do any examples survive in the country of origin.  For these reasons it has been proposed that they should be nominated as a group for World Heritage Listing.  This presentation will sample these various types\, concentrating on those which survive today. \nMiles Lewis\, AM FAHA\, is an architectural historian specialising in the interaction between technology and culture in areas such as vernacular architecture and prefabrication\, and in technical innovation generally.  He edited the international text Architectura\, and has this year published a book\, Architectural Drawings: Collecting in Australia.  He is an emeritus professor of the University of Melbourne\, and currently a member of the Portable Buildings World Heritage Nomination Task Force. \nProfessor Charles Sowerwine who is also on the Portable Buildings World Heritage Nomination Task Force and chairs the RHSV Heritage Committee will chair the evening.
URL:https://www.historyvictoria.org.au/event/portable-buildings-in-australia-by-miles-lewis/
LOCATION:RHSV\, Gallery Downstairs\, 239 A'Beckett Street\, Melbourne\, VIC\, 3000\, Australia
CATEGORIES:What's On
ATTACH;FMTTYPE=image/jpeg:https://www.historyvictoria.org.au/wp-content/uploads/2021/07/Portable-Building-3.jpg
ORGANIZER;CN="Royal Historical Society of Victoria":MAILTO:office@historyvictoria.org.au
GEO:-37.8107817;144.9562417
X-APPLE-STRUCTURED-LOCATION;VALUE=URI;X-ADDRESS=RHSV Gallery Downstairs 239 A'Beckett Street Melbourne VIC 3000 Australia;X-APPLE-RADIUS=500;X-TITLE=239 A'Beckett Street:geo:144.9562417,-37.8107817
END:VEVENT
END:VCALENDAR