BEGIN:VCALENDAR
VERSION:2.0
PRODID:-//Royal Historical Society of Victoria - ECPv6.15.12.2//NONSGML v1.0//EN
CALSCALE:GREGORIAN
METHOD:PUBLISH
X-WR-CALNAME:Royal Historical Society of Victoria
X-ORIGINAL-URL:https://www.historyvictoria.org.au
X-WR-CALDESC:Events for Royal Historical Society of Victoria
REFRESH-INTERVAL;VALUE=DURATION:PT1H
X-Robots-Tag:noindex
X-PUBLISHED-TTL:PT1H
BEGIN:VTIMEZONE
TZID:Australia/Melbourne
BEGIN:STANDARD
TZOFFSETFROM:+1100
TZOFFSETTO:+1000
TZNAME:AEST
DTSTART:20210403T160000
END:STANDARD
BEGIN:DAYLIGHT
TZOFFSETFROM:+1000
TZOFFSETTO:+1100
TZNAME:AEDT
DTSTART:20211002T160000
END:DAYLIGHT
BEGIN:STANDARD
TZOFFSETFROM:+1100
TZOFFSETTO:+1000
TZNAME:AEST
DTSTART:20220402T160000
END:STANDARD
BEGIN:DAYLIGHT
TZOFFSETFROM:+1000
TZOFFSETTO:+1100
TZNAME:AEDT
DTSTART:20221001T160000
END:DAYLIGHT
BEGIN:STANDARD
TZOFFSETFROM:+1100
TZOFFSETTO:+1000
TZNAME:AEST
DTSTART:20230401T160000
END:STANDARD
BEGIN:DAYLIGHT
TZOFFSETFROM:+1000
TZOFFSETTO:+1100
TZNAME:AEDT
DTSTART:20230930T160000
END:DAYLIGHT
END:VTIMEZONE
BEGIN:VEVENT
DTSTART;VALUE=DATE:20220331
DTEND;VALUE=DATE:20221224
DTSTAMP:20260426T084532
CREATED:20220320T070712Z
LAST-MODIFIED:20220320T070927Z
UID:10000281-1648684800-1671839999@www.historyvictoria.org.au
SUMMARY:KALEIDOSCOPE
DESCRIPTION:This exhibition is biography imagined through the lens of a Kaleidoscope. The viewer is offered fragments of the lives represented here. There is no linear narrative. Each time the kaleidoscope turns\, a different story emerges. There are repeating patterns but different emphases and new ways of seeing\, new reflections\, new refractions. No one story dominates and one story does not fit all. \nin 2021\, during Women’s History Month we launched the RHSV Women’s Biographical Dictionary\, an online resource which builds profiles of women who have been involved in the RHSV over its 113 year history. This project is the work of Dr Cheryl Griffin and from this online resource\, Cheryl has curated Kaleidoscope\, launched in March 2022 by Judi Maddigan\, which looks at the lives of 50 of those important women. \nCURATOR: DR CHERYL GRIFFIN\nEXHIBITION DESIGNER: KATRIN STROHL\nEXHIBITION PRODUCTION: DR DAVID THOMPSON & HELEN STITT\nThe exhibition is opened Monday – Friday (excluding public holidays) from 9am-5pm and entry is free-of-charge.
URL:https://www.historyvictoria.org.au/event/kaleidoscope/
LOCATION:RHSV Gallery Downstairs\, 239 A'Beckett St\, Melbourne\, Victoria\, 3000\, Australia
CATEGORIES:Exhibition
ATTACH;FMTTYPE=image/jpeg:https://www.historyvictoria.org.au/wp-content/uploads/2022/02/Kaleidoscope.jpeg
ORGANIZER;CN="Royal Historical Society of Victoria":MAILTO:office@historyvictoria.org.au
END:VEVENT
BEGIN:VEVENT
DTSTART;TZID=Australia/Melbourne:20220628T193000
DTEND;TZID=Australia/Melbourne:20220628T203000
DTSTAMP:20260426T084532
CREATED:20220624T003215Z
LAST-MODIFIED:20220624T003215Z
UID:10000315-1656444600-1656448200@www.historyvictoria.org.au
SUMMARY:Major Harry Shaw: pioneer aviator of Port Melbourne
DESCRIPTION:Port Melbourne Historical and Preservation Society looks forward to seeing you at the meeting on Tuesday when Tim Harding will speak on the topic of Major Harry Shaw: pioneer aviator of Port Melbourne. \nMajor Harry Turner Shaw OBE (1889-1973) was an Australian pioneer aviator\, both in wartime and peace. During the 1920s\, he had an aircraft engineering factory\, hangar and airstrip at Port Melbourne\, from which he became the first civilian to fly from Melbourne to Sydney in 1922. He flew daily between Port Melbourne and his home at ‘The Point’ mansion overlooking Ricketts Point\, Beaumaris. \nTim is a member of the Sandringham and District Historical Society. He has studied history\, philosophy and science at Monash University; and is a retired senior Victorian public servant and regulatory consultant. \nFor bookings and venue: pmhps@pmhps.org.au
URL:https://www.historyvictoria.org.au/event/major-harry-shaw-pioneer-aviator-of-port-melbourne/
LOCATION:VIC
CATEGORIES:Victorian History Events
ATTACH;FMTTYPE=image/jpeg:https://www.historyvictoria.org.au/wp-content/uploads/2022/06/Harry-Shaw.jpg
ORGANIZER;CN="Port Melbourne Historical & Preservation Society":MAILTO:secretary@pmhps.org.au
END:VEVENT
BEGIN:VEVENT
DTSTART;TZID=Australia/Melbourne:20220630T173000
DTEND;TZID=Australia/Melbourne:20220630T190000
DTSTAMP:20260426T084532
CREATED:20220503T091525Z
LAST-MODIFIED:20220512T024355Z
UID:10000296-1656610200-1656615600@www.historyvictoria.org.au
SUMMARY:The Rise and Fall of the Iron Bridge
DESCRIPTION:In June we are thrilled that Miles Lewis will be returning to the RHSV\, in partnership with Engineering Heritage Victoria to talk about Iron Bridges. \nThe earliest cast iron bridges imitated those in timber or stone\, because there was no established idea of what an iron bridge should be like\, and most of them were simple arches. But over the next century wrought iron\, and then steel\, became important bridge-building materials.  The arch bridge was joined by the suspension bridge\, the box girder\, the parallel-chorded girder\, and even more elaborate forms.  And bridges fabricated in Europe were sent across the world to places like Latin America\, Japan\, and India.  Exported bridges faced special problems – the cost and difficulty of transporting the components\, the lack of skilled labour at the site\, and unexpected foundation problems and hydrological conditions. These prefabricated bridges will be the main focus of the presentation. \nMiles Lewis\, AM FAHA\, is an architectural historian specialising in the interaction between technology and culture in areas such as vernacular architecture and prefabrication\, and in technical innovation generally.  He edited the international text Architectura\, and has this year published a book\, Architectural Drawings: Collecting in Australia.  He is an emeritus professor of the University of Melbourne\, and currently a member of the Portable Buildings World Heritage Nomination Task Force.
URL:https://www.historyvictoria.org.au/event/the-rise-and-fall-of-the-iron-bridge/
LOCATION:RHSV Gallery Downstairs\, 239 A'Beckett St\, Melbourne\, Victoria\, 3000\, Australia
CATEGORIES:What's On
ATTACH;FMTTYPE=image/jpeg:https://www.historyvictoria.org.au/wp-content/uploads/2022/05/Redesdale-Iron-Bridge.jpg
ORGANIZER;CN="Royal Historical Society of Victoria":MAILTO:office@historyvictoria.org.au
END:VEVENT
BEGIN:VEVENT
DTSTART;TZID=Australia/Melbourne:20220630T180000
DTEND;TZID=Australia/Melbourne:20220630T200000
DTSTAMP:20260426T084532
CREATED:20220606T053800Z
LAST-MODIFIED:20220606T053800Z
UID:10000312-1656612000-1656619200@www.historyvictoria.org.au
SUMMARY:The Edwardian Garden - golden and delicious: Special online lecture by Caroline Holmes.
DESCRIPTION:The Edwardian Garden – golden and delicious:  Special online lecture by renowned UK Garden Historian\, Caroline Holmes. \nGardens of a golden afternoon are glimpsed in black and white photographs and nostalgic cottage paintings. The Mediterranean inspired the architecture of Harold Peto’s designs and the colours in Gertrude Jekyll’s early paintings and later plantings. Peto’s richest client was Daisy\, Countess of Warwick\, for whom he designed in the grand Italianate manner at Warwick House. Jekyll and Edwin Lutyens collaborated in 70 projects creating the Surrey Style as showcased in the architecture and gardens of her former home\, Munstead Wood. Not just Surrey\, their influences inspired the country house and garden style across the world whilst echoing the need to understand local practicalities. The kitchen garden inspired visual and edible feasts in the ground and on the plates of contemporary gardening books. Jekyll wrote many gardening books which were published across the world in English speaking countries\, her attention to drifting colours in flower borders came to represent the quintessential ‘Edwardian’ garden. Her travels in North Africa inspired her designs for rock gardens as can be glimpsed in photographs of Frederick McCubbin’s Fontainebleau garden on Mount Macedon. We will also look at paintings by Rupert Bunny\, E. Phillips Fox and John Peter Russell that evoke the colour and sensation of their pre-World War One world. \nDATE:              Thursday 30 June 2022 \nTIME:               6.00 start – log in from 5.45 \nLOCATION      A Zoom link will be provided with reminder email before each session. \nCOST:              $12 members\, $15 non-members \nBOOKINGS:     https://www.trybooking.com/BZGVX \nENQUIRIES:     WENDY DWYER Mobile: 0408 340 967 \nCaroline Holmes is a highly respected Garden Historian\, author of 12 books including ‘Water Lilies and Bory Latour-Marliac\, the genius behind Monet’s water lilies’ launched in Giverny in 2016. She was keynote speaker at the International Water Gardens Conference held at Giverny in 2019. Course Director for University of Cambridge ICE\, accredited lecturer for The Arts Society and has spoken on every continent except Antarctica. Her design consultancies range from Human Renaissance gardens surrounding Notre Dame-de-Calais to devising the planting for The Poison Garden within The Alnwick Garden in Northumberland. Academic but not dry\, she likes to sift the humour from the humus. In addition\, she is now chairing an RHS panel to assign ‘Award of Garden Merit’ to hardy water lilies. www.horti-history.com
URL:https://www.historyvictoria.org.au/event/the-edwardian-garden-golden-and-delicious-special-online-lecture-by-caroline-holmes/
LOCATION:Join via Zoom
CATEGORIES:Victorian History Events
ATTACH;FMTTYPE=image/jpeg:https://www.historyvictoria.org.au/wp-content/uploads/2022/06/Deanery-Sonning-house-and-steps-Caroline-Holmes.jpg
GEO:-37.8800269;145.0233007
END:VEVENT
BEGIN:VEVENT
DTSTART;TZID=Australia/Melbourne:20220702T140000
DTEND;TZID=Australia/Melbourne:20220702T160000
DTSTAMP:20260426T084532
CREATED:20220628T003414Z
LAST-MODIFIED:20220628T003414Z
UID:10000770-1656770400-1656777600@www.historyvictoria.org.au
SUMMARY:WONDERS\, CURIOS AND THE UNSEEN
DESCRIPTION:Join us at the Hume Global Learning Centre Gallery for the opening of Wonders\, Curios and the Unseen. \n\n\n\n\n\nExhibition Launch: Saturday 2 July\, 2 – 4pm Exhibition dates: 25 June – 4 September\, 2022 \nWonders\, Curios and the Unseen is an exhibition of curious images\, objects and artworks drawn from historical and community collections based in Hume. \nThroughout the ages\, people have collected images\, objects and artworks that represent not only themselves and their own culture\, but also the wider world – its wonders\, curiosities and precious items. Historically\, items were collected\, categorised and housed in people’s homes for private viewings\, until eventually transitioning to being available for public viewing. \nIn homage to those past traditions of collecting that also include the Great Exhibitions\, Salon Galleries and Cabinets of Curiosity\, this exhibition creates a public space for those unique items drawn from local history collections to be displayed and appreciated by all. \nSupporting Contributors and Collections include: \n\nHume Civic Collection\nGeorge Evans Museum Collection\nBroadmeadows Historical Society\nRichard Simmie\, Harpsdale\, Yuroke\nSunbury Historical and Heritage Society\nWurundjeri Woi Wurrung Culture Heritage Aboriginal Corporation\n\nBookings essential. Light refreshment will be served. To book: click here \nIn conjunction with Wonders\, Curios and the Unseen\, we invite you to celebrate the opening of an additional exhibition: \nWindows on the Past – a new exhibition held in the upstairs area of Hume Global Learning Centre – Sunbury that celebrates all areas of local economic development. \n————————————————————————————————– \nPLEASE NOTE: This is a Covid-19 safe event. If feeling unwell\, have any Covid-19 symptoms or have been a close contact of someone who has tested positive – please do not attend.
URL:https://www.historyvictoria.org.au/event/wonders-curios-and-the-unseen/
LOCATION:Hume Global Learning Centre Sunbury\, 44 Macedon Street\, Sunbury\, VIC\, 3429\, Australia
CATEGORIES:Victorian History Events
ATTACH;FMTTYPE=image/jpeg:https://www.historyvictoria.org.au/wp-content/uploads/2022/06/history_promo_cropped.jpeg
END:VEVENT
END:VCALENDAR