BEGIN:VCALENDAR
VERSION:2.0
PRODID:-//Royal Historical Society of Victoria - ECPv6.15.12.2//NONSGML v1.0//EN
CALSCALE:GREGORIAN
METHOD:PUBLISH
X-ORIGINAL-URL:https://www.historyvictoria.org.au
X-WR-CALDESC:Events for Royal Historical Society of Victoria
REFRESH-INTERVAL;VALUE=DURATION:PT1H
X-Robots-Tag:noindex
X-PUBLISHED-TTL:PT1H
BEGIN:VTIMEZONE
TZID:Australia/Melbourne
BEGIN:STANDARD
TZOFFSETFROM:+1100
TZOFFSETTO:+1000
TZNAME:AEST
DTSTART:20210403T160000
END:STANDARD
BEGIN:DAYLIGHT
TZOFFSETFROM:+1000
TZOFFSETTO:+1100
TZNAME:AEDT
DTSTART:20211002T160000
END:DAYLIGHT
BEGIN:STANDARD
TZOFFSETFROM:+1100
TZOFFSETTO:+1000
TZNAME:AEST
DTSTART:20220402T160000
END:STANDARD
BEGIN:DAYLIGHT
TZOFFSETFROM:+1000
TZOFFSETTO:+1100
TZNAME:AEDT
DTSTART:20221001T160000
END:DAYLIGHT
BEGIN:STANDARD
TZOFFSETFROM:+1100
TZOFFSETTO:+1000
TZNAME:AEST
DTSTART:20230401T160000
END:STANDARD
BEGIN:DAYLIGHT
TZOFFSETFROM:+1000
TZOFFSETTO:+1100
TZNAME:AEDT
DTSTART:20230930T160000
END:DAYLIGHT
END:VTIMEZONE
BEGIN:VEVENT
DTSTART;VALUE=DATE:20220331
DTEND;VALUE=DATE:20221224
DTSTAMP:20260421T101053
CREATED:20220320T070712Z
LAST-MODIFIED:20220320T070927Z
UID:10000281-1648684800-1671839999@www.historyvictoria.org.au
SUMMARY:KALEIDOSCOPE
DESCRIPTION:This exhibition is biography imagined through the lens of a Kaleidoscope. The viewer is offered fragments of the lives represented here. There is no linear narrative. Each time the kaleidoscope turns\, a different story emerges. There are repeating patterns but different emphases and new ways of seeing\, new reflections\, new refractions. No one story dominates and one story does not fit all. \nin 2021\, during Women’s History Month we launched the RHSV Women’s Biographical Dictionary\, an online resource which builds profiles of women who have been involved in the RHSV over its 113 year history. This project is the work of Dr Cheryl Griffin and from this online resource\, Cheryl has curated Kaleidoscope\, launched in March 2022 by Judi Maddigan\, which looks at the lives of 50 of those important women. \nCURATOR: DR CHERYL GRIFFIN\nEXHIBITION DESIGNER: KATRIN STROHL\nEXHIBITION PRODUCTION: DR DAVID THOMPSON & HELEN STITT\nThe exhibition is opened Monday – Friday (excluding public holidays) from 9am-5pm and entry is free-of-charge.
URL:https://www.historyvictoria.org.au/event/kaleidoscope/
LOCATION:RHSV Gallery Downstairs\, 239 A'Beckett St\, Melbourne\, Victoria\, 3000\, Australia
CATEGORIES:Exhibition
ATTACH;FMTTYPE=image/jpeg:https://www.historyvictoria.org.au/wp-content/uploads/2022/02/Kaleidoscope.jpeg
ORGANIZER;CN="Royal Historical Society of Victoria":MAILTO:office@historyvictoria.org.au
END:VEVENT
BEGIN:VEVENT
DTSTART;TZID=Australia/Melbourne:20220823T130000
DTEND;TZID=Australia/Melbourne:20220823T150000
DTSTAMP:20260421T101053
CREATED:20220811T080140Z
LAST-MODIFIED:20220811T080140Z
UID:10000793-1661259600-1661266800@www.historyvictoria.org.au
SUMMARY:Exploring Burke and Wills - Enigmas and Curiosities
DESCRIPTION:A talk by David Corke for Romsey & Lancefield Districts Historical Society\n \nOn 23 August 1860\, Burke & Wills and their party stayed overnight in Lancefield. \nOn 23 August 2022\, documentarian and historian of this journey\, David Corke\, will talk about his findings and his book\, Exploring Burke and Wills: Enigmas and Curiosities. \nThis book does not tell the story of the Burke and Wills Expedition; instead\, it explores several important issues in the very well-known saga —asking questions and probing some apparent enigmas\, curiosities\, and misunderstandings that have always been part of that tragedy.\nThis promises to be a fascinating afternoon about a much-discussed historical event\, and we are sure Members and Friends will enjoy it. \nCost of the event is $15.00 per person which includes refreshments. \nDavid Corke’s book will be on sale for $35.00. All enquiries to Beth Child on 0418 361 478. \nBook at Trybooking: https://www.trybooking.com/CBIPN
URL:https://www.historyvictoria.org.au/event/exploring-burke-and-wills-enigmas-and-curiosities/
LOCATION:Lancefield Mechancis’ Institute Annexe\, corner High Street and The Crescent\, Lancefield\, VIC\, 3435\, Australia
CATEGORIES:Victorian History Events
ATTACH;FMTTYPE=image/jpeg:https://www.historyvictoria.org.au/wp-content/uploads/2022/08/BW-Corke.jpg
END:VEVENT
BEGIN:VEVENT
DTSTART;TZID=Australia/Melbourne:20220823T173000
DTEND;TZID=Australia/Melbourne:20220823T190000
DTSTAMP:20260421T101053
CREATED:20210701T052358Z
LAST-MODIFIED:20220725T035308Z
UID:10000217-1661275800-1661281200@www.historyvictoria.org.au
SUMMARY:Hugh Anderson\, historian
DESCRIPTION:We are delighted that Professor Frank Bongiorno will be delivering the inaugural RHSV Hugh Anderson Lecture\, a new addition to our Distinguished Lecturer series. \n“Hugh Anderson (1927-2017) was a scholar of formidable breadth\, productivity and versatility. While it is as a folklorist that he is arguably best known both in Australia and abroad\, Anderson’s prolific output also included biography\, bibliography\, history\, school textbooks and documentary collections. His range of interests was very wide: Anderson seemed as comfortable in writing about John Pascoe Fawkner as Squizzy Taylor\, as at home with an Aboriginal gumleaf player and a Sydney street poet as with the exquisite verse of John Shaw Neilson or the stately poetry of Bernard O’Dowd. This lecture will consider Anderson specifically as a historian and biographer. While it should not be pigeon-holed\, Anderson’s historical and biographical writing incorporated many of the materials\, perspectives and insights derived from folklore studies\, and he treated literary creativity as central to telling the Melbourne\, Victorian and Australian stories. Anderson’s boundary-riding between history\, biography\, folklore and literature was remarkably productive for him\, and it was not unusual among writers with his radical-nationalist politics in the middle decades of the twentieth century. I argue in this lecture for the significance of Anderson as a historian and biographer working outside academia and across a diverse cultural domain\, at a time when universities were moving toward a sharper focus on specialised research\, theory and discipline-based knowledge – in ways that both deepened and limited understandings of Australian history and culture.” \nFrank Bongiorno is Professor of History at the Australian National University where he was head from July 2018 to June 2021. Born in Nhill\, he grew up in Melbourne and is a graduate of the University of Melbourne and the Australian National University. Frank has been a lecturer at the ANU\, Griffith University\, the University of New England and King’s College London.  He has also been Smuts Visiting Fellow in Commonwealth Studies at the University of Cambridge. The author of The Sex Lives of Australians: A History (2012) and The Eighties: The Decade That Transformed Australia (2015)\, Frank is a Fellow of the Academy of the Social Sciences in Australia\, the Australian Academy of Humanities and the Royal Historical Society. He is a Member of the Order of Australia. \n \nProfessor Frank Bongiorno AM \nPlease note that when you buy a ticket to this event you will automatically be sent a confirmation email. If you don’t see this email in your in-box please check your Spam Mail or Junk Mail in-boxes as well. Those attending by Zoom will be sent their Zoom log-in details 24 hours before the event. \nThe event will start at 5:30pm with drinks for those attending the RHSV and at 6pm for those logging in via ZOOM. \n  \nPhoto caption: \nPortrait of Hugh Anderson seated in the interview room\, Oral History Section\, National Library of Australia\, 1 June 2000 [picture] / Damian McDonald
URL:https://www.historyvictoria.org.au/event/hugh-anderson-historian/
LOCATION:RHSV\, Gallery Downstairs\, 239 A'Beckett Street\, Melbourne\, VIC\, 3000\, Australia
CATEGORIES:What's On
ATTACH;FMTTYPE=image/jpeg:https://www.historyvictoria.org.au/wp-content/uploads/2021/07/Hugh-Anderson-cropped.jpg
ORGANIZER;CN="Royal Historical Society of Victoria":MAILTO:office@historyvictoria.org.au
GEO:-37.8107817;144.9562417
X-APPLE-STRUCTURED-LOCATION;VALUE=URI;X-ADDRESS=RHSV Gallery Downstairs 239 A'Beckett Street Melbourne VIC 3000 Australia;X-APPLE-RADIUS=500;X-TITLE=239 A'Beckett Street:geo:144.9562417,-37.8107817
END:VEVENT
BEGIN:VEVENT
DTSTART;TZID=Australia/Melbourne:20220824T110000
DTEND;TZID=Australia/Melbourne:20220824T140000
DTSTAMP:20260421T101053
CREATED:20220719T104030Z
LAST-MODIFIED:20220804T020825Z
UID:10000784-1661338800-1661349600@www.historyvictoria.org.au
SUMMARY:Portable Buildings talk\, briefing & lunch
DESCRIPTION:This briefing session\, talk & lunch is an invitation-only event. Invitations have been sent to all historical societies which have portable buildings in their area. This event is only open to people representing one of the historical societies that have been invited to attend. Please do not RSVP unless you have been invited.\nCharles Sowerwine\,  RHSV Councillor\, Chair of the RHSV Heritage Committee and member of the Portable Buildings World Heritage Nomination Task Force\, invites local historical societies who have portable buildings in their area to become involved in the task force’s campaign to nominate Australia’s unique stock of portable buildings for UNESCO World Heritage status. \nTo qualify for the listing\, nineteenth-century buildings must be portable; that is buildings made in other countries and shipped to Australia for assembly here. \nAt last count\, there are 104 such buildings still standing in Australia\, more than anywhere else in the world. The majority of these buildings – 64 of them – are in Victoria\, in part because the Gold Rush created immense demand for buildings. World heritage listing would not only protect this precious heritage but would also be a boon for tourism. \nThe Hon Barry Jones AC launched the campaign in April 2021. If you’re curious\, read“‘Extraordinary’: Push for 19th century prefabricated buildings to be added to World Heritage List” (The Age\, 15 April 2021). More information is on the web site of the Portable Buildings World Heritage Nomination Task Force (portablebuildingsaustralia.org). (click on either heading above to read more) \nWe’re asking local historical societies to help us gather vital information about buildings in their areas to be included in our submission to UNESCO. To begin the work\, we invite you and all interested parties to a meeting Wednesday 24 August\, from 11am to 2pm\, at the RHSV Drill Hall\, 239 A’Beckett St\, Melbourne 3000 (also via Zoom). The meeting will include an illustrated talk on portable buildings by Professor Miles Lewis\, a general discussion and a light lunch. You will find the draft programme below. \nAt the meeting\, we will explain how to fill in a questionnaire about portable buildings in your area. \nDraft Programme \nBuilding our Case for World Heritage Nomination of Portable Buildings \nDrill Hall\, 239 A’Beckett Street\, Melbourne \nWednesday\, 24 August 2022 \n11am                       Registration and tea/coffee \n11:10am                 Welcome on behalf of the RHSV (Charles Sowerwine\, Chair\, Heritage Committee) \n11:15am                  Welcome on behalf of the Taskforce (Tony Isaacson\, President) \n11:20-12noon        Illustrated talk on Portable Buildings in Victoria by Professor Miles Lewis \n12-12:30pm          Q & A with Taskforce members. This will be your opportunity to ask questions about \nany aspect of the involvement of historical societies in collecting info & photographs \n12:30-1:15pm        Light Lunch and informal discussion \n  \nThis briefing session\, talk & lunch is an invitation-only event. Invitations have been sent to all historical societies which have portable buildings in their area. This event is only open to people representing one of the historical societies that have been invited to attend. Please do not RSVP unless you have been invited.
URL:https://www.historyvictoria.org.au/event/portable-buildings-talk-briefing-lunch/
LOCATION:RHSV Gallery Downstairs\, 239 A'Beckett St\, Melbourne\, Victoria\, 3000\, Australia
CATEGORIES:What's On
ATTACH;FMTTYPE=image/jpeg:https://www.historyvictoria.org.au/wp-content/uploads/2021/07/Portable-Building-3.jpg
ORGANIZER;CN="Royal Historical Society of Victoria":MAILTO:office@historyvictoria.org.au
END:VEVENT
BEGIN:VEVENT
DTSTART;TZID=Australia/Melbourne:20220824T130000
DTEND;TZID=Australia/Melbourne:20220824T140000
DTSTAMP:20260421T101053
CREATED:20220728T230607Z
LAST-MODIFIED:20220731T063603Z
UID:10000321-1661346000-1661349600@www.historyvictoria.org.au
SUMMARY:Remembering Childhood Places
DESCRIPTION:It is Family History Month at Yarra Plenty Regional Library. Did you have a favourite cubby\, swing or climbing tree in childhood that you can still remember today? \nMemories of special childhood places can remain vivid even after the passage of many years. In this presentation\, historian Carla Pascoe Leahy discusses her research into the favourite places of post-war children. Drawing upon interviews\, maps and photos\, she reveals how baby boomers remember the treehouses\, playgrounds and shelter sheds of 1950s Melbourne. \nDr Carla Pascoe Leahy is an historian at the University of Tasmania where she teaches in the Diploma of Family History. She is also an Honorary Associate at Museums Victoria and Joint Editor of Studies in Oral History\, the journal of Oral History Australia. \nPresented by Yarra Plenty Regional Library in partnership with the University of Tasmania\, Diploma of Family History. \nDiamond Valley Library\, Civic Drive\, Greensborough\, Vic\,
URL:https://www.historyvictoria.org.au/event/remembering-childhood-places/
LOCATION:Diamond Valley Library
CATEGORIES:Victorian History Events
ATTACH;FMTTYPE=image/jpeg:https://www.historyvictoria.org.au/wp-content/uploads/2022/07/tree-g813f46551_1920.jpg
ORGANIZER;CN="Yarra Plenty Regional Library":MAILTO:LPidgeon@yprl.vic.gov.au
END:VEVENT
BEGIN:VEVENT
DTSTART;TZID=Australia/Melbourne:20220825T110000
DTEND;TZID=Australia/Melbourne:20220825T120000
DTSTAMP:20260421T101053
CREATED:20220208T084953Z
LAST-MODIFIED:20220818T045543Z
UID:10000261-1661425200-1661428800@www.historyvictoria.org.au
SUMMARY:Cataloguing Clinics 2022
DESCRIPTION:Jillian Hiscock\, the RHSV Collections Manager\, started these free cataloguing clinics during the early days of COVID and they suit Zoom very well. The clinics run for an hour from 11am – 12noon on the 4th Thursday of each month. It is a relaxed gathering of people who are finding their way through the intricacies of cataloguing material in historical collections which\, as we all know\, fall between a library and a museum with sometimes a bit of art gallery thrown in.  With our membership scattered across Australia please remember that this is Melbourne time – AEDT in summer and AEST in winter. \nJillian always prepares some material on some specific queries but questions are encouraged and\, remember\, a problem shared is a problem halved. The clinics are conversational in format rather than a seminar. If you are new to cataloguing\, or an old hand\, you will find plenty to interest you in these sessions. Jillian often has material which is emailed out to attendees after the clinic. \nThe remaining clinics in 2022 will be held (via Zoom) on: \n\n        Aug 25\, 2022 11:00 AM (Helen Stitt will be talking about the naming of scanned images for cataloguing and Jillian will be talking about book cataloguing)\n        Sep 22\, 2022 11:00 AM\n        Oct 27\, 2022 11:00 AM\n        Nov 24\, 2022 11:00 AM\n\nJoin Zoom Meeting \nhttps://us02web.zoom.us/j/85662066892?pwd=L2REVUhtZmtHblM0ZjV0ZDNxN3FkUT09 \nMeeting ID: 856 6206 6892 \nPasscode: 227214 \nAlthough\, we provide the Zoom details above\, please do remember to register otherwise we cannot email you material after the event.
URL:https://www.historyvictoria.org.au/event/cataloguing-clinics-2022-2022-08-25/
LOCATION:ZOOM\, Join from anywhere in the world
CATEGORIES:What's On
ATTACH;FMTTYPE=image/jpeg:https://www.historyvictoria.org.au/wp-content/uploads/2022/02/Catalogue-manuscript-low-res.jpg
ORGANIZER;CN="Royal Historical Society of Victoria":MAILTO:office@historyvictoria.org.au
END:VEVENT
BEGIN:VEVENT
DTSTART;TZID=Australia/Melbourne:20220827T100000
DTEND;TZID=Australia/Melbourne:20220827T160000
DTSTAMP:20260421T101053
CREATED:20220721T082648Z
LAST-MODIFIED:20220823T010151Z
UID:10000786-1661594400-1661616000@www.historyvictoria.org.au
SUMMARY:WRITING LOCAL HISTORY WORKSHOP VIA ZOOM
DESCRIPTION:We are thrilled that Dr Rosalie Triolo will be once again offering her Writing Local History workshops to RHSV members and friends.  A gentle warning – these workshops inevitably book out. For our interstate members please note that Rosalie will be offering Zoom workshops later in 2022 and throughout 2023 across all states and territories through the auspices of the Federation of Australian Historical Societies. \nThe Federation of Australian Historical Societies & The Royal Historical Society of Victoria / History Victoria Support Group\npresent\nWRITING LOCAL HISTORY\nAll-day workshops for Victorians interested in writing local history.\nParticipants will: \n\ngain new perspectives on local history\ndiscover how to locate and use new primary and secondary sources\nlearn how to write and present well for different audiences\, both established and new.\n\nPRESENTED BY\nDR ROSALIE TRIOLO FRHSV\nDr Rosalie Triolo has facilitated the development of History teachers at Monash University for 25 years in a career in History education spanning 40. \nShe is RHSV Vice-President\, Chair of the History Victoria Support Group as well as a Life Member and Past-President of the History Teachers’ Association of Victoria. She is active in numerous state and national communities that support the promotion\, teaching\, learning and writing of history and has won numerous awards for her work. \nRosalie has lived and taught in diverse rural Victorian locations and will infuse the sessions with her deep interests in Victorian and wider Australian history. \n\n \n\nOUR DAY\n10.00-10.15 WELCOME \nAcknowledgment of Country and summary of the work of RHSV \n10.15-10.45 SESSION 1 \nCelebrating our successes and setting new goals \nWhat have been successful local histories written by us and by other local historians? What has made the histories ‘successful’? What do we want to gain from the day? What might be our next projects? \n10-45-11.30 SESSION 2 \nBroadening our perspectives (Part I) \nWhich perspectives and whose voices have we included in past writing? Which might we include in future writing? Why? How? \n11.30-12.00 break & informal discussions \n12.00-1.00 SESSION 3 \nBroadening our perspectives (Part II) \nWhich perspectives and whose voices have we included in past writing? Which might we include in future writing? Why? How? \n1.00-1.45 lunch break & informal discussions \n1.45-2.45 SESSION 4 \nLocating & using new primary sources \nWhat types of primary and secondary sources have we or other local historians used in the past? What could be new sources? Where might we find them? How could we use them? \n2.45-3.30 SESSION 5 \nWriting that’s Exciting for Established and New Audiences \nHow can we best organize and present our writing? Who have been our audiences in the past? How can we maintain established audiences while attracting new? \n3.30-4.00 CONCLUSION \nFinal questions answered\, helpful relationships formed\, and farewell. \nThis program has been developed by RHSV with the support of the John T Reid Charitable Trusts. \n  \nIntially this workshop is offered in person at the RHSV (239 A’Beckett St\, Melbourne VIC 3000) on Saturday 20th August. There is no Zoom at this earlier presentation. \nToday’s workshop on Saturday\, 27 August\, is offered purely to a ZOOM audience.
URL:https://www.historyvictoria.org.au/event/writing-local-history-workshop-via-zoom/
LOCATION:ZOOM\, Join from anywhere in the world
CATEGORIES:What's On
ATTACH;FMTTYPE=image/png:https://www.historyvictoria.org.au/wp-content/uploads/2022/07/1.png
ORGANIZER;CN="Royal Historical Society of Victoria":MAILTO:office@historyvictoria.org.au
END:VEVENT
END:VCALENDAR