BEGIN:VCALENDAR
VERSION:2.0
PRODID:-//Royal Historical Society of Victoria - ECPv6.15.12.2//NONSGML v1.0//EN
CALSCALE:GREGORIAN
METHOD:PUBLISH
X-ORIGINAL-URL:https://www.historyvictoria.org.au
X-WR-CALDESC:Events for Royal Historical Society of Victoria
REFRESH-INTERVAL;VALUE=DURATION:PT1H
X-Robots-Tag:noindex
X-PUBLISHED-TTL:PT1H
BEGIN:VTIMEZONE
TZID:Australia/Melbourne
BEGIN:STANDARD
TZOFFSETFROM:+1100
TZOFFSETTO:+1000
TZNAME:AEST
DTSTART:20210403T160000
END:STANDARD
BEGIN:DAYLIGHT
TZOFFSETFROM:+1000
TZOFFSETTO:+1100
TZNAME:AEDT
DTSTART:20211002T160000
END:DAYLIGHT
BEGIN:STANDARD
TZOFFSETFROM:+1100
TZOFFSETTO:+1000
TZNAME:AEST
DTSTART:20220402T160000
END:STANDARD
BEGIN:DAYLIGHT
TZOFFSETFROM:+1000
TZOFFSETTO:+1100
TZNAME:AEDT
DTSTART:20221001T160000
END:DAYLIGHT
BEGIN:STANDARD
TZOFFSETFROM:+1100
TZOFFSETTO:+1000
TZNAME:AEST
DTSTART:20230401T160000
END:STANDARD
BEGIN:DAYLIGHT
TZOFFSETFROM:+1000
TZOFFSETTO:+1100
TZNAME:AEDT
DTSTART:20230930T160000
END:DAYLIGHT
END:VTIMEZONE
BEGIN:VEVENT
DTSTART;VALUE=DATE:20220331
DTEND;VALUE=DATE:20221224
DTSTAMP:20260421T081854
CREATED:20220320T070712Z
LAST-MODIFIED:20220320T070927Z
UID:10000281-1648684800-1671839999@www.historyvictoria.org.au
SUMMARY:KALEIDOSCOPE
DESCRIPTION:This exhibition is biography imagined through the lens of a Kaleidoscope. The viewer is offered fragments of the lives represented here. There is no linear narrative. Each time the kaleidoscope turns\, a different story emerges. There are repeating patterns but different emphases and new ways of seeing\, new reflections\, new refractions. No one story dominates and one story does not fit all. \nin 2021\, during Women’s History Month we launched the RHSV Women’s Biographical Dictionary\, an online resource which builds profiles of women who have been involved in the RHSV over its 113 year history. This project is the work of Dr Cheryl Griffin and from this online resource\, Cheryl has curated Kaleidoscope\, launched in March 2022 by Judi Maddigan\, which looks at the lives of 50 of those important women. \nCURATOR: DR CHERYL GRIFFIN\nEXHIBITION DESIGNER: KATRIN STROHL\nEXHIBITION PRODUCTION: DR DAVID THOMPSON & HELEN STITT\nThe exhibition is opened Monday – Friday (excluding public holidays) from 9am-5pm and entry is free-of-charge.
URL:https://www.historyvictoria.org.au/event/kaleidoscope/
LOCATION:RHSV Gallery Downstairs\, 239 A'Beckett St\, Melbourne\, Victoria\, 3000\, Australia
CATEGORIES:Exhibition
ATTACH;FMTTYPE=image/jpeg:https://www.historyvictoria.org.au/wp-content/uploads/2022/02/Kaleidoscope.jpeg
ORGANIZER;CN="Royal Historical Society of Victoria":MAILTO:office@historyvictoria.org.au
END:VEVENT
BEGIN:VEVENT
DTSTART;TZID=Australia/Melbourne:20220830T130000
DTEND;TZID=Australia/Melbourne:20220830T143000
DTSTAMP:20260421T081854
CREATED:20220713T023402Z
LAST-MODIFIED:20220713T040414Z
UID:10000775-1661864400-1661869800@www.historyvictoria.org.au
SUMMARY:Family History Social Group
DESCRIPTION:Do you enjoy friendly conversation and family history? \nShare your knowledge and skills with other group members in a friendly and supportive environment while making use of the many resources available at the PMI Victorian History Library. Whether you are just starting out with your family history research or have many years experience you are welcome to come along. \nLast Tuesday of each month\, Tue Aug 30th\, Tue Sept 27th\, Tue Oct 25th\, Tue 29th Nov in 2022. \nBook for one or book for all copying this link into your internet browser: https://www.trybooking.com/CBBZX\nOr phone us (03) 9510 3393
URL:https://www.historyvictoria.org.au/event/family-history-social-group/2022-08-30/
LOCATION:Prahran Mechanics Institute\, 39 St Edmonds Road\, Prahran\, VIC\, 3181\, Australia
CATEGORIES:Victorian History Events
ATTACH;FMTTYPE=image/jpeg:https://www.historyvictoria.org.au/wp-content/uploads/2022/07/30th-Aug-2022-Family-Histroy-Social-Group-Poster_Family-History-Month_AND_History-Month-scaled.jpg
ORGANIZER;CN="Prahran Mechanics' Institute Victorian History Library":MAILTO:library@pmi.net.au
GEO:-37.8498022;144.9916641
X-APPLE-STRUCTURED-LOCATION;VALUE=URI;X-ADDRESS=Prahran Mechanics Institute 39 St Edmonds Road Prahran VIC 3181 Australia;X-APPLE-RADIUS=500;X-TITLE=39 St Edmonds Road:geo:144.9916641,-37.8498022
END:VEVENT
BEGIN:VEVENT
DTSTART;TZID=Australia/Melbourne:20220831T173000
DTEND;TZID=Australia/Melbourne:20220831T190000
DTSTAMP:20260421T081854
CREATED:20220811T084250Z
LAST-MODIFIED:20220811T084250Z
UID:10000797-1661967000-1661972400@www.historyvictoria.org.au
SUMMARY:Early Cold War Migration and its Impact on Australia
DESCRIPTION:The Robert Menzies Institute is proud to host Professor Mark Edele for a talk exploring early Cold War migration and its impact on Australia. \nIn the aftermath of the Second World War and as the Iron Curtain fell down on Eastern Europe\, many people migrated to Australia in search of a new life. Eastern European migrants changed the face of Australia and importantly White Australia. Their presence became a tangible expression of Australia’s Cold War fears. \n\n\n\n\n\n\n\n\n\n\nMark Edele\nHistorian\n\nMark Edele is the inaugural Hansen Professor in History at the University of Melbourne where he also serves as Deputy Dean in the Faculty of Arts. He is a historian of the Soviet Union and its successor states\, in particular Russia.He was trained as a historian at the Universities of Erlangen\, Tübingen\, Moscow and Chicago. His latest book\, entitled Stalinism at War. The Soviet Union in World War II\, was published in 2021. He teaches the histories of the Soviet Union\, of the Second World War\, and of dictatorship and democracy in the nineteenth and twentieth centuries. \n\n\n\n\nVenue: William Macmahon Ball Theatre (107)\, Old Arts Building (149)\, University of Melbourne Parkville Campus
URL:https://www.historyvictoria.org.au/event/early-cold-war-migration-and-its-impact-on-australia/
CATEGORIES:Victorian History Events
ATTACH;FMTTYPE=image/png:https://www.historyvictoria.org.au/wp-content/uploads/2022/08/Mark-Edele.png
ORGANIZER;CN="Robert Menzies Institute":MAILTO:nina@robertmenziesinstitute.org.au
END:VEVENT
BEGIN:VEVENT
DTSTART;TZID=Australia/Melbourne:20220901T100000
DTEND;TZID=Australia/Melbourne:20221023T160000
DTSTAMP:20260421T081854
CREATED:20220831T235728Z
LAST-MODIFIED:20220902T005422Z
UID:10000337-1662026400-1666540800@www.historyvictoria.org.au
SUMMARY:An exhibition - Glen Eira Historical Society 50 years 1972-2022
DESCRIPTION:Since its formation in 1972 the Glen Eira Historical Society has collected over 5000 items; documents\, photographs\, ephemera\, maps and more. \nTo commemorate 50 years we dipped into our collection and uncovered some gems\, including member’s favourites\, objects large and small and some of the first donations received. \nThis exhibition will be held in the Glen Eira Council Gallery Two from 1 September to 23 October. Please check the Gallery website for opening times.
URL:https://www.historyvictoria.org.au/event/an-exhibition-glen-eira-historical-society-50-years-1972-2022/
LOCATION:Glen Eira City Council Gallery\, Corner Glen Eira and Hawthorn Roads\, Caulfield\, VIC\, 3162\, Australia
CATEGORIES:Victorian History Events
ATTACH;FMTTYPE=image/jpeg:https://www.historyvictoria.org.au/wp-content/uploads/2022/09/gwen-rowe-myrtle-ballantyne-Richard-Ballantyne-Betty-Snowball-22Jan1988-Copy-scaled.jpg
ORGANIZER;CN="Glen Eira Historical Society":MAILTO:gehs@optusnet.com.au
END:VEVENT
BEGIN:VEVENT
DTSTART;TZID=Australia/Melbourne:20220901T181500
DTEND;TZID=Australia/Melbourne:20220901T191500
DTSTAMP:20260421T081854
CREATED:20220811T081941Z
LAST-MODIFIED:20220811T082450Z
UID:10000794-1662056100-1662059700@www.historyvictoria.org.au
SUMMARY:Gender Inequality\, Gender Norms\, and Australia’s Convict Past
DESCRIPTION:2022 Griffin Economic History Public Lecture \nGender Inequality\, Gender Norms\, and Australia’s Convict Past\nPresented by Professor Pauline Grosjean\, School of Economics\, UNSW \nProfessor Pauline Grosjean will discuss the relationships between gender inequality and norms about gender roles\, such as beliefs about the appropriate way women and men should behave. She will discuss her research about how historically male biased sex ratios in Australia still influence the way women and men behave today and their respective welfare. Professor Grosjean will also see how Australia’s special case illustrates more universal patterns of interactions between societal gender norms and economic and gender inequality\, as studied in her book “Patriarcapitalism” (published in French in September 2021\, forthcoming in English). \nThe University of Melbourne gratefully acknowledges support for the Griffin Economic History Public Lecture from the Peter Griffin and Terry Swann Foundation. \nWe are pleased to announce that this lecture will be delivered in person. Join us for pre-lecture drinks from 5:30pm. \n\nBook here. \nVenue: Copland Theatre (B01)\, The Spot (110)\, University of Melbourne\, Parkville Campus. \n  \n\n\n\n\n\n\n\n\n\nProfessor Pauline Grosjean\n\nSchool of Economics\, UNSW \n\n\nPauline Grosjean is a Professor in the School of Economics at UNSW. Previously at the University of San Francisco and the University of California at Berkeley\, she has also worked as an Economist at the European Bank for Reconstruction and Development. She completed her PhD in economics at Toulouse School in Economics in 2006 after graduating from the Ecole Normale Supérieure. Her research studies the historical and dynamic context of economic development. In particular\, she focuses on how culture and institutions interact and shape long-term economic development and individual behaviour. She has published research that studies the historical process of a wide range of factors that are crucial for economic development\, including cooperation and violence\, trust\, gender norms\, support for democracy and for market reforms\, immigration\, preferences for education\, and conflict. Her recent book deals with the historical roots of gender norms and how they have influenced female-male inequality in the workforce over the 20th century (Patriarcapitalisme\, Le Seuil\, Sep 2021\, forth. in English).
URL:https://www.historyvictoria.org.au/event/gender-inequality-gender-norms-and-australias-convict-past/
CATEGORIES:Victorian History Events
ATTACH;FMTTYPE=image/png:https://www.historyvictoria.org.au/wp-content/uploads/2022/08/4416_Professor_Pauline_Grosjean.png
ORGANIZER;CN="Faculty of Business & Economics%2C University of Melbourne":MAILTO:fbe-lectures@unimelb.edu.au
END:VEVENT
END:VCALENDAR