BEGIN:VCALENDAR
VERSION:2.0
PRODID:-//Royal Historical Society of Victoria - ECPv6.15.12.2//NONSGML v1.0//EN
CALSCALE:GREGORIAN
METHOD:PUBLISH
X-WR-CALNAME:Royal Historical Society of Victoria
X-ORIGINAL-URL:https://www.historyvictoria.org.au
X-WR-CALDESC:Events for Royal Historical Society of Victoria
REFRESH-INTERVAL;VALUE=DURATION:PT1H
X-Robots-Tag:noindex
X-PUBLISHED-TTL:PT1H
BEGIN:VTIMEZONE
TZID:Australia/Melbourne
BEGIN:STANDARD
TZOFFSETFROM:+1100
TZOFFSETTO:+1000
TZNAME:AEST
DTSTART:20210403T160000
END:STANDARD
BEGIN:DAYLIGHT
TZOFFSETFROM:+1000
TZOFFSETTO:+1100
TZNAME:AEDT
DTSTART:20211002T160000
END:DAYLIGHT
BEGIN:STANDARD
TZOFFSETFROM:+1100
TZOFFSETTO:+1000
TZNAME:AEST
DTSTART:20220402T160000
END:STANDARD
BEGIN:DAYLIGHT
TZOFFSETFROM:+1000
TZOFFSETTO:+1100
TZNAME:AEDT
DTSTART:20221001T160000
END:DAYLIGHT
BEGIN:STANDARD
TZOFFSETFROM:+1100
TZOFFSETTO:+1000
TZNAME:AEST
DTSTART:20230401T160000
END:STANDARD
BEGIN:DAYLIGHT
TZOFFSETFROM:+1000
TZOFFSETTO:+1100
TZNAME:AEDT
DTSTART:20230930T160000
END:DAYLIGHT
END:VTIMEZONE
BEGIN:VEVENT
DTSTART;VALUE=DATE:20220331
DTEND;VALUE=DATE:20221224
DTSTAMP:20260420T225046
CREATED:20220320T070712Z
LAST-MODIFIED:20220320T070927Z
UID:10000281-1648684800-1671839999@www.historyvictoria.org.au
SUMMARY:KALEIDOSCOPE
DESCRIPTION:This exhibition is biography imagined through the lens of a Kaleidoscope. The viewer is offered fragments of the lives represented here. There is no linear narrative. Each time the kaleidoscope turns\, a different story emerges. There are repeating patterns but different emphases and new ways of seeing\, new reflections\, new refractions. No one story dominates and one story does not fit all. \nin 2021\, during Women’s History Month we launched the RHSV Women’s Biographical Dictionary\, an online resource which builds profiles of women who have been involved in the RHSV over its 113 year history. This project is the work of Dr Cheryl Griffin and from this online resource\, Cheryl has curated Kaleidoscope\, launched in March 2022 by Judi Maddigan\, which looks at the lives of 50 of those important women. \nCURATOR: DR CHERYL GRIFFIN\nEXHIBITION DESIGNER: KATRIN STROHL\nEXHIBITION PRODUCTION: DR DAVID THOMPSON & HELEN STITT\nThe exhibition is opened Monday – Friday (excluding public holidays) from 9am-5pm and entry is free-of-charge.
URL:https://www.historyvictoria.org.au/event/kaleidoscope/
LOCATION:RHSV Gallery Downstairs\, 239 A'Beckett St\, Melbourne\, Victoria\, 3000\, Australia
CATEGORIES:Exhibition
ATTACH;FMTTYPE=image/jpeg:https://www.historyvictoria.org.au/wp-content/uploads/2022/02/Kaleidoscope.jpeg
ORGANIZER;CN="Royal Historical Society of Victoria":MAILTO:office@historyvictoria.org.au
END:VEVENT
BEGIN:VEVENT
DTSTART;TZID=Australia/Melbourne:20220901T100000
DTEND;TZID=Australia/Melbourne:20221023T160000
DTSTAMP:20260420T225046
CREATED:20220831T235728Z
LAST-MODIFIED:20220902T005422Z
UID:10000337-1662026400-1666540800@www.historyvictoria.org.au
SUMMARY:An exhibition - Glen Eira Historical Society 50 years 1972-2022
DESCRIPTION:Since its formation in 1972 the Glen Eira Historical Society has collected over 5000 items; documents\, photographs\, ephemera\, maps and more. \nTo commemorate 50 years we dipped into our collection and uncovered some gems\, including member’s favourites\, objects large and small and some of the first donations received. \nThis exhibition will be held in the Glen Eira Council Gallery Two from 1 September to 23 October. Please check the Gallery website for opening times.
URL:https://www.historyvictoria.org.au/event/an-exhibition-glen-eira-historical-society-50-years-1972-2022/
LOCATION:Glen Eira City Council Gallery\, Corner Glen Eira and Hawthorn Roads\, Caulfield\, VIC\, 3162\, Australia
CATEGORIES:Victorian History Events
ATTACH;FMTTYPE=image/jpeg:https://www.historyvictoria.org.au/wp-content/uploads/2022/09/gwen-rowe-myrtle-ballantyne-Richard-Ballantyne-Betty-Snowball-22Jan1988-Copy-scaled.jpg
ORGANIZER;CN="Glen Eira Historical Society":MAILTO:gehs@optusnet.com.au
END:VEVENT
BEGIN:VEVENT
DTSTART;TZID=Australia/Melbourne:20221013T100000
DTEND;TZID=Australia/Melbourne:20221013T123000
DTSTAMP:20260420T225046
CREATED:20220919T003548Z
LAST-MODIFIED:20220919T014802Z
UID:10000800-1665655200-1665664200@www.historyvictoria.org.au
SUMMARY:Local History Showcase
DESCRIPTION:Are you a local history enthusiast? Did you know that there are many local history groups in the Bnayule\, Nillumbik and Whittlesea municipalities that you are welcome to join? \nThese groups gather regularly for guest speakers and excursions. They publish informative newsletters\, manage collections and online content\, and support wider products such as the production of the Nillumbik Heritage Guide. Some manage museums and exhibitions\, publish books\, and install heritage markers. \nMeet these passionate volunteers in our local history community. Learn about what they do\, the benefits that historical societies add to the community\, and why they believe in the value of history. Enjoy displays and presentations and take the opportunity to learn about where you live. \nThe following groups will be represented: Andrew Ross Museum\, (Kangaroo Ground)\, Eltham District Historical Society\, Greensborough Historical Society\, Heidelberg Historical Society and Nillumbik Historical Society (Diamond Creek). \nLocal history publications\, produced by local history groups will be available for sale (cash only). \nPresented by Yarra Plenty Regional Library\nDiamond Valley Library\nCivic Drive\, Greensborough\, Vic.
URL:https://www.historyvictoria.org.au/event/local-history-showcase/
LOCATION:Diamond Valley Library
CATEGORIES:Victorian History Events
ATTACH;FMTTYPE=image/png:https://www.historyvictoria.org.au/wp-content/uploads/2022/09/Local-History-Showcase.png
ORGANIZER;CN="Yarra Plenty Regional Library":MAILTO:LPidgeon@yprl.vic.gov.au
END:VEVENT
BEGIN:VEVENT
DTSTART;TZID=Australia/Melbourne:20221015T090000
DTEND;TZID=Australia/Melbourne:20221015T160000
DTSTAMP:20260420T225046
CREATED:20200309T212845Z
LAST-MODIFIED:20211019T003642Z
UID:10000085-1665824400-1665849600@www.historyvictoria.org.au
SUMMARY:Clan Winter-Irving Gathering
DESCRIPTION:Clan Winter-Irving Gathering\n  \nNote! Due to current outbreak of COVID + border closures\, event has been rescheduled for 2022\nThis inaugural 1 day event (15/10/2022) will provide an opportunity for descendants of the Winter’s\, Winter-Irving’s and the Irving’s of Bonshaw (Scotland) to gather and share their ancestry. Participants are encouraged to bring along family documents\, photos\, memorabilia and historical items to share with others.\nThe day will be held at Noorilim\, the nostalgic mansion built by William Irving Winter-Irving in 1879 near Nagambie. A spit roast lunch is included in the entry fee.\nGuest speakers include:\nRupert Irving – Heir to the Clan Chief Irving of Bonshaw (traveling from Scotland)\nJohn McMaster – The former butler of Noorilim Mansion talking on his experiences\nJennifer F. O’Donnell – Historian speaking on the History of Noorilim \nVisit www.winter-irving.com for full details and to RSVP
URL:https://www.historyvictoria.org.au/event/clan-winter-irving-gathering/
LOCATION:Noorilim Estate\, 205 WAHRING-MURCHISON E RD\, WAHRING\, Victoria\, 3608\, Australia
CATEGORIES:Victorian History Events
ATTACH;FMTTYPE=image/jpeg:https://www.historyvictoria.org.au/wp-content/uploads/2020/03/Noorilim-areal-close-up.jpg
ORGANIZER;CN="Andrew Winter-Irving &amp%3B Andrew Mead":MAILTO:Bonshawmead@yahoo.com
END:VEVENT
BEGIN:VEVENT
DTSTART;TZID=Australia/Melbourne:20221015T140000
DTEND;TZID=Australia/Melbourne:20221015T150000
DTSTAMP:20260420T225046
CREATED:20220919T003927Z
LAST-MODIFIED:20220919T014750Z
UID:10000801-1665842400-1665846000@www.historyvictoria.org.au
SUMMARY:The Australian Football Card - a collected history
DESCRIPTION:The footy season might be over\, but you can still enjoy some football history! \nIn this session\, Australian Rules Football historian and author Francis Doherty will showcase examples from his Australian Rules football card collection and profile some local men who made their marks in the big leagues. \nPresented by Yarra Plenty Regional Library\nRosanna Library\,\n72 Turnham Avenue\, Rosanna
URL:https://www.historyvictoria.org.au/event/the-australian-football-card-a-collected-history/
CATEGORIES:Victorian History Events
ATTACH;FMTTYPE=image/png:https://www.historyvictoria.org.au/wp-content/uploads/2022/09/Football.png
ORGANIZER;CN="Yarra Plenty Regional Library":MAILTO:LPidgeon@yprl.vic.gov.au
END:VEVENT
BEGIN:VEVENT
DTSTART;VALUE=DATE:20221016
DTEND;VALUE=DATE:20221017
DTSTAMP:20260420T225046
CREATED:20220705T043257Z
LAST-MODIFIED:20220705T043257Z
UID:10000772-1665878400-1665964799@www.historyvictoria.org.au
SUMMARY:Y Girls Just Wanna Have Fun
DESCRIPTION:Was a country girl ready for the harsh life of the YWCA Richmond? \nDoery House\, the YWCA hostel at 353 Church Street\, Richmond\, Victoria\, should have been a home away from home for teenage girls from the country residing there in the late 1960s. Alas\, this was nowhere near reality. Rosalie Webb\, who has written Y Girls Just Wanna Have Fun about her experiences living in the YWCA hostel\, will speak at at  Richmond & Burnley Historical Society event. As Rosalie’s story unfolds\, the villain behind the walls and the hidden secrets become apparent. This book details many of the stories occurring during a three-year period between 1966 and 1969. They are all based on fact. The story is interwoven with daily life in the rag trade\, the evolution of Richmond\, the politics of the Vietnam War\, multiculturalism\, the gangland wars\, and gender attitudes. \nBook for catering purposes: richmondhs@optusnet.com.au or phone 9427 1800 \nTimes probably 2pm – 4pm – please confirm on booking
URL:https://www.historyvictoria.org.au/event/y-girls-just-wanna-have-fun/
LOCATION:Rosalie Webb Studio\, 1 / 15 Barnett Way\, Richmond\, VIC\, 3121\, Australia
CATEGORIES:Victorian History Events
ATTACH;FMTTYPE=image/jpeg:https://www.historyvictoria.org.au/wp-content/uploads/2022/07/Y-Girls-Just-Wanna-Have-Fun.jpg
ORGANIZER;CN="Richmond &amp%3Bamp%3B Burnley Historical Society":MAILTO:richmondhs@optusnet.com.au
END:VEVENT
END:VCALENDAR