BEGIN:VCALENDAR
VERSION:2.0
PRODID:-//Royal Historical Society of Victoria - ECPv6.15.12.2//NONSGML v1.0//EN
CALSCALE:GREGORIAN
METHOD:PUBLISH
X-WR-CALNAME:Royal Historical Society of Victoria
X-ORIGINAL-URL:https://www.historyvictoria.org.au
X-WR-CALDESC:Events for Royal Historical Society of Victoria
REFRESH-INTERVAL;VALUE=DURATION:PT1H
X-Robots-Tag:noindex
X-PUBLISHED-TTL:PT1H
BEGIN:VTIMEZONE
TZID:Australia/Melbourne
BEGIN:STANDARD
TZOFFSETFROM:+1100
TZOFFSETTO:+1000
TZNAME:AEST
DTSTART:20210403T160000
END:STANDARD
BEGIN:DAYLIGHT
TZOFFSETFROM:+1000
TZOFFSETTO:+1100
TZNAME:AEDT
DTSTART:20211002T160000
END:DAYLIGHT
BEGIN:STANDARD
TZOFFSETFROM:+1100
TZOFFSETTO:+1000
TZNAME:AEST
DTSTART:20220402T160000
END:STANDARD
BEGIN:DAYLIGHT
TZOFFSETFROM:+1000
TZOFFSETTO:+1100
TZNAME:AEDT
DTSTART:20221001T160000
END:DAYLIGHT
BEGIN:STANDARD
TZOFFSETFROM:+1100
TZOFFSETTO:+1000
TZNAME:AEST
DTSTART:20230401T160000
END:STANDARD
BEGIN:DAYLIGHT
TZOFFSETFROM:+1000
TZOFFSETTO:+1100
TZNAME:AEDT
DTSTART:20230930T160000
END:DAYLIGHT
END:VTIMEZONE
BEGIN:VEVENT
DTSTART;VALUE=DATE:20220331
DTEND;VALUE=DATE:20221224
DTSTAMP:20260420T143130
CREATED:20220320T070712Z
LAST-MODIFIED:20220320T070927Z
UID:10000281-1648684800-1671839999@www.historyvictoria.org.au
SUMMARY:KALEIDOSCOPE
DESCRIPTION:This exhibition is biography imagined through the lens of a Kaleidoscope. The viewer is offered fragments of the lives represented here. There is no linear narrative. Each time the kaleidoscope turns\, a different story emerges. There are repeating patterns but different emphases and new ways of seeing\, new reflections\, new refractions. No one story dominates and one story does not fit all. \nin 2021\, during Women’s History Month we launched the RHSV Women’s Biographical Dictionary\, an online resource which builds profiles of women who have been involved in the RHSV over its 113 year history. This project is the work of Dr Cheryl Griffin and from this online resource\, Cheryl has curated Kaleidoscope\, launched in March 2022 by Judi Maddigan\, which looks at the lives of 50 of those important women. \nCURATOR: DR CHERYL GRIFFIN\nEXHIBITION DESIGNER: KATRIN STROHL\nEXHIBITION PRODUCTION: DR DAVID THOMPSON & HELEN STITT\nThe exhibition is opened Monday – Friday (excluding public holidays) from 9am-5pm and entry is free-of-charge.
URL:https://www.historyvictoria.org.au/event/kaleidoscope/
LOCATION:RHSV Gallery Downstairs\, 239 A'Beckett St\, Melbourne\, Victoria\, 3000\, Australia
CATEGORIES:Exhibition
ATTACH;FMTTYPE=image/jpeg:https://www.historyvictoria.org.au/wp-content/uploads/2022/02/Kaleidoscope.jpeg
ORGANIZER;CN="Royal Historical Society of Victoria":MAILTO:office@historyvictoria.org.au
END:VEVENT
BEGIN:VEVENT
DTSTART;TZID=Australia/Melbourne:20221124T110000
DTEND;TZID=Australia/Melbourne:20221124T120000
DTSTAMP:20260420T143130
CREATED:20220208T084953Z
LAST-MODIFIED:20221123T221258Z
UID:10000264-1669287600-1669291200@www.historyvictoria.org.au
SUMMARY:Cataloguing Clinic - last one for 2022
DESCRIPTION:Jillian Hiscock\, the RHSV Collections Manager\, started these free cataloguing clinics during the early days of COVID and they suit Zoom very well. The clinics run for an hour from 11am – 12noon on the 4th Thursday of each month. It is a relaxed gathering of people who are finding their way through the intricacies of cataloguing material in historical collections which\, as we all know\, fall between a library and a museum with sometimes a bit of art gallery thrown in.  With our membership scattered across Australia please remember that this is Melbourne time – AEDT in summer and AEST in winter. \nJillian always prepares some material on some specific queries but questions are encouraged and\, remember\, a problem shared is a problem halved. The clinics are conversational in format rather than a seminar. If you are new to cataloguing\, or an old hand\, you will find plenty to interest you in these sessions. Jillian often has material which is emailed out to attendees after the clinic. \nThe last clinic in 2022 will be held (via Zoom) on: \n\n        Nov 24\, 2022 11:00 AM\n\nThe topic for Nov 24th will be “Cataloguing Postcards”   \nJoin Zoom Meeting \nhttps://us02web.zoom.us/j/85662066892?pwd=L2REVUhtZmtHblM0ZjV0ZDNxN3FkUT09 \nMeeting ID: 856 6206 6892 \nPasscode: 227214 \nAlthough\, we provide the Zoom details above\, please do remember to register otherwise we cannot email you material after the event. \nWe plan to start these clinics again in February 2023.
URL:https://www.historyvictoria.org.au/event/cataloguing-clinics-2022-2022-11-24/
LOCATION:ZOOM\, Join from anywhere in the world
CATEGORIES:What's On
ATTACH;FMTTYPE=image/jpeg:https://www.historyvictoria.org.au/wp-content/uploads/2022/02/Catalogue-manuscript-low-res.jpg
ORGANIZER;CN="Royal Historical Society of Victoria":MAILTO:office@historyvictoria.org.au
END:VEVENT
BEGIN:VEVENT
DTSTART;TZID=Australia/Melbourne:20221124T170000
DTEND;TZID=Australia/Melbourne:20221124T180000
DTSTAMP:20260420T143130
CREATED:20221120T224107Z
LAST-MODIFIED:20221120T224107Z
UID:10000822-1669309200-1669312800@www.historyvictoria.org.au
SUMMARY:Refugee Lives\, Memories and Communities. History Council\, Making Public Histories lecture.
DESCRIPTION:The History Council of Victoria invite you to join them for the final Making Public Histories of 2022 as Associate Professor Ruth Balint\, Ms Chi Vu and Associate Professor Shameran Slewa-Younan share personal stories as well as their research and work in different refugee contexts and cultures. \n  \nRuth Balint \n‘Borders and the Family’ \nWhen my grandparents arrived in Australia in 1938\, they immediately started to try and bring out other Jewish family members trapped in Eastern Europe as World War Two began. In researching this family story\, I began to see a wider history of resistance by Jewish families separated by war and borders. This talk will consider these experiences of the refugee family in Australia’s recent past.  \nChi Vu \n‘This language is beginning to invent another me’ \nChi Vu takes in her background as a child refugee from Vietnam to discuss how her creative writing seeks to address themes of diaspora\, fragmented memories and narratives which are dispersed across languages. Drawing on the fields of sociolinguistics and translingual literary studies\, Vu proposes that her theatre and prose works are necessarily scattered across art forms\, genres\, as well as her two languages – English and Vietnamese.  \nShameran Slewa-Younan \n‘Mental health promotion for refugee and other culturally and/or linguistically diverse migrant populations: Lessons from the field’ \nWorking within a community as diverse as south western Sydney requires undertaking a community driven and engaged clinical and research agenda. Shameran will begin by introducing herself and her own cultural background. She will then move onto discussing the synergy between her clinical and research activities and how it has helped inform mental health service policy and stigma campaigns for culturally and linguistically diverse communities at a state and national level.  \nHCV Board Member Professor Nathalie Nguyen will host the evening and HCV Executive Officer Alicia Cerreto will facilitate the Q&A. \nFree and online\, bookings required: https://www.historycouncilvic.org.au/refugee_lives  \nThis seminar is part of an ongoing series\, Making Public Histories\, that is offered jointly by the Monash University History Program\, the History Council of Victoria and the Old Treasury Building. Each seminar aims to explore issues and approaches in making public histories. The seminars are open\, free of charge\, to anyone interested in the creation and impact of history in contemporary society. Click HERE to learn about other events in the series. \nThe History Council of Victoria thanks the series sponsors\, Monash University Publishing\, the Monash University History Program and the Old Treasury Building. \n  \nThe History Council of Victoria looks forward to seeing you at this event and welcome you forwarding this email to your friends and networks.
URL:https://www.historyvictoria.org.au/event/refugee-lives-memories-and-communities-history-council-making-public-histories-lecture/
LOCATION:ZOOM\, Join from anywhere in the world
CATEGORIES:Victorian History Events
ATTACH;FMTTYPE=image/jpeg:https://www.historyvictoria.org.au/wp-content/uploads/2022/11/History-Council-lecture.jpg
ORGANIZER;CN="History Council of Victoria":MAILTO:info@historycouncilvic.org.au
END:VEVENT
BEGIN:VEVENT
DTSTART;TZID=Australia/Melbourne:20221124T190000
DTEND;TZID=Australia/Melbourne:20221124T203000
DTSTAMP:20260420T143130
CREATED:20221114T020823Z
LAST-MODIFIED:20221114T020823Z
UID:10000820-1669316400-1669321800@www.historyvictoria.org.au
SUMMARY:2022 Duldig Lecture on Sculpture
DESCRIPTION:Dr Shawn Sobers\nMaterial culture and the echoes and legacies of transatlantic enslavement – before and after the Colston statue\nDr Shawn Sobers is Professor of Cultural Interdisciplinary Practice and convenor of the Critical Race and Culture Research Group at University of the West of England (UWE). Shawn is also a filmmaker\, photographer and writer and a member of the “We are Bristol History Commission” which was set up in 2020 in response to the toppling of the statue of Edward Colston\, a 17th century English merchant\, slave trader\, and member of Parliament. Shawn will speak about his work on the Commission\, the re-display of the Colston sculpture and ideas and issues around public monuments and contested culture. \nThe Annual Duldig Lecture on Sculpture was inaugurated in 1986 to commemorate the life and work of the sculptor Karl Duldig and artist and inventor Slawa Horowitz-Duldig.
URL:https://www.historyvictoria.org.au/event/2022-duldig-lecture-on-sculpture/
LOCATION:ZOOM\, Join from anywhere in the world
CATEGORIES:Victorian History Events
ATTACH;FMTTYPE=image/jpeg:https://www.historyvictoria.org.au/wp-content/uploads/2022/11/Duldig.jpg
ORGANIZER;CN="Duldig Studio Museum & Sculpture Garden":MAILTO:enquiries@duldig.org.au
END:VEVENT
BEGIN:VEVENT
DTSTART;TZID=Australia/Melbourne:20221126T150000
DTEND;TZID=Australia/Melbourne:20221126T170000
DTSTAMP:20260420T143130
CREATED:20221121T033138Z
LAST-MODIFIED:20221121T033138Z
UID:10000824-1669474800-1669482000@www.historyvictoria.org.au
SUMMARY:Carole Woods OAM on Beechworth's history for Friends of the Robert O'Hara Burke Memorial Museum
DESCRIPTION:Our RHSV Secretary\, Carole Woods OAM\, will be talking to Friends of the Burke Museum\, Beechworth at 3pm\, Saturday\, 26th November\, 2022.\n\n\n\nHear this noted historian and author of “Beechworth A Titan’s Field”\, reflect on her telling of Beechworth’s history at the\nRobert O’Hara Burke Memorial Museum\, Loch Street\, Beechworth.\n\n\n\nRefreshments will be served in the Street of Shops following the presentation.\n\n\nTickets at the door: members $20 and non-members $25\n\n\n\nRSVP: by Thursday\, 24th November at the Burke Museum (telephone: 57288067) or email friendsburkemuseum@gmail.com
URL:https://www.historyvictoria.org.au/event/carole-woods-oam-on-beechworths-history-for-friends-of-the-robert-ohara-burke-memorial-museum/
LOCATION:Robert O’Hara Burke Memorial Museum\, Loch Street\, Beechworth\, Victoria\, 3747\, Australia
CATEGORIES:Victorian History Events
ATTACH;FMTTYPE=image/jpeg:https://www.historyvictoria.org.au/wp-content/uploads/2022/11/Beechworth-Woods.jpg
ORGANIZER;CN="Friends of Robert O'Hara Burke Memorial Museum":MAILTO:friendsburkemuseum@gmail.com
END:VEVENT
BEGIN:VEVENT
DTSTART;TZID=Australia/Melbourne:20221127T140000
DTEND;TZID=Australia/Melbourne:20221127T160000
DTSTAMP:20260420T143130
CREATED:20221030T235458Z
LAST-MODIFIED:20221030T235458Z
UID:10000343-1669557600-1669564800@www.historyvictoria.org.au
SUMMARY:St Kilda: Horsing Around the Cemetery
DESCRIPTION:The Friends of St Kilda Cemetery are offering a great Spring Racing Carnival tour of the cemetery. Clair Barton leads the tour and you’ll hear about the jockeys\, trainers\nand racing identities in St Kilda Cemetery. \nCost: $15 includes afternoon tea\nMeet at the Dandenong Road Gates at 1.45pm\nBookings required. Email info@foskc.org or ring 0451831102\nWe go in all weathers\, rain\, hail or shine so please wear suitable clothing and sturdy footwear and bring an umbrella. \nSt Kilda Cemetery\, Dandenong Road\, St Kilda East: Melway 58 F9 \nPlease park in Dandenong Road \n  \nPhoto sources left to right: Sportsman\, 29 May 1900\, p. 1; Herald\, 18 June 1909\, p. 8; The Weekly Times\, 20 March 1901\, p. 13; La Ttrobe Picture Collection\, State Library Victoria A/S24/11/77/1
URL:https://www.historyvictoria.org.au/event/st-kilda-horsing-around-the-cemetery/
LOCATION:St Kilda Cemetery\, Dandenong Road & Hotham Street\, St Kilda East\, Vic\, Australia
CATEGORIES:Victorian History Events
ATTACH;FMTTYPE=image/jpeg:https://www.historyvictoria.org.au/wp-content/uploads/2022/10/St-Kilda-Jockeys.jpg
ORGANIZER;CN="Friends of St Kilda Cemetery":MAILTO:info@foskc.org
GEO:-37.859299;145.00114
X-APPLE-STRUCTURED-LOCATION;VALUE=URI;X-ADDRESS=St Kilda Cemetery Dandenong Road & Hotham Street St Kilda East Vic Australia;X-APPLE-RADIUS=500;X-TITLE=Dandenong Road & Hotham Street:geo:145.00114,-37.859299
END:VEVENT
BEGIN:VEVENT
DTSTART;TZID=Australia/Melbourne:20221127T141500
DTEND;TZID=Australia/Melbourne:20221127T153000
DTSTAMP:20260420T143130
CREATED:20221114T230513Z
LAST-MODIFIED:20221114T230536Z
UID:10000821-1669558500-1669563000@www.historyvictoria.org.au
SUMMARY:RICHMOND\, BURNLEY & CREMORNE HISTORICAL SOCIETY AGM in HISTORIC STABLES
DESCRIPTION:Our AGM is being held in the loft of the historic Richmond Council Stables. The stables were the home for many of the City’s draught horses. Many won prizes at the Royal Melbourne Show. At the stables are remnants of the jockeys’ lockers from the Richmond Racecourse and also the wooden pulley wheel for lifting up items to the loft. Come and explore this historic site with us. \nANNUAL GENERAL MEETING \nYEAR ENDING 2021/22\nSUNDAY 27 November 2022\, 2:15pm\nThe Stables – Upstairs\n19 Duke Street Richmond \nAGENDA \n\nAttendance\nApologies\nMinutes from the previous AGM 6 February 2022.\n2021/22 Annual Report – David Langdon\nTreasurer’s Report\nElection of Officer Bearers\nNominations are open for the following positions:\nPresident:\nVice President:\nSecretary:\nTreasurer:\nEmail the Secretary with your nomination richmondhs@optusnet.com.au\nGeneral Business\nEmail the Secretary with any General Business richmondhs@optusnet.com.au\nPresentation: History of Yarra Park SS – Ian Hind\n\nTo book for the meeting: email richmondhs@optusnet.com.au or phone 94271800.
URL:https://www.historyvictoria.org.au/event/richmond-burnley-cremorne-historical-society-agm-in-historic-stables/
LOCATION:The Stables\, 19 Duke Street\, Richmond\, Victoria\, 3121\, Australia
CATEGORIES:Victorian History Events
ATTACH;FMTTYPE=image/jpeg:https://www.historyvictoria.org.au/wp-content/uploads/2022/11/Stables-Duke-St-Richmond.jpg
ORGANIZER;CN="Richmond &amp%3Bamp%3B Burnley Historical Society":MAILTO:richmondhs@optusnet.com.au
END:VEVENT
END:VCALENDAR