BEGIN:VCALENDAR
VERSION:2.0
PRODID:-//Royal Historical Society of Victoria - ECPv6.15.12.2//NONSGML v1.0//EN
CALSCALE:GREGORIAN
METHOD:PUBLISH
X-ORIGINAL-URL:https://www.historyvictoria.org.au
X-WR-CALDESC:Events for Royal Historical Society of Victoria
REFRESH-INTERVAL;VALUE=DURATION:PT1H
X-Robots-Tag:noindex
X-PUBLISHED-TTL:PT1H
BEGIN:VTIMEZONE
TZID:Australia/Melbourne
BEGIN:STANDARD
TZOFFSETFROM:+1100
TZOFFSETTO:+1000
TZNAME:AEST
DTSTART:20210403T160000
END:STANDARD
BEGIN:DAYLIGHT
TZOFFSETFROM:+1000
TZOFFSETTO:+1100
TZNAME:AEDT
DTSTART:20211002T160000
END:DAYLIGHT
BEGIN:STANDARD
TZOFFSETFROM:+1100
TZOFFSETTO:+1000
TZNAME:AEST
DTSTART:20220402T160000
END:STANDARD
BEGIN:DAYLIGHT
TZOFFSETFROM:+1000
TZOFFSETTO:+1100
TZNAME:AEDT
DTSTART:20221001T160000
END:DAYLIGHT
BEGIN:STANDARD
TZOFFSETFROM:+1100
TZOFFSETTO:+1000
TZNAME:AEST
DTSTART:20230401T160000
END:STANDARD
BEGIN:DAYLIGHT
TZOFFSETFROM:+1000
TZOFFSETTO:+1100
TZNAME:AEDT
DTSTART:20230930T160000
END:DAYLIGHT
END:VTIMEZONE
BEGIN:VEVENT
DTSTART;VALUE=DATE:20220331
DTEND;VALUE=DATE:20221224
DTSTAMP:20260420T004226
CREATED:20220320T070712Z
LAST-MODIFIED:20220320T070927Z
UID:10000281-1648684800-1671839999@www.historyvictoria.org.au
SUMMARY:KALEIDOSCOPE
DESCRIPTION:This exhibition is biography imagined through the lens of a Kaleidoscope. The viewer is offered fragments of the lives represented here. There is no linear narrative. Each time the kaleidoscope turns\, a different story emerges. There are repeating patterns but different emphases and new ways of seeing\, new reflections\, new refractions. No one story dominates and one story does not fit all. \nin 2021\, during Women’s History Month we launched the RHSV Women’s Biographical Dictionary\, an online resource which builds profiles of women who have been involved in the RHSV over its 113 year history. This project is the work of Dr Cheryl Griffin and from this online resource\, Cheryl has curated Kaleidoscope\, launched in March 2022 by Judi Maddigan\, which looks at the lives of 50 of those important women. \nCURATOR: DR CHERYL GRIFFIN\nEXHIBITION DESIGNER: KATRIN STROHL\nEXHIBITION PRODUCTION: DR DAVID THOMPSON & HELEN STITT\nThe exhibition is opened Monday – Friday (excluding public holidays) from 9am-5pm and entry is free-of-charge.
URL:https://www.historyvictoria.org.au/event/kaleidoscope/
LOCATION:RHSV Gallery Downstairs\, 239 A'Beckett St\, Melbourne\, Victoria\, 3000\, Australia
CATEGORIES:Exhibition
ATTACH;FMTTYPE=image/jpeg:https://www.historyvictoria.org.au/wp-content/uploads/2022/02/Kaleidoscope.jpeg
ORGANIZER;CN="Royal Historical Society of Victoria":MAILTO:office@historyvictoria.org.au
END:VEVENT
BEGIN:VEVENT
DTSTART;TZID=Australia/Melbourne:20221128T110000
DTEND;TZID=Australia/Melbourne:20221128T120000
DTSTAMP:20260420T004226
CREATED:20221120T234558Z
LAST-MODIFIED:20221121T041442Z
UID:10000823-1669633200-1669636800@www.historyvictoria.org.au
SUMMARY:What Ship Did You Come Out On?
DESCRIPTION:Discover the history of ships in Port Melbourne with local author Nick Cree.          \nNick Cree will be speaking about the ships that came through Port Melbourne in the 50’s and 60’s\, and the myriad of personal stories of the people who embarked in Melbourne. Do you have a personal association with one of those ships?  \nThis event is part of the exhibition Remarkable: stories of Australians and their boats. \nAustralia’s history is full of maritime-related stories. With over 1\,000 rivers and a coast that stretches for more than 36\,000 kilometres\, it is no surprise that Australia abounds with stories of people who have lived and worked on the water. This exhibition presents some of those stories\, exploring the remarkable connections between people and their boats.  \nThe exhibition will be at the following libraries: \nEltham Library – 14 November 2022 to 14 December 2022 \nLalor Library – 19 December 2022 to 29 January 2023 \nWatsonia Library – 12 December 2022 to 29 January 2022 \nInage: Pixabay \nPresented by Yarra Plenty Regional Library
URL:https://www.historyvictoria.org.au/event/what-ship-did-you-come-out-on/
LOCATION:Eltham Library
CATEGORIES:Victorian History Events
ATTACH;FMTTYPE=image/png:https://www.historyvictoria.org.au/wp-content/uploads/2022/11/ship-g46ef1f660_1280.png
ORGANIZER;CN="Yarra Plenty Regional Library":MAILTO:LPidgeon@yprl.vic.gov.au
END:VEVENT
BEGIN:VEVENT
DTSTART;TZID=Australia/Melbourne:20221129T130000
DTEND;TZID=Australia/Melbourne:20221129T143000
DTSTAMP:20260420T004226
CREATED:20220713T023402Z
LAST-MODIFIED:20220713T040414Z
UID:10000778-1669726800-1669732200@www.historyvictoria.org.au
SUMMARY:Family History Social Group
DESCRIPTION:Do you enjoy friendly conversation and family history? \nShare your knowledge and skills with other group members in a friendly and supportive environment while making use of the many resources available at the PMI Victorian History Library. Whether you are just starting out with your family history research or have many years experience you are welcome to come along. \nLast Tuesday of each month\, Tue Aug 30th\, Tue Sept 27th\, Tue Oct 25th\, Tue 29th Nov in 2022. \nBook for one or book for all copying this link into your internet browser: https://www.trybooking.com/CBBZX\nOr phone us (03) 9510 3393
URL:https://www.historyvictoria.org.au/event/family-history-social-group/2022-11-29/
LOCATION:Prahran Mechanics Institute\, 39 St Edmonds Road\, Prahran\, VIC\, 3181\, Australia
CATEGORIES:Victorian History Events
ATTACH;FMTTYPE=image/jpeg:https://www.historyvictoria.org.au/wp-content/uploads/2022/07/30th-Aug-2022-Family-Histroy-Social-Group-Poster_Family-History-Month_AND_History-Month-scaled.jpg
ORGANIZER;CN="Prahran Mechanics' Institute Victorian History Library":MAILTO:library@pmi.net.au
GEO:-37.8498022;144.9916641
X-APPLE-STRUCTURED-LOCATION;VALUE=URI;X-ADDRESS=Prahran Mechanics Institute 39 St Edmonds Road Prahran VIC 3181 Australia;X-APPLE-RADIUS=500;X-TITLE=39 St Edmonds Road:geo:144.9916641,-37.8498022
END:VEVENT
BEGIN:VEVENT
DTSTART;TZID=Australia/Melbourne:20221129T173000
DTEND;TZID=Australia/Melbourne:20221129T190000
DTSTAMP:20260420T004226
CREATED:20220823T044927Z
LAST-MODIFIED:20221117T004236Z
UID:10000329-1669743000-1669748400@www.historyvictoria.org.au
SUMMARY:What is a Drill Hall?
DESCRIPTION:Recently the RHSV took part in Open House Melbourne which concentrated our minds on the history and architecture of our home\, the Australian Army Medical Corps Drill Hall which was built\, like so many others in 1938 in the build-up to WWII. The building’s history\, its original purpose and its architecture are inextricably linked.  And who better to explain those connections than Mike O’Brien? Mike will be addressing Drill Halls in general – what is drill? what happens in drill halls? \nMike is a committed community activist and a believer in a fair go. He is an experienced manager and company director\, has run an iconic Melbourne antiquarian bookstore for 17 years and is an advocate for small business as the main engine that drives our economy. He had an extensive military career but balanced it with directorships of a listed company and a non-bank financial institution. He has tertiary qualifications in Science and Management. He has lectured around the world on cruise ships for 10 years gaining an enviable number of days at sea\, an excellent remedy for a former Infantryman. He writes local history and believes our built heritage should be highly valued. \nThis lecture will be live at the RHSV and also offered on ZOOM. \nCome along and enjoy some Christmas cheer as this is our last in person event for the year. Like all RHSV lectures we will have refreshments (with a Christmas theme) from 5:30pm until 6pm when the lecture will commence. The Zoom audience will log-in at 6pm.
URL:https://www.historyvictoria.org.au/event/what-is-a-drill-hall/
LOCATION:RHSV Gallery Downstairs\, 239 A'Beckett St\, Melbourne\, Victoria\, 3000\, Australia
CATEGORIES:What's On
ATTACH;FMTTYPE=image/png:https://www.historyvictoria.org.au/wp-content/uploads/2022/08/OBrien-Mike.png
ORGANIZER;CN="Royal Historical Society of Victoria":MAILTO:office@historyvictoria.org.au
END:VEVENT
BEGIN:VEVENT
DTSTART;TZID=Australia/Melbourne:20221129T193000
DTEND;TZID=Australia/Melbourne:20221129T210000
DTSTAMP:20260420T004226
CREATED:20221124T060353Z
LAST-MODIFIED:20221124T205409Z
UID:10000356-1669750200-1669755600@www.historyvictoria.org.au
SUMMARY:Talk – Ornamental Cast Iron Lace
DESCRIPTION:Hotham History Project invites you to a talk on Ornamental Cast Iron Lace – by Robin Vowels. \nIn the 1860s and 70s one of Hotham’s mayors\, William Hutchison\, operated a foundry in Little Bourke Street where he made some of the ornamental iron lace that still graces houses around North and West Melbourne today. \nAlthough he was well known at the time Hutchison’s work does not carry a maker’s name so Robin Vowels from RMIT decided to work out (if he could) which pieces were from Hutchison’s foundry. \nCome and hear what clues he used and what he found out.
URL:https://www.historyvictoria.org.au/event/talk-ornamental-cast-iron-lace/
LOCATION:City of Melbourne Bowls Club\, 603 - 615 Queensberry St\, North Melbourne 3051.\, North Melbourne\, victoria\, 3051\, Australia
CATEGORIES:Victorian History Events
ATTACH;FMTTYPE=image/jpeg:https://www.historyvictoria.org.au/wp-content/uploads/2022/11/c-442-Victoria-Street-North-Melbourne-photographer-Stephen-Hatcher-2022-scaled.jpg
ORGANIZER;CN="Hotham History Project Inc.":MAILTO:info@hothamhistory.org.au
END:VEVENT
BEGIN:VEVENT
DTSTART;TZID=Australia/Melbourne:20221201T190000
DTEND;TZID=Australia/Melbourne:20221201T203000
DTSTAMP:20260420T004226
CREATED:20221110T045608Z
LAST-MODIFIED:20221110T045649Z
UID:10000348-1669921200-1669926600@www.historyvictoria.org.au
SUMMARY:Inspirational Women of Coburg Cemetery
DESCRIPTION:Activists\, artists\, pioneers\, philanthropists\, business women and fortune tellers: historic Coburg Cemetery holds the stories of many inspirational Melbourne women. \nJoin the Friends of Coburg Cemetery for an evening cemetery tour to hear about their fascinating lives. \nThe tour will include identities not covered in past tours. \nBookings essential: focc.group@gmail.com \nCost $10
URL:https://www.historyvictoria.org.au/event/inspiration-women-of-coburg-cemetery/
LOCATION:Coburg Pine Ridge Cemetery\, Bell Street\, Preston\, VIC\, 3072\, Australia
CATEGORIES:Victorian History Events
ATTACH;FMTTYPE=image/jpeg:https://www.historyvictoria.org.au/wp-content/uploads/2022/11/Coburg-Cemetery.jpg
ORGANIZER;CN="Friends of Coburg Cemetery":MAILTO:focc.group@gmail.com
END:VEVENT
BEGIN:VEVENT
DTSTART;TZID=Australia/Melbourne:20221201T193000
DTEND;TZID=Australia/Melbourne:20221201T203000
DTSTAMP:20260420T004226
CREATED:20221113T215701Z
LAST-MODIFIED:20221113T215839Z
UID:10000819-1669923000-1669926600@www.historyvictoria.org.au
SUMMARY:Port Characters - decade by decade 
DESCRIPTION:Join Janet Bolitho and Margaret Bride on this virtual journey to experience Port’s milestones through the lives of extraordinary people\, decade by decade\, between 1830 and 2022.\nImage: Councillor Liana Thompson\, last Mayor of Port Melbourne\, 1994 and first Mayor of the City of Port Phillip. Port Phillip City Collection pm2490.\n**Please note this walk has been rescheduled from Thursday 17 November to Thursday 1 December.\nMargaret Bride and Janet Bolitho will introduce a Port character from each decade since 1840 and what that character reveals about that particular decade. \nThis is an online presentation offered by the City of Port Phillip. Free but bookings are required on Trybooking
URL:https://www.historyvictoria.org.au/event/port-characters-decade-by-decade/
LOCATION:ZOOM\, Join from anywhere in the world
CATEGORIES:Victorian History Events
ATTACH;FMTTYPE=image/jpeg:https://www.historyvictoria.org.au/wp-content/uploads/2022/11/Port-Phillip-Mayor.jpg
ORGANIZER;CN="Port Melbourne Historical & Preservation Society":MAILTO:secretary@pmhps.org.au
END:VEVENT
BEGIN:VEVENT
DTSTART;TZID=Australia/Melbourne:20221203T150000
DTEND;TZID=Australia/Melbourne:20221203T170000
DTSTAMP:20260420T004226
CREATED:20221128T063942Z
LAST-MODIFIED:20221128T064743Z
UID:10000358-1670079600-1670086800@www.historyvictoria.org.au
SUMMARY:BOOK LAUNCH & FILM SCREENING BALLARAT
DESCRIPTION:Join us for a premiere film screening\, book launch\, digital map debut and panel discussion about a surprising and forgotten aspect of Australian history – the enthralling history of the rescues of thousands of colonists by Aboriginal people from life-threatening situations such as bush fires\, floods\, shipwrecks and being lost in the bush. \nAward-winning author Associate Professor (Dr) Fred Cahir discusses his latest book They Rescued Us! Aboriginal Heroes on Country with filmmakers Lucinda Horrocks and Jary Nemo of Wind & Sky Productions\, whose new film Acts of Heroism will be screened on the day. \nThis short film is a companion to a web-based education portal Aboriginal Heroes of Fire\, Food and Flood which spatially maps locations and documented instances of Aboriginal heroism to do with fire\, flood and food in Victoria and Southeastern Australia from the 1800s to the 1930s. \nProfessor Andrew Gunstone\, the inaugural Associate Deputy Vice-Chancellor Reconciliation at Federation University will contribute to the discussion which will be moderated by Lucy Bracey from Way Back When\, a group of professional historians who work with communities to tell their stories. The afternoon will include a performance by First Nations composer and singer Deb Lowah Clark. \nThis event complements the Gallery exhibition Beating About The Bush in its critical questioning of the stories Australians have been told about the bush and who it is that Australians regard as pioneers and heroes. Copies of the book will be available for purchase and signing at the launch. \nThey Rescued Us! Aboriginal Heroes on Country is published by Ballarat Heritage Services. Acts of Heroism was funded by the Telematics Trust and is a collaboration between Federation University historians\, the Centre for eResearch and Digital Innovation (CeRDI) at Federation University and Wind & Sky Productions. The film was produced in Ballarat\, in regional Victoria\, on Wadawurrung Country. \nAge: All ages \nTickets: Free entry but bookings are essential as numbers are strictly limited
URL:https://www.historyvictoria.org.au/event/book-launch-film-screening-ballarat/
LOCATION:Art Gallery of Ballarat\, 40 Lydiard St North\, Ballarat Central\, VIC\, 3350\, Australia
CATEGORIES:Victorian History Events
ATTACH;FMTTYPE=image/jpeg:https://www.historyvictoria.org.au/wp-content/uploads/2022/11/6029e260-4525-40be-980e-23e46db85a90.jpeg
END:VEVENT
BEGIN:VEVENT
DTSTART;TZID=Australia/Melbourne:20221203T183000
DTEND;TZID=Australia/Melbourne:20221203T220000
DTSTAMP:20260420T004226
CREATED:20221113T210332Z
LAST-MODIFIED:20221113T210332Z
UID:10000817-1670092200-1670104800@www.historyvictoria.org.au
SUMMARY:Phillip Island & District Historical Society's Christmas Dinner
DESCRIPTION:Join the Phillip Island & District Historical Society \nCHRISTMAS DINNER \n$35 per person & BYO \nPre-purchased tickets only \nRSVP by 18 November 2022 \nwww.trybooking.com/CDLLT \n 
URL:https://www.historyvictoria.org.au/event/phillip-island-district-historical-societys-christmas-dinner/
LOCATION:St Philips Parish Hall\, 102 Thompson Ave\, Cowes\, Victoria\, 3922\, Australia
CATEGORIES:Victorian History Events
ATTACH;FMTTYPE=image/jpeg:https://www.historyvictoria.org.au/wp-content/uploads/2022/11/Phillip-Island.jpg
ORGANIZER;CN="Phillip Island & District Historical Society":MAILTO:prothfield@gmail.com
END:VEVENT
BEGIN:VEVENT
DTSTART;TZID=Australia/Melbourne:20221204T103000
DTEND;TZID=Australia/Melbourne:20221204T160000
DTSTAMP:20260420T004226
CREATED:20221113T050232Z
LAST-MODIFIED:20221113T211942Z
UID:10000352-1670149800-1670169600@www.historyvictoria.org.au
SUMMARY:Labassa Serenade
DESCRIPTION:Experience the sights and sounds of Christmas in the lavish surroundings of Labassa. We’ve decked the halls\, decorated the tree and set the dining table. Elwood Community Choir will serenade visitors with songs that warm the heart\, reflect Labassa’s history and celebrate the start of the holiday season. Short performances on the quarter to the hour will be heard in atmospheric locations around the house and grounds. Their first performance will be at 10.45am and last at 3.45pm.\nGuided house tours on the hour and tearoom available. The tower will be open with a limit of 12 people per tour group. Due to the tower’s narrow\, steep steps visitors are advised to wear sensible shoes. No stilettos permitted in the house. Bookings recommended:\nhttps://vic.nationaltrust.org.au/857/1761
URL:https://www.historyvictoria.org.au/event/labassa-serenade/
LOCATION:Labassa\, 2 Manor Grove\, Caulfield North\, Victoria\, 3161\, Australia
CATEGORIES:Victorian History Events
ATTACH;FMTTYPE=image/jpeg:https://www.historyvictoria.org.au/wp-content/uploads/2022/11/Labassa-2020-photo-Jon-Rendell.jpg
END:VEVENT
BEGIN:VEVENT
DTSTART;TZID=Australia/Melbourne:20221204T110000
DTEND;TZID=Australia/Melbourne:20221204T160000
DTSTAMP:20260420T004226
CREATED:20221111T045526Z
LAST-MODIFIED:20221111T045526Z
UID:10000351-1670151600-1670169600@www.historyvictoria.org.au
SUMMARY:Celebrating Holden in Fishermans Bend
DESCRIPTION:For over 80 years\, the former Holden factory in Fishermens Bend provided a home for innovation and social connection in Fishermans Bend.    \nThe launch of Australia’s first locally made mass-production car in Fishermans Bend on 29 November 1948 by Australian Prime Minister Ben Chifley was a milestone in Australian manufacturing. The FX\, as it became known\, was an immediate success\, as was the FJ\, launched in 1953. The Holden transformed suburban Australia\, boosted national pride and quickly become a national icon.   \nJoin us to celebrate the community that contributed to Holden’s legacy in automotive design\, engineering and advanced manufacturing at Fishermans Bend.   With impressive views across the Birrarung (Yarra River) and the Bolte Bridge as the backdrop\, Shed 21 will be transformed into a festival of all things Holden.    \nAlong with food trucks\, live music and kids entertainment\, this family friendly event will feature a “Holden Shine & Show” with a significant number of classic Holdens on display.   \nThere will also be a program of short talks from ex-Holden designers and engineers throughout the day including: \n– Leo Pruneau – former Director of Holden Design\n– Phil Zmood – former Director of Holden Design (after Leo Pruneau)\n– Tony Hyde – former Executive Director of Holden Engineering\n– Ian McCleave – former Product Manager of Holden Engine Company & Executive Director of Planning\n– William Hooper (Bill) – former Holden Chassis Director\n– Warwick Bryce – former Holden Powertrain Guru\n– Dr Norm Darwin – former Holden engineer and President of Automotive Historians Australia Inc. \nWhether you are a car enthusiast\, aspiring engineer or just looking for an inspiring day of community\, this is a celebration you won’t want to miss.  \nFree – no bookings required:\n‘Celebrating Holden in Fishermans Bend’ is a free event that does not require bookings. Simply turn up and enjoy the car display and free entertainment. The only thing you’ll need money for is food and drinks—the rest is on us! \nGetting there:\nThe event will be located at Shed 21\, 206 Lorimer Street Docklands (just next to the Bolte Bridge).   There is plenty of street parking available in the surrounding streets\, it’s also great walk or bike ride along the river.   LINK TO MAP \nAccessibility:\nIf you have you accessibility requirements and require reserved parking\, please contact us via the email link at the bottom of this webpage. \nEvent Supporters:\nSpecial thanks to our supporters:  One Padel\, Development Victoria and South East Water.
URL:https://www.historyvictoria.org.au/event/celebrating-holden-in-fishermans-bend/
LOCATION:Shed 21\, 206 Lorimer Street\, Docklands\, Victoria\, 3008\, Australia
CATEGORIES:Victorian History Events
ATTACH;FMTTYPE=image/jpeg:https://www.historyvictoria.org.au/wp-content/uploads/2022/11/Holden.jpg
END:VEVENT
BEGIN:VEVENT
DTSTART;TZID=Australia/Melbourne:20221204T140000
DTEND;TZID=Australia/Melbourne:20221204T160000
DTSTAMP:20260420T004226
CREATED:20221121T041317Z
LAST-MODIFIED:20221121T041317Z
UID:10000825-1670162400-1670169600@www.historyvictoria.org.au
SUMMARY:Bass Valley Historical Society talk on Euphemia Henderson\, wildflower artist and botanist
DESCRIPTION:Bass Valley Historical Society Afternoon Tea meeting on Sunday\, December 4 2022 at 2.00pm. Guest speaker is Maureen Matthews on Euphemia Henderson (1822-1907)\, wildflower artist and botanist. \nWhere: Corinella Public Hall\, Smythe Street.  Cost: $10. Please bring a plate. \nRSVP – Libby Skidmore – 5678 0339 or eskidmore@dcsi.net.au \nEuphemia was briefly engaged to Australian botanist Ferdinand von Mueller (1825-1896)\, and worked with him on Phillip Island. In 1863\, Ferdinand von Mueller\, the director of Melbourne’s Botanic Gardens\, fell deeply in love with Euphemia\, and proposed marriage to her. The distinguished botanist and the talented Scottish girl who loved studying and sketching plants seemed made for each other. She saved his letters to her and we read his salutation\, ”Beloved bride.” They read the poetry of Lord Byron together on Phillip Island. Mueller referred to her proudly as ”my fiancee\, a greatly talented and enlightened Scottish lady”. \n\n\n\nThen their relationship fell apart. In April 1863\, he was writing to ”my beloved” but by August the same year his letter began coldly\, ”My dear Miss Henderson”\, and he was attempting to explain why he had broken off the engagement. Was it his health problems or did he become aware that Henderson was too old to bear children? \n\n\n\n\nNeither of them ever married but Mueller had several other romances. After the end of their brief affair\, they continued writing occasional letters to each other.  Henderson’s paintings reveal her artistic and scientific talents. Maxwell & Williams\, in partnership with the Royal Botanic Gardens\, has produced a beautiful collection of crockery showcasing Euphemia’s work. \n\n\n\n\n\n\n\n\n\n\n\n\n\n 
URL:https://www.historyvictoria.org.au/event/bass-valley-historical-society-talk-on-euphemia-henderson-wildflower-artist-and-botanist/
LOCATION:Corinella Public Hall\, Smythe Street\, Corinella\, Victoria\, 3984\, Australia
CATEGORIES:Victorian History Events
ATTACH;FMTTYPE=image/jpeg:https://www.historyvictoria.org.au/wp-content/uploads/2022/11/Euphemia-2.jpeg
ORGANIZER;CN="Bass Valley Historical Society":MAILTO:eskidmore@dcsi.net.au
END:VEVENT
BEGIN:VEVENT
DTSTART;TZID=Australia/Melbourne:20221204T153000
DTEND;TZID=Australia/Melbourne:20221204T190000
DTSTAMP:20260420T004226
CREATED:20221124T060936Z
LAST-MODIFIED:20221124T205355Z
UID:10000357-1670167800-1670180400@www.historyvictoria.org.au
SUMMARY:Tour – Along the Maribyrnong River to the Port of Melbourne
DESCRIPTION:Hotham History Project invites you to a cruise on the Blackbird to the Port of Melbourne. \nJoin Peter Somerville for a two hour cruise on the Blackbird  exploring the Port of Melbourne. Peter will cover the geography and history of the river and its importance to the development of Melbourne. We will view the largest container port in the Southern Hemisphere\, Coode Island\, Yarraville Wharves\, Swanson Dock\, South Wharf\, Victoria Harbour\, Bolte Bridge\, and the Melbourne Skyline. \nLocation:  Ferry Terminal\, Bottom of Saltriver Place.  Melway 42 E5 \nPublic parking available on the streets surrounding the dock. \nStrictly limited\, 30 tickets only\, email Hotham for your ticket today. \nDate: Sunday 4th December 2022. \nTime: 3:30 pm sharp. \nCost: $25 per person\, must be purchased online from Eventbrite prior to the cruise.\nhttps://www.eventbrite.com.au/e/tour-along-the-river-with-peter-somerville-to-the-port-of-melbourne-tickets-457746982547 \nInquiries: info@hothamhistory.org.au or ring Rae Nicholls on 9816 9720 or  0418 389 949 (mobile)
URL:https://www.historyvictoria.org.au/event/tour-along-the-maribyrnong-river-to-the-port-of-melbourne/
CATEGORIES:Victorian History Events
ATTACH;FMTTYPE=image/jpeg:https://www.historyvictoria.org.au/wp-content/uploads/2022/11/blackbirdhome.jpg
ORGANIZER;CN="Hotham History Project Inc.":MAILTO:info@hothamhistory.org.au
END:VEVENT
END:VCALENDAR