BEGIN:VCALENDAR
VERSION:2.0
PRODID:-//Royal Historical Society of Victoria - ECPv6.15.12.2//NONSGML v1.0//EN
CALSCALE:GREGORIAN
METHOD:PUBLISH
X-WR-CALNAME:Royal Historical Society of Victoria
X-ORIGINAL-URL:https://www.historyvictoria.org.au
X-WR-CALDESC:Events for Royal Historical Society of Victoria
REFRESH-INTERVAL;VALUE=DURATION:PT1H
X-Robots-Tag:noindex
X-PUBLISHED-TTL:PT1H
BEGIN:VTIMEZONE
TZID:Australia/Melbourne
BEGIN:STANDARD
TZOFFSETFROM:+1100
TZOFFSETTO:+1000
TZNAME:AEST
DTSTART:20220402T160000
END:STANDARD
BEGIN:DAYLIGHT
TZOFFSETFROM:+1000
TZOFFSETTO:+1100
TZNAME:AEDT
DTSTART:20221001T160000
END:DAYLIGHT
BEGIN:STANDARD
TZOFFSETFROM:+1100
TZOFFSETTO:+1000
TZNAME:AEST
DTSTART:20230401T160000
END:STANDARD
BEGIN:DAYLIGHT
TZOFFSETFROM:+1000
TZOFFSETTO:+1100
TZNAME:AEDT
DTSTART:20230930T160000
END:DAYLIGHT
BEGIN:STANDARD
TZOFFSETFROM:+1100
TZOFFSETTO:+1000
TZNAME:AEST
DTSTART:20240406T160000
END:STANDARD
BEGIN:DAYLIGHT
TZOFFSETFROM:+1000
TZOFFSETTO:+1100
TZNAME:AEDT
DTSTART:20241005T160000
END:DAYLIGHT
BEGIN:STANDARD
TZOFFSETFROM:+1100
TZOFFSETTO:+1000
TZNAME:AEST
DTSTART:20250405T160000
END:STANDARD
BEGIN:DAYLIGHT
TZOFFSETFROM:+1000
TZOFFSETTO:+1100
TZNAME:AEDT
DTSTART:20251004T160000
END:DAYLIGHT
END:VTIMEZONE
BEGIN:VEVENT
DTSTART;TZID=Australia/Melbourne:20231206T080000
DTEND;TZID=Australia/Melbourne:20240331T170000
DTSTAMP:20260420T043500
CREATED:20231206T005824Z
LAST-MODIFIED:20231207T215750Z
UID:10000484-1701849600-1711904400@www.historyvictoria.org.au
SUMMARY:Collective City Exhibition
DESCRIPTION:Collective City showcases historic photographs of Melbourne from the state and federal government archives\, alongside images representing our city today\, curated from submissions by contemporary street photographers. The exhibition explores the moments of joy and connection that happen in our public spaces\, between friends\, family and strangers. It also highlights the ways people can feel disconnected or lonely in a crowd\, and the divisions created by inequity of access to services and public spaces. \nFeaturing the work of Cathrin Plunkett\, Francesca Donnoli\, Gonzzalo Palta\, Shiang Liew\, Sally Coggle\, Mark Davidson\, Mike Reed\, Nathan Coote\, Andrew Wilson\, Adam Sinclair\, Jane Hinwood and Ilana Rose. \nThe exhibition will be at the PMI Victorian History Library from 6 December 2023\, open Tuesday to Friday\, 10am to 4:00pm till the end of March 2024. \nNo booking required to view this exhibition.
URL:https://www.historyvictoria.org.au/event/collective-city-exhibition/
LOCATION:39 St Edmonds Road\, Prahran\, VIC 3181\, 39 St Edmonds Road\, Prahran\, VIC\, 3181\, Australia
CATEGORIES:Victorian History Events
ATTACH;FMTTYPE=image/png:https://www.historyvictoria.org.au/wp-content/uploads/2023/12/Collective-City_2023.png
ORGANIZER;CN="Prahran Mechanics' Institute Victorian History Library":MAILTO:library@pmi.net.au
END:VEVENT
BEGIN:VEVENT
DTSTART;TZID=Australia/Melbourne:20231206T170000
DTEND;TZID=Australia/Melbourne:20231206T180000
DTSTAMP:20260420T043500
CREATED:20231205T051419Z
LAST-MODIFIED:20231205T051419Z
UID:10000483-1701882000-1701885600@www.historyvictoria.org.au
SUMMARY:BOUNDLESS PLAINS: MEET THE AUTHOR
DESCRIPTION:Q&A WITH AUTHOR RYAN BUTTA\nTo celebrate the Boundless Plains exhibition in Springvale\, join us for a discussion with Sherene Hassan\, Director of Community Engagement\, Islamic Museum of Australia and Ryan Butta\,\nauthor of The Ballad of Abdul Wade\, which tells the true story of Australia’s unsung pioneering heroes\, the Afghan Cameleers. Sherene and Ryan will delve deep into Australia’s cameleer history. \nExplore photographs captured during a contemporary expedition across Australia in 2011. The aptly named Boundless Plains expedition was initiated by Moustafa Fahour OAM\, founder of the Islamic Museum of Australia. This journey saw Moustafa and three friends travel the country\, chronicling Australia’s rich Muslim history. From Marree\, in far north South Australia and the site of Australia’s first mosque\, built by Afghan Cameleers\, to Arnhem Land\, Broome and beyond\, a collection of the resulting images are highlighted in this photographic exhibition\, presented by the Islamic Museum\, in collaboration with the Greater City of Dandenong. \nOn display 4 – 17 December 2023 at Springvale Community Hub \nThis is a free activity but please register with the QR code \n 
URL:https://www.historyvictoria.org.au/event/boundless-plains-meet-the-author/
LOCATION:Springvale Community Hub\, 3 Grace Park Ave\, Springvale\, VIC\, 3171\, Australia
CATEGORIES:Victorian History Events
ATTACH;FMTTYPE=image/jpeg:https://www.historyvictoria.org.au/wp-content/uploads/2023/12/Boundless-Plains.jpg
END:VEVENT
END:VCALENDAR