BEGIN:VCALENDAR
VERSION:2.0
PRODID:-//Royal Historical Society of Victoria - ECPv6.15.12.2//NONSGML v1.0//EN
CALSCALE:GREGORIAN
METHOD:PUBLISH
X-ORIGINAL-URL:https://www.historyvictoria.org.au
X-WR-CALDESC:Events for Royal Historical Society of Victoria
REFRESH-INTERVAL;VALUE=DURATION:PT1H
X-Robots-Tag:noindex
X-PUBLISHED-TTL:PT1H
BEGIN:VTIMEZONE
TZID:Australia/Melbourne
BEGIN:STANDARD
TZOFFSETFROM:+1100
TZOFFSETTO:+1000
TZNAME:AEST
DTSTART:20240406T160000
END:STANDARD
BEGIN:DAYLIGHT
TZOFFSETFROM:+1000
TZOFFSETTO:+1100
TZNAME:AEDT
DTSTART:20241005T160000
END:DAYLIGHT
BEGIN:STANDARD
TZOFFSETFROM:+1100
TZOFFSETTO:+1000
TZNAME:AEST
DTSTART:20250405T160000
END:STANDARD
BEGIN:DAYLIGHT
TZOFFSETFROM:+1000
TZOFFSETTO:+1100
TZNAME:AEDT
DTSTART:20251004T160000
END:DAYLIGHT
BEGIN:STANDARD
TZOFFSETFROM:+1100
TZOFFSETTO:+1000
TZNAME:AEST
DTSTART:20260404T160000
END:STANDARD
BEGIN:DAYLIGHT
TZOFFSETFROM:+1000
TZOFFSETTO:+1100
TZNAME:AEDT
DTSTART:20261003T160000
END:DAYLIGHT
END:VTIMEZONE
BEGIN:VEVENT
DTSTART;TZID=Australia/Melbourne:20250610T110000
DTEND;TZID=Australia/Melbourne:20250610T120000
DTSTAMP:20260421T082455
CREATED:20250116T101452Z
LAST-MODIFIED:20250521T231917Z
UID:10000570-1749553200-1749556800@www.historyvictoria.org.au
SUMMARY:Curator's talk: Yarra Birrarung Artists\, Writers and the River exhibition
DESCRIPTION:Join the curator\, Dr Judith Buckrich\, of our current exhibition Yarra Birrarung: Artists\, Writers and the River in a behind-the-scenes talk about the exhibition. \nThe exhibition is an illustrated history of life on the Yarra. Through the lens of artists and writers\, the exhibition explores how life has flourished on the river\, including recreation\, industry and land use\, as well as infrastructure\, natural history and social history. \nDespite much despoiling\, our river remains the vital artery of the city and beyond to the Yarra Ranges. Just as it was the fulcrum of Wurundjeri life\, it continues to inspire and fulfil our lives. From the Heidelberg School to the MCG\, the river has been a centre of Australian arts and culture for decades. \nJudith Buckrich has published a book\, of the same name\, which is the first comprehensive illustrated history of the Yarra Birrarung from before European settlement to the present day\, a 200 year story\, examined through the lives of its creatives. \nDr Judith Buckrich was born in Budapest\, Hungary in 1950 and emigrated to Melbourne in 1958. She has several entries in the Encyclopedia of Melbourne and Remembering Melbourne 1850–1960. Her book The Village of Ripponlea won a Victorian Community History Award in 2016 and Acland Street: the Grand Lady of St Kilda won the 2018 Fellowship of Australian Writers (VIC) Award for non-fiction. She has also published with Melbourne Books before\, releasing The Long and Perilous Journey: A History of Port Melbourne in 2002. At present\, she is working on an illustrated history of Fitzroy North. \nJudith has written her own one-woman shows\, short stories\, feature articles and essays and worked as a curator\, editor and translator. She was Chair of the PEN International Women Writers’ Committee from 2003 to 2009 and President of the Melbourne PEN Centre from 1993 to 2005. She is a past President of the Prahran Mechanics Institute Victorian History Library. \nHousekeeping \nThis free event is in person only (no Zoom). Morning tea is served before the event. \n\n\n\n\n\nYou will be sent a confirmation email on booking. Please check your Spam or Junk Mail folder if you cannot find the automatically-generated email in your in-box.
URL:https://www.historyvictoria.org.au/event/curators-talk-yarra-birrarung-artists-writers-and-the-river-exhibition-2025-04-15/
LOCATION:RHSV Gallery Downstairs\, 239 A'Beckett St\, Melbourne\, Victoria\, 3000\, Australia
CATEGORIES:What's On
ATTACH;FMTTYPE=image/png:https://www.historyvictoria.org.au/wp-content/uploads/2025/01/Yarra-Birrarung-Curators-Talk-Dr-Judith-Buckrich-June-10.png
ORGANIZER;CN="Royal Historical Society of Victoria":MAILTO:office@historyvictoria.org.au
END:VEVENT
BEGIN:VEVENT
DTSTART;TZID=Australia/Melbourne:20250615T103000
DTEND;TZID=Australia/Melbourne:20250615T160000
DTSTAMP:20260421T082455
CREATED:20250603T232211Z
LAST-MODIFIED:20250603T232211Z
UID:10001071-1749983400-1750003200@www.historyvictoria.org.au
SUMMARY:Labassa Open Day
DESCRIPTION:Although more than 700 people have lived at Labassa\, it has miraculously survived with most of its opulent Victorian era decoration intact. Come and experience the complex richness of Labassa’s architectural and human history. Young visitors will have fun tracking down all those non-human “critters” who still live at the mansion. \nGuided house tours and tower tours operate through out the day\, and the tea room is open 10.30am to 3.30pm. \nJoin us for a guided tour or opt for a self-guided tour. \nGuided Tour Times: \n\n11am: Interior House Tour\n12pm: ‘Who’s been living in this house?’ Tour (Note: this tour goes upstairs)\n1pm: Exterior tour\n2pm: Interior House Tour\n3pm: Interior House Tour\n\nTower tours: \n\n10:45am\, 11.45am\, 12.45pm\, 1.45pm\, 2.45pm & 3.45pm\n\nThe tower will be open with a limit of 12 people per tour group. Due to the tower’s narrow\, steep steps visitors are advised to wear sensible shoes. \nPlease arrive at least 15 minutes before your intended guided tour time. Capacity will be monitored on the day. \nCost: $0 – $50 \nPhotograph by Jon Rendell.
URL:https://www.historyvictoria.org.au/event/labassa-open-day-9/
LOCATION:Labassa\, 2 Manor Grove\, Caulfield North\, Victoria\, 3161\, Australia
CATEGORIES:Victorian History Events
ATTACH;FMTTYPE=image/jpeg:https://www.historyvictoria.org.au/wp-content/uploads/2025/06/Labassa-Event-2.jpg
END:VEVENT
END:VCALENDAR